BEGIN:VCALENDAR
VERSION:2.0
PRODID:-//Door County Historical Society - ECPv6.15.20//NONSGML v1.0//EN
CALSCALE:GREGORIAN
METHOD:PUBLISH
X-WR-CALNAME:Door County Historical Society
X-ORIGINAL-URL:https://doorcountyhistoricalsociety.org
X-WR-CALDESC:Events for Door County Historical Society
REFRESH-INTERVAL;VALUE=DURATION:PT1H
X-Robots-Tag:noindex
X-PUBLISHED-TTL:PT1H
BEGIN:VTIMEZONE
TZID:America/Chicago
BEGIN:DAYLIGHT
TZOFFSETFROM:-0600
TZOFFSETTO:-0500
TZNAME:CDT
DTSTART:20240310T080000
END:DAYLIGHT
BEGIN:STANDARD
TZOFFSETFROM:-0500
TZOFFSETTO:-0600
TZNAME:CST
DTSTART:20241103T070000
END:STANDARD
BEGIN:DAYLIGHT
TZOFFSETFROM:-0600
TZOFFSETTO:-0500
TZNAME:CDT
DTSTART:20250309T080000
END:DAYLIGHT
BEGIN:STANDARD
TZOFFSETFROM:-0500
TZOFFSETTO:-0600
TZNAME:CST
DTSTART:20251102T070000
END:STANDARD
BEGIN:DAYLIGHT
TZOFFSETFROM:-0600
TZOFFSETTO:-0500
TZNAME:CDT
DTSTART:20260308T080000
END:DAYLIGHT
BEGIN:STANDARD
TZOFFSETFROM:-0500
TZOFFSETTO:-0600
TZNAME:CST
DTSTART:20261101T070000
END:STANDARD
END:VTIMEZONE
BEGIN:VEVENT
DTSTART;TZID=America/Chicago:20251212T150000
DTEND;TZID=America/Chicago:20251212T180000
DTSTAMP:20260423T190827
CREATED:20251031T212947Z
LAST-MODIFIED:20251031T212947Z
UID:10001936-1765551600-1765562400@doorcountyhistoricalsociety.org
SUMMARY:A Glimpse of Christmas Past
DESCRIPTION:Step back in time and experience the magic of the holidays at Heritage Village! Each historic building will be beautifully decorated by local nonprofits in period-appropriate style. Tour the Village\, enjoy cookies and hot chocolate in the Greene Store\, and vote for your favorite display with a donation. Admission is free—donations support the Door County Historical Society’s mission to preserve and share our county’s rich history.
URL:https://doorcountyhistoricalsociety.org/event/a-glimpse-of-christmas-past-3/2025-12-12/
LOCATION:Heritage Village\, 2041 Michigan St\, Sturgeon Bay\, WI\, 54235
CATEGORIES:Heritage Village,Special Events
ATTACH;FMTTYPE=image/jpeg:https://doorcountyhistoricalsociety.org/wp-content/uploads/2025/10/IMG_1113.jpg
ORGANIZER;CN="Door County Historical Society":MAILTO:office@doorcountyhistoricalsociety.org
END:VEVENT
BEGIN:VEVENT
DTSTART;TZID=America/Chicago:20251212T160000
DTEND;TZID=America/Chicago:20251212T170000
DTSTAMP:20260423T190827
CREATED:20251203T212145Z
LAST-MODIFIED:20251203T212145Z
UID:10001996-1765555200-1765558800@doorcountyhistoricalsociety.org
SUMMARY:Recorders on the Door
DESCRIPTION:Heritage Village will welcome a special musical guest during A Glimpse of Christmas Past: Recorders on the Door\, performing live on Friday\, December 12 from 4:00–5:00 p.m. Their visit brings an extra layer of warmth to an already festive weekend\, and we’re delighted to share their talent with our guests. \nThis local ensemble performs on the full family of recorders—soprano\, alto\, tenor\, and bass—creating a rich\, blended sound that fills each historic building with charm. Their repertoire spans many centuries\, offering melodies that connect the holidays of today with traditions long ago. It’s the perfect fit for Heritage Village\, where every corner tells a story from the past.
URL:https://doorcountyhistoricalsociety.org/event/recorders-on-the-door/
LOCATION:Heritage Village\, 2041 Michigan St\, Sturgeon Bay\, WI\, 54235
CATEGORIES:Heritage Village
ORGANIZER;CN="Door County Historical Society":MAILTO:office@doorcountyhistoricalsociety.org
END:VEVENT
BEGIN:VEVENT
DTSTART;TZID=America/Chicago:20251212T180000
DTEND;TZID=America/Chicago:20251212T193000
DTSTAMP:20260423T190827
CREATED:20251203T210532Z
LAST-MODIFIED:20251209T222636Z
UID:10001942-1765562400-1765567800@doorcountyhistoricalsociety.org
SUMMARY:Reading of A Christmas Carol
DESCRIPTION:Experience the joy of the season with a full reading of Charles Dickens’ A Christmas Carol at Heritage Village. Let the timeless words awaken your imagination as readers Carrie Counihan\, Isabella Dippel\, Ross Dippel\, and Escher Wentz bring the story to life\, accompanied by the enchanting cello of Freddie Witt. \nThis free event follows the Door County Historical Society’s “A Glimpse of Christmas Past” and will be held at the Vignes School.
URL:https://doorcountyhistoricalsociety.org/event/reading-of-a-christmas-carol/2025-12-12/
LOCATION:Heritage Village\, 2041 Michigan St\, Sturgeon Bay\, WI\, 54235
CATEGORIES:Heritage Village
ATTACH;FMTTYPE=image/png:https://doorcountyhistoricalsociety.org/wp-content/uploads/2025/12/Special-Event-e1764795917784.png
ORGANIZER;CN="Door County Historical Society":MAILTO:office@doorcountyhistoricalsociety.org
END:VEVENT
END:VCALENDAR