BEGIN:VCALENDAR
VERSION:2.0
PRODID:-//Door County Historical Society - ECPv6.15.20//NONSGML v1.0//EN
CALSCALE:GREGORIAN
METHOD:PUBLISH
X-ORIGINAL-URL:https://doorcountyhistoricalsociety.org
X-WR-CALDESC:Events for Door County Historical Society
REFRESH-INTERVAL;VALUE=DURATION:PT1H
X-Robots-Tag:noindex
X-PUBLISHED-TTL:PT1H
BEGIN:VTIMEZONE
TZID:America/Chicago
BEGIN:DAYLIGHT
TZOFFSETFROM:-0600
TZOFFSETTO:-0500
TZNAME:CDT
DTSTART:20250309T080000
END:DAYLIGHT
BEGIN:STANDARD
TZOFFSETFROM:-0500
TZOFFSETTO:-0600
TZNAME:CST
DTSTART:20251102T070000
END:STANDARD
BEGIN:DAYLIGHT
TZOFFSETFROM:-0600
TZOFFSETTO:-0500
TZNAME:CDT
DTSTART:20260308T080000
END:DAYLIGHT
BEGIN:STANDARD
TZOFFSETFROM:-0500
TZOFFSETTO:-0600
TZNAME:CST
DTSTART:20261101T070000
END:STANDARD
BEGIN:DAYLIGHT
TZOFFSETFROM:-0600
TZOFFSETTO:-0500
TZNAME:CDT
DTSTART:20270314T080000
END:DAYLIGHT
BEGIN:STANDARD
TZOFFSETFROM:-0500
TZOFFSETTO:-0600
TZNAME:CST
DTSTART:20271107T070000
END:STANDARD
END:VTIMEZONE
BEGIN:VEVENT
DTSTART;TZID=America/Chicago:20260228T120000
DTEND;TZID=America/Chicago:20260228T140000
DTSTAMP:20260423T154830
CREATED:20260108T234953Z
LAST-MODIFIED:20260123T194810Z
UID:10001997-1772280000-1772287200@doorcountyhistoricalsociety.org
SUMMARY:February Dine & Discover Program
DESCRIPTION:Enjoy an engaging midday program at the Door County Historical Society’s February Dine & Discover luncheon on February 28 at the Sturgeon Bay Yacht Club. Featuring Jenna Ferdon of Birch Creek Music Performance Center\, this program explores 50 seasons of performance-based music education\, along with a special “Highlights of Our History” segment in honor of DCHS’s 100th anniversary. Lunch included. Registration required. Program participation and donations support the Door County Historical Society and help our work continue to grow.
URL:https://doorcountyhistoricalsociety.org/event/february-dine-discover-program/
LOCATION:Sturgeon Bay Yacht Club\, 600 Nautical Dr\, Sturgeon Bay\, WI\, 54235\, United States
ATTACH;FMTTYPE=image/webp:https://doorcountyhistoricalsociety.org/wp-content/uploads/2026/01/img_BirchCreekPerformanceCenter_2024_2-1024x702-1.webp
ORGANIZER;CN="Door County Historical Society":MAILTO:office@doorcountyhistoricalsociety.org
END:VEVENT
END:VCALENDAR