BEGIN:VCALENDAR
VERSION:2.0
PRODID:-//Door County Historical Society - ECPv6.15.20//NONSGML v1.0//EN
CALSCALE:GREGORIAN
METHOD:PUBLISH
X-ORIGINAL-URL:https://doorcountyhistoricalsociety.org
X-WR-CALDESC:Events for Door County Historical Society
REFRESH-INTERVAL;VALUE=DURATION:PT1H
X-Robots-Tag:noindex
X-PUBLISHED-TTL:PT1H
BEGIN:VTIMEZONE
TZID:America/Chicago
BEGIN:DAYLIGHT
TZOFFSETFROM:-0600
TZOFFSETTO:-0500
TZNAME:CDT
DTSTART:20250309T080000
END:DAYLIGHT
BEGIN:STANDARD
TZOFFSETFROM:-0500
TZOFFSETTO:-0600
TZNAME:CST
DTSTART:20251102T070000
END:STANDARD
BEGIN:DAYLIGHT
TZOFFSETFROM:-0600
TZOFFSETTO:-0500
TZNAME:CDT
DTSTART:20260308T080000
END:DAYLIGHT
BEGIN:STANDARD
TZOFFSETFROM:-0500
TZOFFSETTO:-0600
TZNAME:CST
DTSTART:20261101T070000
END:STANDARD
BEGIN:DAYLIGHT
TZOFFSETFROM:-0600
TZOFFSETTO:-0500
TZNAME:CDT
DTSTART:20270314T080000
END:DAYLIGHT
BEGIN:STANDARD
TZOFFSETFROM:-0500
TZOFFSETTO:-0600
TZNAME:CST
DTSTART:20271107T070000
END:STANDARD
END:VTIMEZONE
BEGIN:VTIMEZONE
TZID:UTC
BEGIN:STANDARD
TZOFFSETFROM:+0000
TZOFFSETTO:+0000
TZNAME:UTC
DTSTART:20220101T000000
END:STANDARD
END:VTIMEZONE
BEGIN:VEVENT
DTSTART;TZID=America/Chicago:20260328T120000
DTEND;TZID=America/Chicago:20260328T140000
DTSTAMP:20260423T161519
CREATED:20260116T180246Z
LAST-MODIFIED:20260304T152439Z
UID:10001998-1774699200-1774706400@doorcountyhistoricalsociety.org
SUMMARY:March Dine & Discover Program
DESCRIPTION:Our March luncheon features Kevin Osgood\, President & CEO of the Door County Maritime Museum. He will give his presentation titled\, Sturgeon Bay’s Complicated Ending of WWII. \nBefore World War I\, Sturgeon Bay’s economy was mainly agricultural\, with shipbuilding playing only a small role. World War II transformed the city into a booming shipbuilding center\, as four shipyards built vessels for the War Department and thousands of workers poured in from across the region. Ships constructed there served in combat zones around the world. When the war ended and contracts were canceled\, shipyard leaders quickly pivoted\, helping steer the Door Peninsula toward a tourism-driven future that would shape it for generations.
URL:https://doorcountyhistoricalsociety.org/event/march-dine-discover-program-2/
LOCATION:Door County Maritime Museum\, 120 N Madison Ave\, Sturgeon Bay\, WI\, 54235\, United States
CATEGORIES:Dine & Discover Programs
ATTACH;FMTTYPE=image/webp:https://doorcountyhistoricalsociety.org/wp-content/uploads/2026/01/March-2026-2.webp
ORGANIZER;CN="Door County Historical Society":MAILTO:office@doorcountyhistoricalsociety.org
END:VEVENT
BEGIN:VEVENT
DTSTART;TZID=UTC:20251124T180000
DTEND;TZID=UTC:20251124T200000
DTSTAMP:20260423T161519
CREATED:20250226T212443Z
LAST-MODIFIED:20251007T172444Z
UID:10000205-1764007200-1764014400@doorcountyhistoricalsociety.org
SUMMARY:November Dine & Discover Program
DESCRIPTION:On Monday\, November 24\, we will welcome members of the Jarosh family—J.R.\, Jon\, Sue\, and Joe—who will share the fascinating story of the Jacksonport Polar Bear Club. For the past 39 years\, the club has celebrated New Year’s Day with an icy plunge into Lake Michigan at Lakeside Park in Jacksonport. The evening’s presentation will highlight the club’s remarkable growth and memorable moments over the years.
URL:https://doorcountyhistoricalsociety.org/event/november-dine-discover-program/
LOCATION:Prince of Peace Lutheran Church\, 1756 Michigan St\, Sturgeon Bay\, WI\, 54235\, United States
CATEGORIES:Dine & Discover Programs
ATTACH;FMTTYPE=image/jpeg:https://doorcountyhistoricalsociety.org/wp-content/uploads/2025/02/IMG_0954-scaled.jpeg
ORGANIZER;CN="Door County Historical Society":MAILTO:office@doorcountyhistoricalsociety.org
END:VEVENT
BEGIN:VEVENT
DTSTART;TZID=UTC:20251027T180000
DTEND;TZID=UTC:20251027T200000
DTSTAMP:20260423T161519
CREATED:20250226T212305Z
LAST-MODIFIED:20251007T172127Z
UID:10000204-1761588000-1761595200@doorcountyhistoricalsociety.org
SUMMARY:October Dine & Discover Program
DESCRIPTION:Our October program\, Where History Meets Habitat: Protecting Door County’s Living History\, will feature Emily Wood\, executive director of the Door County Land Trust\, which protects and stewards over 10\,000 acres of habitat across Door County and its islands. Emily will share how the Land Trust has worked to protect the county’s natural heritage through conservation initiatives\, land stewardship\, and community engagement. More than protecting land\, conservation is about safeguarding the places people love so they can be enjoyed for generations to come.
URL:https://doorcountyhistoricalsociety.org/event/october-dine-discover-program/
LOCATION:Door County Fire Company\, 38 S Third Ave\, Sturgeon Bay\, WI
CATEGORIES:Dine & Discover Programs
ATTACH;FMTTYPE=image/jpeg:https://doorcountyhistoricalsociety.org/wp-content/uploads/2025/10/Madden-Media-Final-30-scaled.jpg
ORGANIZER;CN="Door County Historical Society":MAILTO:office@doorcountyhistoricalsociety.org
END:VEVENT
BEGIN:VEVENT
DTSTART;TZID=UTC:20250915T180000
DTEND;TZID=UTC:20250915T200000
DTSTAMP:20260423T161519
CREATED:20250226T212227Z
LAST-MODIFIED:20250801T170012Z
UID:10000203-1757959200-1757966400@doorcountyhistoricalsociety.org
SUMMARY:September Dine & Discover Program
DESCRIPTION:This special evening will feature a presentation by Leathem Smith Stearn\, grandson of the legendary Door County entrepreneur Leathem D. Smith. Stearn will share personal stories and historical context about his grandfather’s legacy\, including the Leathem Smith Dock Company.
URL:https://doorcountyhistoricalsociety.org/event/september-dine-discover-program/
LOCATION:WI
CATEGORIES:Dine & Discover Programs
END:VEVENT
BEGIN:VEVENT
DTSTART;TZID=UTC:20250825T180000
DTEND;TZID=UTC:20250825T200000
DTSTAMP:20260423T161519
CREATED:20250226T212147Z
LAST-MODIFIED:20250801T165754Z
UID:10000202-1756144800-1756152000@doorcountyhistoricalsociety.org
SUMMARY:August Dine & Discover Program
DESCRIPTION:At our August event\, Capt. Robert (Bob) Desh\, USCG (Retired)\, will discuss the history and construction of the Sturgeon Bay Ship Canal. Dug between 1872 and 1881\, the canal dramatically changed shipping routes in the region by connecting the bay of Sturgeon Bay with Lake Michigan.
URL:https://doorcountyhistoricalsociety.org/event/august-dine-discover-program/
LOCATION:Kress Pavilion\, 7845 Church St\, Egg Harbor\, WI\, 54209\, United States
CATEGORIES:Dine & Discover Programs
ORGANIZER;CN="Door County Historical Society":MAILTO:office@doorcountyhistoricalsociety.org
END:VEVENT
BEGIN:VEVENT
DTSTART;TZID=UTC:20250728T173000
DTEND;TZID=UTC:20250728T200000
DTSTAMP:20260423T161519
CREATED:20250226T211959Z
LAST-MODIFIED:20250715T202041Z
UID:10000200-1753723800-1753732800@doorcountyhistoricalsociety.org
SUMMARY:July Dine & Discover Program
DESCRIPTION:Join us for the July Dinner & Discover presentation at the Log Den in Egg Harbor. Our hosts Kim and Steve Bell will treat us to a Door County fish boil\, followed by a program detailing the history of the Log Den.
URL:https://doorcountyhistoricalsociety.org/event/june-dine-discover-program/
LOCATION:The Log Den\, 6626 WI-42\, Egg Harbor\, Wi\, 54209
CATEGORIES:Dine & Discover Programs
ATTACH;FMTTYPE=image/png:https://doorcountyhistoricalsociety.org/wp-content/uploads/2025/07/2025-dine-and-Discover-1-1-e1754069384491.png
ORGANIZER;CN="Door County Historical Society":MAILTO:office@doorcountyhistoricalsociety.org
END:VEVENT
BEGIN:VEVENT
DTSTART;TZID=UTC:20250623T180000
DTEND;TZID=UTC:20250623T200000
DTSTAMP:20260423T161519
CREATED:20250226T212050Z
LAST-MODIFIED:20250226T212112Z
UID:10000201-1750701600-1750708800@doorcountyhistoricalsociety.org
SUMMARY:July Dine & Discover Program
DESCRIPTION:Event details TBD
URL:https://doorcountyhistoricalsociety.org/event/july-dine-discover-program/
LOCATION:WI
CATEGORIES:Dine & Discover Programs
END:VEVENT
BEGIN:VEVENT
DTSTART;TZID=UTC:20250519T180000
DTEND;TZID=UTC:20250519T200000
DTSTAMP:20260423T161519
CREATED:20250226T211733Z
LAST-MODIFIED:20250408T190119Z
UID:10000199-1747677600-1747684800@doorcountyhistoricalsociety.org
SUMMARY:May Dine & Discover Program
DESCRIPTION:We’ll gather at the new Villagios location for a delightful meal. Afterward\, we’ll welcome DAR member Meredith Renard to learn about Legacy of Service in Door County – just in time for Memorial Day!
URL:https://doorcountyhistoricalsociety.org/event/may-dine-discover-program/
LOCATION:Villiagios\, 4655 County Rd E\, Egg Harbor\, WI\, 54209
CATEGORIES:Dine & Discover Programs
ORGANIZER;CN="Door County Historical Society":MAILTO:office@doorcountyhistoricalsociety.org
END:VEVENT
BEGIN:VEVENT
DTSTART;TZID=UTC:20250428T180000
DTEND;TZID=UTC:20250428T200000
DTSTAMP:20260423T161519
CREATED:20250226T211409Z
LAST-MODIFIED:20250408T190216Z
UID:10000198-1745863200-1745870400@doorcountyhistoricalsociety.org
SUMMARY:April Dine & Discover Program
DESCRIPTION:Join us for dinner at Al Johnson’s! Enjoy a full Swedish meal and learn about the history of Rock Island from Brian Grube. Register today!
URL:https://doorcountyhistoricalsociety.org/event/april-dine-discover-program/
LOCATION:Al Johnson’s Restaurant\, 10698 N Bay Shore Dr\, Sister Bay\, WI\, 54234
CATEGORIES:Dine & Discover Programs
ORGANIZER;CN="Door County Historical Society":MAILTO:office@doorcountyhistoricalsociety.org
END:VEVENT
BEGIN:VEVENT
DTSTART;TZID=UTC:20250322T120000
DTEND;TZID=UTC:20250322T140000
DTSTAMP:20260423T161519
CREATED:20250116T213304Z
LAST-MODIFIED:20250116T213353Z
UID:10000197-1742644800-1742652000@doorcountyhistoricalsociety.org
SUMMARY:March Dine & Discover Program
DESCRIPTION:Join us for a lunch of soup\, salad\, and sandwiches at Samuelson’s Creek Pub & Grill in Sturgeon Bay. \nJeff O’Keefe from the Ephraim Historical Foundation will share a presentation on the Life of Architect William Bernhard.
URL:https://doorcountyhistoricalsociety.org/event/march-dine-discover-program/
LOCATION:Samuelson’s Creek Pub & Grill\, 1009 S Oxford Ave\, Sturgeon Bay\, WI\, 54235
CATEGORIES:Dine & Discover Programs
END:VEVENT
BEGIN:VEVENT
DTSTART;TZID=UTC:20250222T120000
DTEND;TZID=UTC:20250222T140000
DTSTAMP:20260423T161519
CREATED:20250116T212714Z
LAST-MODIFIED:20250116T213430Z
UID:10000196-1740225600-1740232800@doorcountyhistoricalsociety.org
SUMMARY:February Dine & Discover Program
DESCRIPTION:Join us for a delicious lunch at the Sturgeon Bay Yacht Club and enjoy a presentation by Gary Vitse on the history of street clocks and how he came to own one himself!
URL:https://doorcountyhistoricalsociety.org/event/february-luncheon-program/
LOCATION:Sturgeon Bay Yacht Club\, 600 Nautical Dr\, Sturgeon Bay\, WI\, 54235\, United States
CATEGORIES:Dine & Discover Programs
END:VEVENT
BEGIN:VEVENT
DTSTART;TZID=UTC:20241125T173000
DTEND;TZID=UTC:20241125T203000
DTSTAMP:20260423T161519
CREATED:20241010T233821Z
LAST-MODIFIED:20241010T234503Z
UID:10000080-1732555800-1732566600@doorcountyhistoricalsociety.org
SUMMARY:November Dinner Program & Annual Meeting - Remembrances of Christmas Carols
DESCRIPTION:Join us on Monday\, November 25 for our Annual Meeting (5:30 p.m.)\, Dinner (6:00 p.m.)\, and program featuring the history of Christmas carols complete with a sing-a-long!
URL:https://doorcountyhistoricalsociety.org/event/november-dinner-program-remembrances-of-christmas-carols/
LOCATION:Prince of Peace Lutheran Church\, 1756 Michigan St\, Sturgeon Bay\, WI\, 54235\, United States
CATEGORIES:Dine & Discover Programs
END:VEVENT
BEGIN:VEVENT
DTSTART;TZID=UTC:20241028T180000
DTEND;TZID=UTC:20241028T203000
DTSTAMP:20260423T161519
CREATED:20241010T233237Z
LAST-MODIFIED:20241010T233237Z
UID:10000079-1730138400-1730147400@doorcountyhistoricalsociety.org
SUMMARY:October Dinner Program - Ghost Stories of Door County
DESCRIPTION:Join us for our monthly dinner program featuring Ghost Stories of Door County!
URL:https://doorcountyhistoricalsociety.org/event/october-dinner-program-ghost-stories-of-door-county/
LOCATION:Door County Fire Company\, 38 S Third Ave\, Sturgeon Bay\, WI
CATEGORIES:Dine & Discover Programs
END:VEVENT
BEGIN:VEVENT
DTSTART;TZID=UTC:20240923T180000
DTEND;TZID=UTC:20240923T200000
DTSTAMP:20260423T161519
CREATED:20240706T000537Z
LAST-MODIFIED:20240706T001029Z
UID:10000060-1727114400-1727121600@doorcountyhistoricalsociety.org
SUMMARY:September Dinner Program
DESCRIPTION:Nyla Small will share the history of the Viking Restaurant and fish boils in northern Door County.
URL:https://doorcountyhistoricalsociety.org/event/september-dinner-program/
LOCATION:Lodge at Leathem Smith\, 1640 Memorial Dr\, Sturgeon Bay\, WI\, 54235\, United States
CATEGORIES:Dine & Discover Programs
END:VEVENT
BEGIN:VEVENT
DTSTART;TZID=UTC:20240826T180000
DTEND;TZID=UTC:20240826T200000
DTSTAMP:20260423T161519
CREATED:20240706T000412Z
LAST-MODIFIED:20240706T001058Z
UID:10000059-1724695200-1724702400@doorcountyhistoricalsociety.org
SUMMARY:August Dinner Program - Early Post Offices of Door County
DESCRIPTION:Tom Anschutz\, USPS Postmaster in Egg Harbor\, will share information on the development of the US postal system in Door County.
URL:https://doorcountyhistoricalsociety.org/event/august-dinner-program-early-post-offices-of-door-county/
LOCATION:The Nightingale\, 1541 Egg Harbor Rd\, Sturgeon Bay\, Wisconsin\, 54235
CATEGORIES:Dine & Discover Programs
END:VEVENT
BEGIN:VEVENT
DTSTART;TZID=UTC:20240729T180000
DTEND;TZID=UTC:20240729T200000
DTSTAMP:20260423T161519
CREATED:20240705T234041Z
LAST-MODIFIED:20240705T234041Z
UID:10000058-1722276000-1722283200@doorcountyhistoricalsociety.org
SUMMARY:July Dinner Program - DC Historical Museum
DESCRIPTION:Representatives from the Door County Historical Museum will share the latest developments of the historic Door County collection\, as well as future plans for renovation.
URL:https://doorcountyhistoricalsociety.org/event/july-dinner-program-dc-historical-museum/
LOCATION:Kress Pavilion\, 7845 Church St\, Egg Harbor\, WI\, 54209\, United States
CATEGORIES:Dine & Discover Programs
END:VEVENT
BEGIN:VEVENT
DTSTART;TZID=UTC:20240624T180000
DTEND;TZID=UTC:20240624T200000
DTSTAMP:20260423T161519
CREATED:20240328T232059Z
LAST-MODIFIED:20240328T232059Z
UID:10000048-1719252000-1719259200@doorcountyhistoricalsociety.org
SUMMARY:June Dinner Program - First Peoples of Door County
DESCRIPTION:Join us on Monday\, June 24 for dinner at The Log Den in Egg Harbor\, followed by a program featuring a presentation on the first peoples of Door County\, given by Michaela Kraft\, DCHS Curator & Interpretations Coordinator.
URL:https://doorcountyhistoricalsociety.org/event/june-dinner-program-first-peoples-of-door-county/
LOCATION:The Log Den\, 6626 WI-42\, Egg Harbor\, Wi\, 54209
CATEGORIES:Dine & Discover Programs
END:VEVENT
BEGIN:VEVENT
DTSTART;TZID=UTC:20240520T180000
DTEND;TZID=UTC:20240520T200000
DTSTAMP:20260423T161519
CREATED:20240328T231926Z
LAST-MODIFIED:20240328T232133Z
UID:10000047-1716228000-1716235200@doorcountyhistoricalsociety.org
SUMMARY:May Dinner Program - Ahnapee Trail
DESCRIPTION:Join us on Monday\, May 20 for dinner at the Door Country Event Center in Sturgeon Bay (Schmitz Insurance)\, followed by a program featuring Tim Kazmierczak\, Door County Parks Manager\, to learn about the history of the Ahnapee Trail.
URL:https://doorcountyhistoricalsociety.org/event/may-dinner-program-ahnapee-trail/
LOCATION:Door Country Event Center\, 7153 Hwy 42 57\, Sturgeon bay\, WI\, 54235
CATEGORIES:Dine & Discover Programs
END:VEVENT
BEGIN:VEVENT
DTSTART;TZID=UTC:20240422T180000
DTEND;TZID=UTC:20240422T200000
DTSTAMP:20260423T161519
CREATED:20240328T231652Z
LAST-MODIFIED:20240328T231652Z
UID:10000046-1713808800-1713816000@doorcountyhistoricalsociety.org
SUMMARY:April Dinner Program - Little Sister Barn
DESCRIPTION:Join us on Monday\, April 22 for dinner at Al Johnson’s Restaurant in Sister Bay\, followed by a program featuring the Sister Bay Historical Society and their work on restoring the Little Sister Barn.
URL:https://doorcountyhistoricalsociety.org/event/april-dinner-program-little-sister-barn/
LOCATION:Al Johnson’s Restaurant\, 10698 N Bay Shore Dr\, Sister Bay\, WI\, 54234
CATEGORIES:Dine & Discover Programs
END:VEVENT
BEGIN:VEVENT
DTSTART;TZID=UTC:20240323T120000
DTEND;TZID=UTC:20240323T140000
DTSTAMP:20260423T161519
CREATED:20240205T173338Z
LAST-MODIFIED:20240221T030917Z
UID:10000041-1711195200-1711202400@doorcountyhistoricalsociety.org
SUMMARY:March Luncheon
DESCRIPTION:Join DCHS for an unforgettable afternoon as melaniejane\, owner and operator of the Holiday Music Motel\, will discuss the motel phenomenon of the 20th century and the history of the Holiday Music Motel specifically. Motels have played an important role in the lives of travelers of American roads. With fewer motels remaining\, The Holiday Music Motel is important\, not only preserving this bygone era\, but also in their mission to be a significant contributor to the community through their outreach and support of the music and art community.\nHeld at the Sturgeon Bay Yacht Club\, 600 Nautical Dr\, the menu includes your plated choice of: Cherry Barbeque Meatloaf\, mashed potatoes\, chef’s choice of vegetable\, Chicken Veloute (chicken with cream sauce)\, mashed potatoes\, chef’s choice of vegetable\, or Vegetarian Apple Gorgonzola Salad with cranberries\, candied walnuts. Dessert of carrot cake with cream cheese frosting and coffee will be served. \nCLICK HERE TO REGISTER
URL:https://doorcountyhistoricalsociety.org/event/march-luncheon/
LOCATION:Sturgeon Bay Yacht Club\, 600 Nautical Dr\, Sturgeon Bay\, WI\, 54235\, United States
CATEGORIES:Dine & Discover Programs
END:VEVENT
BEGIN:VEVENT
DTSTART;TZID=UTC:20240224T120000
DTEND;TZID=UTC:20240224T140000
DTSTAMP:20260423T161519
CREATED:20240205T173027Z
LAST-MODIFIED:20240221T025753Z
UID:10000040-1708776000-1708783200@doorcountyhistoricalsociety.org
SUMMARY:February Luncheon
DESCRIPTION:Our first program for 2024 will be held on Saturday\, February 24\, 2024\, at Stone Harbor Resort\, 107 N. 1st Ave.\, Sturgeon Bay. The menu includes soup\, deli sandwiches and salads\, cookies and bars for dessert\, and coffee. The bar will be open for service. Doors will open at 11:30 am. Lunch will be served at noon. \nFollowing the luncheon will be a presentation on Birds of Prey\, by the Open Door Bird Sanctuary of Door County. Rob Hults\, Executive Director\, will present the history of birds of prey in Door County as well as\, the mission of the Open Door Bird Sanctuary. \nIn addition to the program\, the Door County Historical Society will hold a silent auction to benefit the Endowment Fund. Items will be donated by local businesses and you are encouraged to participate by making bids on the baskets up for auction. You may be going home with a fun prize! \nRegister Here!
URL:https://doorcountyhistoricalsociety.org/event/february-luncheon/
LOCATION:Stone Harbor Resort\, 107 N 1st Ave\, Sturgeon Bay\, WI\, 54235\, United States
CATEGORIES:Dine & Discover Programs
END:VEVENT
BEGIN:VEVENT
DTSTART;TZID=UTC:20231127T180000
DTEND;TZID=UTC:20231127T210000
DTSTAMP:20260423T161519
CREATED:20231005T215140Z
LAST-MODIFIED:20231005T215140Z
UID:10000028-1701108000-1701118800@doorcountyhistoricalsociety.org
SUMMARY:November Dinner Program - Annual Meeting and Peninsula Symphonic Band
DESCRIPTION:Our final dinner program of 2023 will be at Prince of Peace Lutheran Church\, with dinner catered by Scaturo’s. In addition to conducting the business of our Annual Meeting\, we’ll also hear from Jason Palmer\, director of the Peninsula Symphonic Band. Afterward\, we’ll have the unique opportunity to observe a rehearsal for an upcoming concert and asks questions!  Cost is $35 (DCHS member pay $30) Registration due by November 20\, 2023
URL:https://doorcountyhistoricalsociety.org/event/november-dinner-program-annual-meeting-and-peninsula-symphonic-band/
LOCATION:Prince of Peace Lutheran Church\, 1756 Michigan St\, Sturgeon Bay\, WI\, 54235\, United States
CATEGORIES:Dine & Discover Programs
END:VEVENT
BEGIN:VEVENT
DTSTART;TZID=UTC:20231023T180000
DTEND;TZID=UTC:20231023T210000
DTSTAMP:20260423T161519
CREATED:20231005T214418Z
LAST-MODIFIED:20231005T214645Z
UID:10000027-1698084000-1698094800@doorcountyhistoricalsociety.org
SUMMARY:October Dinner Program - Holiday Music Motel History
DESCRIPTION:Join us at the Mill Supper Club for a classic chicken dinner. Afterward\, we’ll hear melaniejane\, talk about the rise and fall of motels across America and how the Holiday Music Motel fits into that history.  Cost is $35 (DCHS member pay $30) Registration due by October 16\, 2023
URL:https://doorcountyhistoricalsociety.org/event/october-dinner-program-holiday-music-motel-history/
LOCATION:The Mill Supper Club\, 4128 State Highway 42/57\, Sturgeon Bay\, WI\, 54235\, United States
CATEGORIES:Dine & Discover Programs
END:VEVENT
BEGIN:VEVENT
DTSTART;TZID=UTC:20230925T180000
DTEND;TZID=UTC:20230925T210000
DTSTAMP:20260423T161519
CREATED:20230622T040437Z
LAST-MODIFIED:20230622T040629Z
UID:10000018-1695664800-1695675600@doorcountyhistoricalsociety.org
SUMMARY:September Dinner Program - Door County Trivia!
DESCRIPTION:Join us at the Lodge at Leathem Smith for a rousing game of Door County Trivia! Cost is $35 (DCHS member pay $30) Registration due by September 18\, 2023
URL:https://doorcountyhistoricalsociety.org/event/september-dinner-program-door-county-trivia/
LOCATION:Lodge at Leathem Smith\, 1640 Memorial Dr\, Sturgeon Bay\, WI\, 54235\, United States
CATEGORIES:Dine & Discover Programs
END:VEVENT
END:VCALENDAR