BEGIN:VCALENDAR
VERSION:2.0
PRODID:-//Door County Historical Society - ECPv6.15.20//NONSGML v1.0//EN
CALSCALE:GREGORIAN
METHOD:PUBLISH
X-WR-CALNAME:Door County Historical Society
X-ORIGINAL-URL:https://doorcountyhistoricalsociety.org
X-WR-CALDESC:Events for Door County Historical Society
REFRESH-INTERVAL;VALUE=DURATION:PT1H
X-Robots-Tag:noindex
X-PUBLISHED-TTL:PT1H
BEGIN:VTIMEZONE
TZID:America/Chicago
BEGIN:DAYLIGHT
TZOFFSETFROM:-0600
TZOFFSETTO:-0500
TZNAME:CDT
DTSTART:20250309T080000
END:DAYLIGHT
BEGIN:STANDARD
TZOFFSETFROM:-0500
TZOFFSETTO:-0600
TZNAME:CST
DTSTART:20251102T070000
END:STANDARD
BEGIN:DAYLIGHT
TZOFFSETFROM:-0600
TZOFFSETTO:-0500
TZNAME:CDT
DTSTART:20260308T080000
END:DAYLIGHT
BEGIN:STANDARD
TZOFFSETFROM:-0500
TZOFFSETTO:-0600
TZNAME:CST
DTSTART:20261101T070000
END:STANDARD
BEGIN:DAYLIGHT
TZOFFSETFROM:-0600
TZOFFSETTO:-0500
TZNAME:CDT
DTSTART:20270314T080000
END:DAYLIGHT
BEGIN:STANDARD
TZOFFSETFROM:-0500
TZOFFSETTO:-0600
TZNAME:CST
DTSTART:20271107T070000
END:STANDARD
END:VTIMEZONE
BEGIN:VEVENT
DTSTART;TZID=America/Chicago:20260427T180000
DTEND;TZID=America/Chicago:20260427T200000
DTSTAMP:20260423T145520
CREATED:20260116T180413Z
LAST-MODIFIED:20260305T204020Z
UID:10001999-1777312800-1777320000@doorcountyhistoricalsociety.org
SUMMARY:April Dine & Discover Program
DESCRIPTION:Join us for an engaging Dine & Discover program as Steve Jorns explores the rich history of maple syrup production. Steve will begin by sharing the story of his own family’s connection to maple sugaring before stepping back in time to discuss how Native Americans first discovered and produced maple syrup. From there\, he will trace the evolution of maple sugaring—from the traditional methods used generations ago to the techniques used today—and even offer a glimpse into what the future of maple syrup production may hold.
URL:https://doorcountyhistoricalsociety.org/event/april-dine-discover-program-2/
LOCATION:Al Johnson’s Restaurant\, 10698 N Bay Shore Dr\, Sister Bay\, WI\, 54234
CATEGORIES:Dine & Discover Programs
ATTACH;FMTTYPE=image/webp:https://doorcountyhistoricalsociety.org/wp-content/uploads/2026/03/April-2026-2.webp
ORGANIZER;CN="Door County Historical Society":MAILTO:office@doorcountyhistoricalsociety.org
END:VEVENT
BEGIN:VEVENT
DTSTART;TZID=America/Chicago:20260518T180000
DTEND;TZID=America/Chicago:20260518T200000
DTSTAMP:20260423T145520
CREATED:20260116T180527Z
LAST-MODIFIED:20260305T212042Z
UID:10002000-1779127200-1779134400@doorcountyhistoricalsociety.org
SUMMARY:May Dine & Discover Program - The History of Draeb Jewelry
DESCRIPTION:Join George Draeb for a look back at the history of Draeb Jewelry\, a long-standing Sturgeon Bay business that has served the community for generations. George will share the story of how the family business began\, how it grew over the years\, and the role it has played in the lives of local residents. Through personal stories and historical insight\, this program offers a unique glimpse into the legacy of one of Sturgeon Bay’s most familiar and trusted establishments.
URL:https://doorcountyhistoricalsociety.org/event/may-dine-discover-program-2/
LOCATION:Door Country Event Center\, 7153 Hwy 42 57\, Sturgeon bay\, WI\, 54235
CATEGORIES:Dine & Discover Programs
ORGANIZER;CN="Door County Historical Society":MAILTO:office@doorcountyhistoricalsociety.org
END:VEVENT
BEGIN:VEVENT
DTSTART;TZID=America/Chicago:20260622T180000
DTEND;TZID=America/Chicago:20260622T200000
DTSTAMP:20260423T145521
CREATED:20260116T180717Z
LAST-MODIFIED:20260305T212153Z
UID:10002001-1782151200-1782158400@doorcountyhistoricalsociety.org
SUMMARY:June Dine & Discover - The Making of the Book "Eagle Bluff Lighthouse"
DESCRIPTION:Join authors Barb and Ken Wardius for a fascinating behind-the-scenes look at what it takes to create a historical book about Eagle Bluff Lighthouse. They will share insights into the research process\, the sources and materials they relied on\, and the discoveries made along the way. The program will also feature several rare historical images that help bring the lighthouse’s story to life. This special program comes just four days before the grand reopening of Eagle Bluff Light Station on June 26\, offering a perfect opportunity to learn more about the lighthouse and the stories behind its history before the celebration.
URL:https://doorcountyhistoricalsociety.org/event/june-dine-discover/
LOCATION:WI
CATEGORIES:Dine & Discover Programs
ORGANIZER;CN="Door County Historical Society":MAILTO:office@doorcountyhistoricalsociety.org
END:VEVENT
BEGIN:VEVENT
DTSTART;TZID=America/Chicago:20260727T180000
DTEND;TZID=America/Chicago:20260727T200000
DTSTAMP:20260423T145521
CREATED:20260116T181015Z
LAST-MODIFIED:20260305T205105Z
UID:10002002-1785175200-1785182400@doorcountyhistoricalsociety.org
SUMMARY:July Dine & Discover Program - The Caves of Door County
DESCRIPTION:Join Gary Soule for an exciting journey beneath the rock spine of Door County as he explores the fascinating underground world of caves. Through a captivating slide presentation\, Gary will highlight the major caves found throughout the peninsula. Framed displays will reveal the true extent and full history of Horseshoe Bay Cave\, while Eagle Cave in Peninsula State Park will also be featured. Get ready to grab your helmet and lights and prepare to enter the hidden belly of Door County!
URL:https://doorcountyhistoricalsociety.org/event/july-dine-discover-program-2/
LOCATION:WI
CATEGORIES:Dine & Discover Programs
ORGANIZER;CN="Door County Historical Society":MAILTO:office@doorcountyhistoricalsociety.org
END:VEVENT
BEGIN:VEVENT
DTSTART;TZID=America/Chicago:20260824T180000
DTEND;TZID=America/Chicago:20260824T200000
DTSTAMP:20260423T145521
CREATED:20260116T181113Z
LAST-MODIFIED:20260116T181113Z
UID:10002003-1787594400-1787601600@doorcountyhistoricalsociety.org
SUMMARY:August Dine & Discover Program
DESCRIPTION:Details TBD
URL:https://doorcountyhistoricalsociety.org/event/august-dine-discover-program-2/
LOCATION:WI
CATEGORIES:Dine & Discover Programs
ORGANIZER;CN="Door County Historical Society":MAILTO:office@doorcountyhistoricalsociety.org
END:VEVENT
BEGIN:VEVENT
DTSTART;TZID=America/Chicago:20260928T080000
DTEND;TZID=America/Chicago:20260928T170000
DTSTAMP:20260423T145521
CREATED:20260116T181218Z
LAST-MODIFIED:20260305T211223Z
UID:10002004-1790582400-1790614800@doorcountyhistoricalsociety.org
SUMMARY:September Dine & Discover Program - Hail to the Prophet King of Beaver Island
DESCRIPTION:The story of James Jesse Strang is one of the most unusual and fascinating chapters of frontier life in the Midwest. Over the course of his remarkable life\, Strang rose to prominence as a Mormon prophet\, crowned himself King of Beaver Island\, served as Grand Primate of the Halcyon Order of the Illuminati\, became a Michigan state legislator\, and was even accused of piracy. Drawing from sources such as Strang’s encrypted diaries and accounts of his strict rule on Beaver Island\, this program explores how a young man from rural New York transformed himself into one of the most controversial and intriguing figures in Midwestern history.
URL:https://doorcountyhistoricalsociety.org/event/september-dine-discover-program-2/
LOCATION:Lodge at Leathem Smith\, 1640 Memorial Dr\, Sturgeon Bay\, WI\, 54235\, United States
CATEGORIES:Dine & Discover Programs
ORGANIZER;CN="Door County Historical Society":MAILTO:office@doorcountyhistoricalsociety.org
END:VEVENT
BEGIN:VEVENT
DTSTART;TZID=America/Chicago:20261026T080000
DTEND;TZID=America/Chicago:20261026T170000
DTSTAMP:20260423T145521
CREATED:20260116T181333Z
LAST-MODIFIED:20260116T181333Z
UID:10002005-1793001600-1793034000@doorcountyhistoricalsociety.org
SUMMARY:October Dine & Discover Program
DESCRIPTION:Details TBD
URL:https://doorcountyhistoricalsociety.org/event/october-dine-discover-program-2/
LOCATION:WI
CATEGORIES:Dine & Discover Programs
ORGANIZER;CN="Door County Historical Society":MAILTO:office@doorcountyhistoricalsociety.org
END:VEVENT
BEGIN:VEVENT
DTSTART;TZID=America/Chicago:20261123T080000
DTEND;TZID=America/Chicago:20261123T170000
DTSTAMP:20260423T145521
CREATED:20260116T181438Z
LAST-MODIFIED:20260116T181438Z
UID:10002006-1795420800-1795453200@doorcountyhistoricalsociety.org
SUMMARY:November Dine & Discover Program
DESCRIPTION:Details TBD
URL:https://doorcountyhistoricalsociety.org/event/november-dine-discover-program-2/
LOCATION:Prince of Peace Lutheran Church\, 1756 Michigan St\, Sturgeon Bay\, WI\, 54235\, United States
CATEGORIES:Dine & Discover Programs
ORGANIZER;CN="Door County Historical Society":MAILTO:office@doorcountyhistoricalsociety.org
END:VEVENT
END:VCALENDAR