BEGIN:VCALENDAR
VERSION:2.0
PRODID:-//Door County Historical Society - ECPv6.15.20//NONSGML v1.0//EN
CALSCALE:GREGORIAN
METHOD:PUBLISH
X-ORIGINAL-URL:https://doorcountyhistoricalsociety.org
X-WR-CALDESC:Events for Door County Historical Society
REFRESH-INTERVAL;VALUE=DURATION:PT1H
X-Robots-Tag:noindex
X-PUBLISHED-TTL:PT1H
BEGIN:VTIMEZONE
TZID:America/Chicago
BEGIN:DAYLIGHT
TZOFFSETFROM:-0600
TZOFFSETTO:-0500
TZNAME:CDT
DTSTART:20240310T080000
END:DAYLIGHT
BEGIN:STANDARD
TZOFFSETFROM:-0500
TZOFFSETTO:-0600
TZNAME:CST
DTSTART:20241103T070000
END:STANDARD
BEGIN:DAYLIGHT
TZOFFSETFROM:-0600
TZOFFSETTO:-0500
TZNAME:CDT
DTSTART:20250309T080000
END:DAYLIGHT
BEGIN:STANDARD
TZOFFSETFROM:-0500
TZOFFSETTO:-0600
TZNAME:CST
DTSTART:20251102T070000
END:STANDARD
BEGIN:DAYLIGHT
TZOFFSETFROM:-0600
TZOFFSETTO:-0500
TZNAME:CDT
DTSTART:20260308T080000
END:DAYLIGHT
BEGIN:STANDARD
TZOFFSETFROM:-0500
TZOFFSETTO:-0600
TZNAME:CST
DTSTART:20261101T070000
END:STANDARD
END:VTIMEZONE
BEGIN:VTIMEZONE
TZID:UTC
BEGIN:STANDARD
TZOFFSETFROM:+0000
TZOFFSETTO:+0000
TZNAME:UTC
DTSTART:20230101T000000
END:STANDARD
END:VTIMEZONE
BEGIN:VEVENT
DTSTART;TZID=America/Chicago:20251227T150000
DTEND;TZID=America/Chicago:20251227T180000
DTSTAMP:20260423T172431
CREATED:20251031T212947Z
LAST-MODIFIED:20251031T212947Z
UID:10001941-1766847600-1766858400@doorcountyhistoricalsociety.org
SUMMARY:A Glimpse of Christmas Past
DESCRIPTION:Step back in time and experience the magic of the holidays at Heritage Village! Each historic building will be beautifully decorated by local nonprofits in period-appropriate style. Tour the Village\, enjoy cookies and hot chocolate in the Greene Store\, and vote for your favorite display with a donation. Admission is free—donations support the Door County Historical Society’s mission to preserve and share our county’s rich history.
URL:https://doorcountyhistoricalsociety.org/event/a-glimpse-of-christmas-past-3/2025-12-27/
LOCATION:Heritage Village\, 2041 Michigan St\, Sturgeon Bay\, WI\, 54235
CATEGORIES:Heritage Village,Special Events
ATTACH;FMTTYPE=image/jpeg:https://doorcountyhistoricalsociety.org/wp-content/uploads/2025/10/IMG_1113.jpg
ORGANIZER;CN="Door County Historical Society":MAILTO:office@doorcountyhistoricalsociety.org
END:VEVENT
BEGIN:VEVENT
DTSTART;TZID=America/Chicago:20251226T150000
DTEND;TZID=America/Chicago:20251226T180000
DTSTAMP:20260423T172431
CREATED:20251031T212947Z
LAST-MODIFIED:20251031T212947Z
UID:10001940-1766761200-1766772000@doorcountyhistoricalsociety.org
SUMMARY:A Glimpse of Christmas Past
DESCRIPTION:Step back in time and experience the magic of the holidays at Heritage Village! Each historic building will be beautifully decorated by local nonprofits in period-appropriate style. Tour the Village\, enjoy cookies and hot chocolate in the Greene Store\, and vote for your favorite display with a donation. Admission is free—donations support the Door County Historical Society’s mission to preserve and share our county’s rich history.
URL:https://doorcountyhistoricalsociety.org/event/a-glimpse-of-christmas-past-3/2025-12-26/
LOCATION:Heritage Village\, 2041 Michigan St\, Sturgeon Bay\, WI\, 54235
CATEGORIES:Heritage Village,Special Events
ATTACH;FMTTYPE=image/jpeg:https://doorcountyhistoricalsociety.org/wp-content/uploads/2025/10/IMG_1113.jpg
ORGANIZER;CN="Door County Historical Society":MAILTO:office@doorcountyhistoricalsociety.org
END:VEVENT
BEGIN:VEVENT
DTSTART;TZID=America/Chicago:20251220T150000
DTEND;TZID=America/Chicago:20251220T180000
DTSTAMP:20260423T172431
CREATED:20251031T212947Z
LAST-MODIFIED:20251031T212947Z
UID:10001939-1766242800-1766253600@doorcountyhistoricalsociety.org
SUMMARY:A Glimpse of Christmas Past
DESCRIPTION:Step back in time and experience the magic of the holidays at Heritage Village! Each historic building will be beautifully decorated by local nonprofits in period-appropriate style. Tour the Village\, enjoy cookies and hot chocolate in the Greene Store\, and vote for your favorite display with a donation. Admission is free—donations support the Door County Historical Society’s mission to preserve and share our county’s rich history.
URL:https://doorcountyhistoricalsociety.org/event/a-glimpse-of-christmas-past-3/2025-12-20/
LOCATION:Heritage Village\, 2041 Michigan St\, Sturgeon Bay\, WI\, 54235
CATEGORIES:Heritage Village,Special Events
ATTACH;FMTTYPE=image/jpeg:https://doorcountyhistoricalsociety.org/wp-content/uploads/2025/10/IMG_1113.jpg
ORGANIZER;CN="Door County Historical Society":MAILTO:office@doorcountyhistoricalsociety.org
END:VEVENT
BEGIN:VEVENT
DTSTART;TZID=America/Chicago:20251219T150000
DTEND;TZID=America/Chicago:20251219T180000
DTSTAMP:20260423T172431
CREATED:20251031T212947Z
LAST-MODIFIED:20251031T212947Z
UID:10001938-1766156400-1766167200@doorcountyhistoricalsociety.org
SUMMARY:A Glimpse of Christmas Past
DESCRIPTION:Step back in time and experience the magic of the holidays at Heritage Village! Each historic building will be beautifully decorated by local nonprofits in period-appropriate style. Tour the Village\, enjoy cookies and hot chocolate in the Greene Store\, and vote for your favorite display with a donation. Admission is free—donations support the Door County Historical Society’s mission to preserve and share our county’s rich history.
URL:https://doorcountyhistoricalsociety.org/event/a-glimpse-of-christmas-past-3/2025-12-19/
LOCATION:Heritage Village\, 2041 Michigan St\, Sturgeon Bay\, WI\, 54235
CATEGORIES:Heritage Village,Special Events
ATTACH;FMTTYPE=image/jpeg:https://doorcountyhistoricalsociety.org/wp-content/uploads/2025/10/IMG_1113.jpg
ORGANIZER;CN="Door County Historical Society":MAILTO:office@doorcountyhistoricalsociety.org
END:VEVENT
BEGIN:VEVENT
DTSTART;TZID=America/Chicago:20251213T150000
DTEND;TZID=America/Chicago:20251213T180000
DTSTAMP:20260423T172431
CREATED:20251031T212947Z
LAST-MODIFIED:20251031T212947Z
UID:10001937-1765638000-1765648800@doorcountyhistoricalsociety.org
SUMMARY:A Glimpse of Christmas Past
DESCRIPTION:Step back in time and experience the magic of the holidays at Heritage Village! Each historic building will be beautifully decorated by local nonprofits in period-appropriate style. Tour the Village\, enjoy cookies and hot chocolate in the Greene Store\, and vote for your favorite display with a donation. Admission is free—donations support the Door County Historical Society’s mission to preserve and share our county’s rich history.
URL:https://doorcountyhistoricalsociety.org/event/a-glimpse-of-christmas-past-3/2025-12-13/
LOCATION:Heritage Village\, 2041 Michigan St\, Sturgeon Bay\, WI\, 54235
CATEGORIES:Heritage Village,Special Events
ATTACH;FMTTYPE=image/jpeg:https://doorcountyhistoricalsociety.org/wp-content/uploads/2025/10/IMG_1113.jpg
ORGANIZER;CN="Door County Historical Society":MAILTO:office@doorcountyhistoricalsociety.org
END:VEVENT
BEGIN:VEVENT
DTSTART;TZID=America/Chicago:20251212T150000
DTEND;TZID=America/Chicago:20251212T180000
DTSTAMP:20260423T172431
CREATED:20251031T212947Z
LAST-MODIFIED:20251031T212947Z
UID:10001936-1765551600-1765562400@doorcountyhistoricalsociety.org
SUMMARY:A Glimpse of Christmas Past
DESCRIPTION:Step back in time and experience the magic of the holidays at Heritage Village! Each historic building will be beautifully decorated by local nonprofits in period-appropriate style. Tour the Village\, enjoy cookies and hot chocolate in the Greene Store\, and vote for your favorite display with a donation. Admission is free—donations support the Door County Historical Society’s mission to preserve and share our county’s rich history.
URL:https://doorcountyhistoricalsociety.org/event/a-glimpse-of-christmas-past-3/2025-12-12/
LOCATION:Heritage Village\, 2041 Michigan St\, Sturgeon Bay\, WI\, 54235
CATEGORIES:Heritage Village,Special Events
ATTACH;FMTTYPE=image/jpeg:https://doorcountyhistoricalsociety.org/wp-content/uploads/2025/10/IMG_1113.jpg
ORGANIZER;CN="Door County Historical Society":MAILTO:office@doorcountyhistoricalsociety.org
END:VEVENT
BEGIN:VEVENT
DTSTART;TZID=America/Chicago:20251206T150000
DTEND;TZID=America/Chicago:20251206T180000
DTSTAMP:20260423T172431
CREATED:20251031T212947Z
LAST-MODIFIED:20251031T212947Z
UID:10001935-1765033200-1765044000@doorcountyhistoricalsociety.org
SUMMARY:A Glimpse of Christmas Past
DESCRIPTION:Step back in time and experience the magic of the holidays at Heritage Village! Each historic building will be beautifully decorated by local nonprofits in period-appropriate style. Tour the Village\, enjoy cookies and hot chocolate in the Greene Store\, and vote for your favorite display with a donation. Admission is free—donations support the Door County Historical Society’s mission to preserve and share our county’s rich history.
URL:https://doorcountyhistoricalsociety.org/event/a-glimpse-of-christmas-past-3/2025-12-06/
LOCATION:Heritage Village\, 2041 Michigan St\, Sturgeon Bay\, WI\, 54235
CATEGORIES:Heritage Village,Special Events
ATTACH;FMTTYPE=image/jpeg:https://doorcountyhistoricalsociety.org/wp-content/uploads/2025/10/IMG_1113.jpg
ORGANIZER;CN="Door County Historical Society":MAILTO:office@doorcountyhistoricalsociety.org
END:VEVENT
BEGIN:VEVENT
DTSTART;TZID=America/Chicago:20251205T150000
DTEND;TZID=America/Chicago:20251205T180000
DTSTAMP:20260423T172431
CREATED:20251031T212947Z
LAST-MODIFIED:20251031T212947Z
UID:10001934-1764946800-1764957600@doorcountyhistoricalsociety.org
SUMMARY:A Glimpse of Christmas Past
DESCRIPTION:Step back in time and experience the magic of the holidays at Heritage Village! Each historic building will be beautifully decorated by local nonprofits in period-appropriate style. Tour the Village\, enjoy cookies and hot chocolate in the Greene Store\, and vote for your favorite display with a donation. Admission is free—donations support the Door County Historical Society’s mission to preserve and share our county’s rich history.
URL:https://doorcountyhistoricalsociety.org/event/a-glimpse-of-christmas-past-3/2025-12-05/
LOCATION:Heritage Village\, 2041 Michigan St\, Sturgeon Bay\, WI\, 54235
CATEGORIES:Heritage Village,Special Events
ATTACH;FMTTYPE=image/jpeg:https://doorcountyhistoricalsociety.org/wp-content/uploads/2025/10/IMG_1113.jpg
ORGANIZER;CN="Door County Historical Society":MAILTO:office@doorcountyhistoricalsociety.org
END:VEVENT
BEGIN:VEVENT
DTSTART;TZID=America/Chicago:20250920T080000
DTEND;TZID=America/Chicago:20250920T160000
DTSTAMP:20260423T172431
CREATED:20250904T172128Z
LAST-MODIFIED:20250904T172128Z
UID:10001932-1758355200-1758384000@doorcountyhistoricalsociety.org
SUMMARY:Harvest Festival
DESCRIPTION:Support us at Sturgeon Bay’s Harvest Festival! Enjoy a sweet treat of apple pie-in-a-cup\, sample a variety of different types of apples\, and learn more about the Historical Society! \nFor more fun\, visit Heritage Village for apple coring and apple cider pressing demonstrations\, as well as tool museum tours\, blacksmith demonstrations\, and more! \n 
URL:https://doorcountyhistoricalsociety.org/event/harvest-festival/
LOCATION:Downtown Sturgeon Bay\, 3rd Ave\, Sturgeon Bay\, WI\, 54235\, United States
CATEGORIES:Special Events
ATTACH;FMTTYPE=image/jpeg:https://doorcountyhistoricalsociety.org/wp-content/uploads/2025/09/Apple-Pie-Mug-Cake-900-e1757088615979.jpg
ORGANIZER;CN="Door County Historical Society":MAILTO:office@doorcountyhistoricalsociety.org
END:VEVENT
BEGIN:VEVENT
DTSTART;TZID=America/Chicago:20250510T130000
DTEND;TZID=America/Chicago:20250510T150000
DTSTAMP:20260423T172431
CREATED:20250226T212700Z
LAST-MODIFIED:20250312T203907Z
UID:10000206-1746882000-1746889200@doorcountyhistoricalsociety.org
SUMMARY:Historic Tea
DESCRIPTION:Step back in time and savor a steaming cup of tea while uncovering the fascinating history of tea and its journey to America. Delight in finger sandwiches and sweet treats\, all in the cozy ambiance of the historic Warren House at Heritage Village. Dress the part! Wear your Sunday best—hats and gloves encouraged—for an elegant afternoon of history and hospitality \n 
URL:https://doorcountyhistoricalsociety.org/event/root-beer-festival-3/
LOCATION:Heritage Village\, 2041 Michigan St\, Sturgeon Bay\, WI\, 54235
CATEGORIES:Heritage Village,Special Events
END:VEVENT
BEGIN:VEVENT
DTSTART;TZID=UTC:20241228T160000
DTEND;TZID=UTC:20241228T190000
DTSTAMP:20260423T172431
CREATED:20241020T043827Z
LAST-MODIFIED:20241020T043914Z
UID:10000091-1735401600-1735412400@doorcountyhistoricalsociety.org
SUMMARY:A Glimpse of Christmas Past
DESCRIPTION:
URL:https://doorcountyhistoricalsociety.org/event/a-glimpse-of-christmas-past-2/2024-12-28/
LOCATION:Heritage Village\, 2041 Michigan St\, Sturgeon Bay\, WI\, 54235
CATEGORIES:Special Events
END:VEVENT
BEGIN:VEVENT
DTSTART;TZID=UTC:20241227T160000
DTEND;TZID=UTC:20241227T190000
DTSTAMP:20260423T172431
CREATED:20241020T043827Z
LAST-MODIFIED:20241020T043914Z
UID:10000090-1735315200-1735326000@doorcountyhistoricalsociety.org
SUMMARY:A Glimpse of Christmas Past
DESCRIPTION:
URL:https://doorcountyhistoricalsociety.org/event/a-glimpse-of-christmas-past-2/2024-12-27/
LOCATION:Heritage Village\, 2041 Michigan St\, Sturgeon Bay\, WI\, 54235
CATEGORIES:Special Events
END:VEVENT
BEGIN:VEVENT
DTSTART;TZID=UTC:20241221T160000
DTEND;TZID=UTC:20241221T190000
DTSTAMP:20260423T172431
CREATED:20241020T043827Z
LAST-MODIFIED:20241020T043914Z
UID:10000089-1734796800-1734807600@doorcountyhistoricalsociety.org
SUMMARY:A Glimpse of Christmas Past
DESCRIPTION:
URL:https://doorcountyhistoricalsociety.org/event/a-glimpse-of-christmas-past-2/2024-12-21/
LOCATION:Heritage Village\, 2041 Michigan St\, Sturgeon Bay\, WI\, 54235
CATEGORIES:Special Events
END:VEVENT
BEGIN:VEVENT
DTSTART;TZID=UTC:20241220T160000
DTEND;TZID=UTC:20241220T190000
DTSTAMP:20260423T172431
CREATED:20241020T043827Z
LAST-MODIFIED:20241020T043914Z
UID:10000088-1734710400-1734721200@doorcountyhistoricalsociety.org
SUMMARY:A Glimpse of Christmas Past
DESCRIPTION:
URL:https://doorcountyhistoricalsociety.org/event/a-glimpse-of-christmas-past-2/2024-12-20/
LOCATION:Heritage Village\, 2041 Michigan St\, Sturgeon Bay\, WI\, 54235
CATEGORIES:Special Events
END:VEVENT
BEGIN:VEVENT
DTSTART;TZID=UTC:20241214T160000
DTEND;TZID=UTC:20241214T190000
DTSTAMP:20260423T172431
CREATED:20241020T043827Z
LAST-MODIFIED:20241020T043914Z
UID:10000087-1734192000-1734202800@doorcountyhistoricalsociety.org
SUMMARY:A Glimpse of Christmas Past
DESCRIPTION:
URL:https://doorcountyhistoricalsociety.org/event/a-glimpse-of-christmas-past-2/2024-12-14/
LOCATION:Heritage Village\, 2041 Michigan St\, Sturgeon Bay\, WI\, 54235
CATEGORIES:Special Events
END:VEVENT
BEGIN:VEVENT
DTSTART;TZID=UTC:20241213T160000
DTEND;TZID=UTC:20241213T190000
DTSTAMP:20260423T172431
CREATED:20241020T043827Z
LAST-MODIFIED:20241020T043914Z
UID:10000086-1734105600-1734116400@doorcountyhistoricalsociety.org
SUMMARY:A Glimpse of Christmas Past
DESCRIPTION:
URL:https://doorcountyhistoricalsociety.org/event/a-glimpse-of-christmas-past-2/2024-12-13/
LOCATION:Heritage Village\, 2041 Michigan St\, Sturgeon Bay\, WI\, 54235
CATEGORIES:Special Events
END:VEVENT
BEGIN:VEVENT
DTSTART;TZID=UTC:20241207T160000
DTEND;TZID=UTC:20241207T190000
DTSTAMP:20260423T172431
CREATED:20241020T043827Z
LAST-MODIFIED:20241020T043914Z
UID:10000085-1733587200-1733598000@doorcountyhistoricalsociety.org
SUMMARY:A Glimpse of Christmas Past
DESCRIPTION:
URL:https://doorcountyhistoricalsociety.org/event/a-glimpse-of-christmas-past-2/2024-12-07/
LOCATION:Heritage Village\, 2041 Michigan St\, Sturgeon Bay\, WI\, 54235
CATEGORIES:Special Events
END:VEVENT
BEGIN:VEVENT
DTSTART;TZID=UTC:20241206T160000
DTEND;TZID=UTC:20241206T190000
DTSTAMP:20260423T172432
CREATED:20241020T043827Z
LAST-MODIFIED:20241020T043914Z
UID:10000084-1733500800-1733511600@doorcountyhistoricalsociety.org
SUMMARY:A Glimpse of Christmas Past
DESCRIPTION:
URL:https://doorcountyhistoricalsociety.org/event/a-glimpse-of-christmas-past-2/2024-12-06/
LOCATION:Heritage Village\, 2041 Michigan St\, Sturgeon Bay\, WI\, 54235
CATEGORIES:Special Events
END:VEVENT
BEGIN:VEVENT
DTSTART;TZID=UTC:20240921T100000
DTEND;TZID=UTC:20240921T150000
DTSTAMP:20260423T172432
CREATED:20240322T041915Z
LAST-MODIFIED:20240706T000618Z
UID:10000045-1726912800-1726930800@doorcountyhistoricalsociety.org
SUMMARY:Apple Fest '24!
DESCRIPTION:
URL:https://doorcountyhistoricalsociety.org/event/apple-fest-24/
LOCATION:Heritage Village\, 2041 Michigan St\, Sturgeon Bay\, WI\, 54235
CATEGORIES:Special Events
END:VEVENT
BEGIN:VEVENT
DTSTART;TZID=UTC:20240713T100000
DTEND;TZID=UTC:20240713T150000
DTSTAMP:20260423T172432
CREATED:20240322T041834Z
LAST-MODIFIED:20240322T041834Z
UID:10000044-1720864800-1720882800@doorcountyhistoricalsociety.org
SUMMARY:Root Beer Festival!
DESCRIPTION:
URL:https://doorcountyhistoricalsociety.org/event/root-beer-festival-2/
LOCATION:Heritage Village\, 2041 Michigan St\, Sturgeon Bay\, WI\, 54235
CATEGORIES:Special Events
END:VEVENT
BEGIN:VEVENT
DTSTART;TZID=UTC:20240518T100000
DTEND;TZID=UTC:20240518T150000
DTSTAMP:20260423T172432
CREATED:20240322T041751Z
LAST-MODIFIED:20240322T041751Z
UID:10000043-1716026400-1716044400@doorcountyhistoricalsociety.org
SUMMARY:Heritage Village Opening Day!
DESCRIPTION:
URL:https://doorcountyhistoricalsociety.org/event/heritage-village-opening-day/
LOCATION:Heritage Village\, 2041 Michigan St\, Sturgeon Bay\, WI\, 54235
CATEGORIES:Special Events
END:VEVENT
BEGIN:VEVENT
DTSTART;TZID=UTC:20240420T130000
DTEND;TZID=UTC:20240420T150000
DTSTAMP:20260423T172432
CREATED:20240307T013907Z
LAST-MODIFIED:20240307T014009Z
UID:10000042-1713618000-1713625200@doorcountyhistoricalsociety.org
SUMMARY:Historic High Tea
DESCRIPTION:Embark on a captivating journey back to the enchanting 1890s and immerse yourself in the charm of a bygone era with our extraordinary historic high tea at Heritage Village on Saturday\, April 20 from 1:00pm – 3:00pm. Step into the Warren House\, a sophisticated haven for Door County’s social elite and one of the earliest post offices on the peninsula. Delight your senses as we unravel the secrets of American high society’s preferred teas during the turn of the 20th century. \nFor just $30\, members will be treated to an exquisite experience\, complete with traditional tea service\, an array of delectable small plates\, and an engaging interpretive historic program that brings the past to life. Dress to impress in your finest Sunday attire or showcase your most elaborate hat because this event promises to be an indulgent feast for both history enthusiasts and lovers of refined elegance. \nAs the Warren House provides an intimate setting\, attendance is limited to 25 individuals. Members of the Door County Historical Society will be given priority\, ensuring an exclusive experience for those who cherish the rich tapestry of our heritage. Don’t miss out on this sweet journey into the past – reserve your spot today!
URL:https://doorcountyhistoricalsociety.org/event/historic-high-tea/
LOCATION:Heritage Village\, 2041 Michigan St\, Sturgeon Bay\, WI\, 54235
CATEGORIES:Heritage Village,Special Events
END:VEVENT
END:VCALENDAR