BEGIN:VCALENDAR
VERSION:2.0
PRODID:-//Door County Historical Society - ECPv6.15.20//NONSGML v1.0//EN
CALSCALE:GREGORIAN
METHOD:PUBLISH
X-WR-CALNAME:Door County Historical Society
X-ORIGINAL-URL:https://doorcountyhistoricalsociety.org
X-WR-CALDESC:Events for Door County Historical Society
REFRESH-INTERVAL;VALUE=DURATION:PT1H
X-Robots-Tag:noindex
X-PUBLISHED-TTL:PT1H
BEGIN:VTIMEZONE
TZID:UTC
BEGIN:STANDARD
TZOFFSETFROM:+0000
TZOFFSETTO:+0000
TZNAME:UTC
DTSTART:20220101T000000
END:STANDARD
END:VTIMEZONE
BEGIN:VEVENT
DTSTART;TZID=UTC:20240826T180000
DTEND;TZID=UTC:20240826T200000
DTSTAMP:20260425T154927
CREATED:20240706T000412Z
LAST-MODIFIED:20240706T001058Z
UID:10000059-1724695200-1724702400@doorcountyhistoricalsociety.org
SUMMARY:August Dinner Program - Early Post Offices of Door County
DESCRIPTION:Tom Anschutz\, USPS Postmaster in Egg Harbor\, will share information on the development of the US postal system in Door County.
URL:https://doorcountyhistoricalsociety.org/event/august-dinner-program-early-post-offices-of-door-county/
LOCATION:The Nightingale\, 1541 Egg Harbor Rd\, Sturgeon Bay\, Wisconsin\, 54235
CATEGORIES:Dine & Discover Programs
END:VEVENT
BEGIN:VEVENT
DTSTART;TZID=UTC:20240824T130000
DTEND;TZID=UTC:20240824T140000
DTSTAMP:20260425T154927
CREATED:20240706T004904Z
LAST-MODIFIED:20240706T004904Z
UID:10000072-1724504400-1724508000@doorcountyhistoricalsociety.org
SUMMARY:Saturdays at the Village - Hymn Sing in the Chapel
DESCRIPTION:Join us in the Heritage Chapel as Anne Tomlinson leads everyone in singing old fashioned hymns in the chapel.
URL:https://doorcountyhistoricalsociety.org/event/saturdays-at-the-village-hymn-sing-in-the-chapel/
LOCATION:Heritage Village\, 2041 Michigan St\, Sturgeon Bay\, WI\, 54235
CATEGORIES:Heritage Village
END:VEVENT
BEGIN:VEVENT
DTSTART;TZID=UTC:20240817T130000
DTEND;TZID=UTC:20240817T140000
DTSTAMP:20260425T154927
CREATED:20240706T004738Z
LAST-MODIFIED:20240815T014229Z
UID:10000071-1723899600-1723903200@doorcountyhistoricalsociety.org
SUMMARY:Saturdays at the Village - Plants as Medicine
DESCRIPTION:Join Aurora from Aurora’s Apothecary as she shares her research and experience with plant medicine of the early Wisconsin pioneers. Aurora was a historical docent for 6 years and has studied plant remedies through many different time periods. Learn about common plants that grow wild and how they would have made medicine with them when the doctor was so far away.
URL:https://doorcountyhistoricalsociety.org/event/saturdays-at-the-village-2/
LOCATION:Heritage Village\, 2041 Michigan St\, Sturgeon Bay\, WI\, 54235
CATEGORIES:Heritage Village
END:VEVENT
BEGIN:VEVENT
DTSTART;TZID=UTC:20240813T100000
DTEND;TZID=UTC:20240813T120000
DTSTAMP:20260425T154927
CREATED:20240706T002735Z
LAST-MODIFIED:20240706T002839Z
UID:10000064-1723543200-1723550400@doorcountyhistoricalsociety.org
SUMMARY:Heritage Heroes Work Day
DESCRIPTION:All are invited to be a Heritage Hero! Join us every other Tuesday at Heritage Village from 10 a.m. – noon to complete odd jobs including light cleaning\, yard work\, organization\, and more!
URL:https://doorcountyhistoricalsociety.org/event/heritage-heroes-work-day-3/
LOCATION:Heritage Village\, 2041 Michigan St\, Sturgeon Bay\, WI\, 54235
CATEGORIES:Heritage Village
END:VEVENT
BEGIN:VEVENT
DTSTART;TZID=UTC:20240810T130000
DTEND;TZID=UTC:20240810T140000
DTSTAMP:20260425T154927
CREATED:20240706T004702Z
LAST-MODIFIED:20240706T004702Z
UID:10000070-1723294800-1723298400@doorcountyhistoricalsociety.org
SUMMARY:Saturdays at the Village - TBD
DESCRIPTION:
URL:https://doorcountyhistoricalsociety.org/event/saturdays-at-the-village-tbd-2/
LOCATION:Heritage Village\, 2041 Michigan St\, Sturgeon Bay\, WI\, 54235
CATEGORIES:Heritage Village
END:VEVENT
BEGIN:VEVENT
DTSTART;TZID=UTC:20240803T130000
DTEND;TZID=UTC:20240803T140000
DTSTAMP:20260425T154927
CREATED:20240706T004614Z
LAST-MODIFIED:20240815T013832Z
UID:10000069-1722690000-1722693600@doorcountyhistoricalsociety.org
SUMMARY:Saturdays at the Village - School Marm
DESCRIPTION:
URL:https://doorcountyhistoricalsociety.org/event/saturdays-at-the-village-tbd/
LOCATION:Heritage Village\, 2041 Michigan St\, Sturgeon Bay\, WI\, 54235
CATEGORIES:Heritage Village
END:VEVENT
BEGIN:VEVENT
DTSTART;TZID=UTC:20240730T100000
DTEND;TZID=UTC:20240730T120000
DTSTAMP:20260425T154927
CREATED:20240706T002643Z
LAST-MODIFIED:20240706T002643Z
UID:10000063-1722333600-1722340800@doorcountyhistoricalsociety.org
SUMMARY:Heritage Heroes Work Day
DESCRIPTION:All are invited to be a Heritage Hero! Join us every other Tuesday at Heritage Village from 10 a.m. – noon to complete odd jobs including light cleaning\, yard work\, organization\, and more!
URL:https://doorcountyhistoricalsociety.org/event/heritage-heroes-work-day-2/
LOCATION:Heritage Village\, 2041 Michigan St\, Sturgeon Bay\, WI\, 54235
CATEGORIES:Heritage Village
END:VEVENT
BEGIN:VEVENT
DTSTART;TZID=UTC:20240729T180000
DTEND;TZID=UTC:20240729T200000
DTSTAMP:20260425T154927
CREATED:20240705T234041Z
LAST-MODIFIED:20240705T234041Z
UID:10000058-1722276000-1722283200@doorcountyhistoricalsociety.org
SUMMARY:July Dinner Program - DC Historical Museum
DESCRIPTION:Representatives from the Door County Historical Museum will share the latest developments of the historic Door County collection\, as well as future plans for renovation.
URL:https://doorcountyhistoricalsociety.org/event/july-dinner-program-dc-historical-museum/
LOCATION:Kress Pavilion\, 7845 Church St\, Egg Harbor\, WI\, 54209\, United States
CATEGORIES:Dine & Discover Programs
END:VEVENT
BEGIN:VEVENT
DTSTART;TZID=UTC:20240727T130000
DTEND;TZID=UTC:20240727T143000
DTSTAMP:20260425T154927
CREATED:20240706T000948Z
LAST-MODIFIED:20240706T000948Z
UID:10000061-1722085200-1722090600@doorcountyhistoricalsociety.org
SUMMARY:Saturdays at the Village - Laura Ingalls Wilder
DESCRIPTION:Jessica Michna will portray Laura Ingalls Wilder\, of “Little House on the Prairie” fame\, in the Vignes Schoolhouse. This first-person interactive interpretation will help younger audiences member and those young at heart discover women’s history in a brand-new way. \n*Part of DCHS’s “Wisconsin Wonder Women” series\, sponsored by the Door County Women’s Fund. 
URL:https://doorcountyhistoricalsociety.org/event/saturdays-at-the-village-laura-ingalls-wilder/
LOCATION:WI
CATEGORIES:Heritage Village
END:VEVENT
BEGIN:VEVENT
DTSTART;TZID=UTC:20240720T130000
DTEND;TZID=UTC:20240720T140000
DTSTAMP:20260425T154927
CREATED:20240705T233859Z
LAST-MODIFIED:20240705T233859Z
UID:10000057-1721480400-1721484000@doorcountyhistoricalsociety.org
SUMMARY:Saturdays at the Village - Historic Tool Boxes
DESCRIPTION:Join the Madden brothers for an exclusive showing of dozens of historic Door County personal tool boxes. Demonstrations of tools to follow.
URL:https://doorcountyhistoricalsociety.org/event/saturdays-at-the-village-historic-tool-boxes/
LOCATION:Heritage Village\, 2041 Michigan St\, Sturgeon Bay\, WI\, 54235
CATEGORIES:Heritage Village
END:VEVENT
BEGIN:VEVENT
DTSTART;TZID=UTC:20240716T100000
DTEND;TZID=UTC:20240716T120000
DTSTAMP:20260425T154927
CREATED:20240706T002555Z
LAST-MODIFIED:20240706T002555Z
UID:10000062-1721124000-1721131200@doorcountyhistoricalsociety.org
SUMMARY:Heritage Heroes Work Day
DESCRIPTION:All are invited to be a Heritage Hero! Join us every other Tuesday at Heritage Village from 10 a.m. – noon to complete odd jobs including light cleaning\, yard work\, organization\, and more!
URL:https://doorcountyhistoricalsociety.org/event/heritage-heroes-work-day/
LOCATION:Heritage Village\, 2041 Michigan St\, Sturgeon Bay\, WI\, 54235
CATEGORIES:Heritage Village
END:VEVENT
BEGIN:VEVENT
DTSTART;TZID=UTC:20240713T100000
DTEND;TZID=UTC:20240713T150000
DTSTAMP:20260425T154927
CREATED:20240322T041834Z
LAST-MODIFIED:20240322T041834Z
UID:10000044-1720864800-1720882800@doorcountyhistoricalsociety.org
SUMMARY:Root Beer Festival!
DESCRIPTION:
URL:https://doorcountyhistoricalsociety.org/event/root-beer-festival-2/
LOCATION:Heritage Village\, 2041 Michigan St\, Sturgeon Bay\, WI\, 54235
CATEGORIES:Special Events
END:VEVENT
BEGIN:VEVENT
DTSTART;TZID=UTC:20240706T130000
DTEND;TZID=UTC:20240706T140000
DTSTAMP:20260425T154927
CREATED:20240705T233732Z
LAST-MODIFIED:20240705T233732Z
UID:10000056-1720270800-1720274400@doorcountyhistoricalsociety.org
SUMMARY:Saturdays at the Village - Leonette Tackenberg
DESCRIPTION:Join Leonette Tackenberg as she recounts the Sturgeon Bay of years gone by. She will also share her delightful story of exploring Third Avenue as a young child nearly a century ago!
URL:https://doorcountyhistoricalsociety.org/event/saturdays-at-the-village-leonette-tackenberg/
LOCATION:Heritage Village\, 2041 Michigan St\, Sturgeon Bay\, WI\, 54235
CATEGORIES:Heritage Village
END:VEVENT
BEGIN:VEVENT
DTSTART;TZID=UTC:20240629T130000
DTEND;TZID=UTC:20240629T143000
DTSTAMP:20260425T154927
CREATED:20240424T031242Z
LAST-MODIFIED:20240424T031242Z
UID:10000053-1719666000-1719671400@doorcountyhistoricalsociety.org
SUMMARY:A Short History of the Artists Guild
DESCRIPTION:Ernest Beautel shares the story of Artists Guild\, the historic building that the business calls home\, and the Door County creatives who make it possible. A hands-on craft will be included.
URL:https://doorcountyhistoricalsociety.org/event/a-short-history-of-the-artists-guild/
LOCATION:Heritage Village\, 2041 Michigan St\, Sturgeon Bay\, WI\, 54235
CATEGORIES:Heritage Village
END:VEVENT
BEGIN:VEVENT
DTSTART;TZID=UTC:20240624T180000
DTEND;TZID=UTC:20240624T200000
DTSTAMP:20260425T154927
CREATED:20240328T232059Z
LAST-MODIFIED:20240328T232059Z
UID:10000048-1719252000-1719259200@doorcountyhistoricalsociety.org
SUMMARY:June Dinner Program - First Peoples of Door County
DESCRIPTION:Join us on Monday\, June 24 for dinner at The Log Den in Egg Harbor\, followed by a program featuring a presentation on the first peoples of Door County\, given by Michaela Kraft\, DCHS Curator & Interpretations Coordinator.
URL:https://doorcountyhistoricalsociety.org/event/june-dinner-program-first-peoples-of-door-county/
LOCATION:The Log Den\, 6626 WI-42\, Egg Harbor\, Wi\, 54209
CATEGORIES:Dine & Discover Programs
END:VEVENT
BEGIN:VEVENT
DTSTART;TZID=UTC:20240622T130000
DTEND;TZID=UTC:20240622T143000
DTSTAMP:20260425T154927
CREATED:20240424T031056Z
LAST-MODIFIED:20240424T031056Z
UID:10000052-1719061200-1719066600@doorcountyhistoricalsociety.org
SUMMARY:Historic Embroidery
DESCRIPTION:The Green Bay chapter of the Embroider Guild of America will visit Heritage Village. Learn the history of the art of embroidery in Wisconsin and take a “stab” at trying it yourself! \n(* Pre-registration is required for this event. Please call the office at 920-421-2332.)
URL:https://doorcountyhistoricalsociety.org/event/historic-embroidery/
LOCATION:Heritage Village\, 2041 Michigan St\, Sturgeon Bay\, WI\, 54235
CATEGORIES:Heritage Village
END:VEVENT
BEGIN:VEVENT
DTSTART;TZID=UTC:20240621T130000
DTEND;TZID=UTC:20240621T140000
DTSTAMP:20260425T154927
CREATED:20240424T031538Z
LAST-MODIFIED:20240424T031538Z
UID:10000055-1718974800-1718978400@doorcountyhistoricalsociety.org
SUMMARY:Music at the Village: Helen Cordon
DESCRIPTION:Don’t miss Helen Cordon and her accordion! Join us at Heritage Village for an experience you won’t soon forget!
URL:https://doorcountyhistoricalsociety.org/event/music-at-the-village-helen-cordon/
LOCATION:Heritage Village\, 2041 Michigan St\, Sturgeon Bay\, WI\, 54235
CATEGORIES:Heritage Village
END:VEVENT
BEGIN:VEVENT
DTSTART;TZID=UTC:20240615T130000
DTEND;TZID=UTC:20240615T143000
DTSTAMP:20260425T154927
CREATED:20240424T030834Z
LAST-MODIFIED:20240424T030834Z
UID:10000051-1718456400-1718461800@doorcountyhistoricalsociety.org
SUMMARY:Door County's Literacy History
DESCRIPTION:A representative from the beloved Sturgeon Bay business\, Novel Bay Booksellers\, will discuss local authors and share stories of Door County’s long love affair with reading.
URL:https://doorcountyhistoricalsociety.org/event/door-countys-literacy-history/
LOCATION:Heritage Village\, 2041 Michigan St\, Sturgeon Bay\, WI\, 54235
CATEGORIES:Heritage Village
END:VEVENT
BEGIN:VEVENT
DTSTART;TZID=UTC:20240608T130000
DTEND;TZID=UTC:20240608T150000
DTSTAMP:20260425T154927
CREATED:20240424T030653Z
LAST-MODIFIED:20240424T030653Z
UID:10000050-1717851600-1717858800@doorcountyhistoricalsociety.org
SUMMARY:First Peoples Exhibit Dedication
DESCRIPTION:Members of Wisconsin tribes will join the Door County Historical Society in unveiling the newest outdoor permanent exhibit\, “Door County’s First Peoples.” The event will include performances and refreshments.
URL:https://doorcountyhistoricalsociety.org/event/first-peoples-exhibit-dedication/
LOCATION:Heritage Village\, 2041 Michigan St\, Sturgeon Bay\, WI\, 54235
CATEGORIES:Heritage Village
END:VEVENT
BEGIN:VEVENT
DTSTART;TZID=UTC:20240607T130000
DTEND;TZID=UTC:20240607T140000
DTSTAMP:20260425T154927
CREATED:20240424T031428Z
LAST-MODIFIED:20240424T031428Z
UID:10000054-1717765200-1717768800@doorcountyhistoricalsociety.org
SUMMARY:Music at the Village: Ukulele Society of Door County
DESCRIPTION:They’re back! Grab a lawn chair and some snacks\, and join us at the Village for a return visit from the Ukes!
URL:https://doorcountyhistoricalsociety.org/event/music-at-the-village-ukulele-society-of-door-county/
LOCATION:Heritage Village\, 2041 Michigan St\, Sturgeon Bay\, WI\, 54235
CATEGORIES:Heritage Village
END:VEVENT
BEGIN:VEVENT
DTSTART;TZID=UTC:20240601T100000
DTEND;TZID=UTC:20240601T140000
DTSTAMP:20260425T154927
CREATED:20240424T030505Z
LAST-MODIFIED:20240529T020907Z
UID:10000049-1717236000-1717250400@doorcountyhistoricalsociety.org
SUMMARY:Garden Clean-up and Kick Off
DESCRIPTION:Come out to the Village to help prepare the Heritage Garden for the season\, learn about what would have been planted 100 years ago on the peninsula\, and leave with a packet of free seeds! \n  \n \n 
URL:https://doorcountyhistoricalsociety.org/event/garden-clean-up-and-kick-off/
LOCATION:Heritage Village\, 2041 Michigan St\, Sturgeon Bay\, WI\, 54235
CATEGORIES:Heritage Village
END:VEVENT
BEGIN:VEVENT
DTSTART;TZID=UTC:20240520T180000
DTEND;TZID=UTC:20240520T200000
DTSTAMP:20260425T154927
CREATED:20240328T231926Z
LAST-MODIFIED:20240328T232133Z
UID:10000047-1716228000-1716235200@doorcountyhistoricalsociety.org
SUMMARY:May Dinner Program - Ahnapee Trail
DESCRIPTION:Join us on Monday\, May 20 for dinner at the Door Country Event Center in Sturgeon Bay (Schmitz Insurance)\, followed by a program featuring Tim Kazmierczak\, Door County Parks Manager\, to learn about the history of the Ahnapee Trail.
URL:https://doorcountyhistoricalsociety.org/event/may-dinner-program-ahnapee-trail/
LOCATION:Door Country Event Center\, 7153 Hwy 42 57\, Sturgeon bay\, WI\, 54235
CATEGORIES:Dine & Discover Programs
END:VEVENT
BEGIN:VEVENT
DTSTART;TZID=UTC:20240518T100000
DTEND;TZID=UTC:20240518T150000
DTSTAMP:20260425T154927
CREATED:20240322T041751Z
LAST-MODIFIED:20240322T041751Z
UID:10000043-1716026400-1716044400@doorcountyhistoricalsociety.org
SUMMARY:Heritage Village Opening Day!
DESCRIPTION:
URL:https://doorcountyhistoricalsociety.org/event/heritage-village-opening-day/
LOCATION:Heritage Village\, 2041 Michigan St\, Sturgeon Bay\, WI\, 54235
CATEGORIES:Special Events
END:VEVENT
BEGIN:VEVENT
DTSTART;TZID=UTC:20240422T180000
DTEND;TZID=UTC:20240422T200000
DTSTAMP:20260425T154927
CREATED:20240328T231652Z
LAST-MODIFIED:20240328T231652Z
UID:10000046-1713808800-1713816000@doorcountyhistoricalsociety.org
SUMMARY:April Dinner Program - Little Sister Barn
DESCRIPTION:Join us on Monday\, April 22 for dinner at Al Johnson’s Restaurant in Sister Bay\, followed by a program featuring the Sister Bay Historical Society and their work on restoring the Little Sister Barn.
URL:https://doorcountyhistoricalsociety.org/event/april-dinner-program-little-sister-barn/
LOCATION:Al Johnson’s Restaurant\, 10698 N Bay Shore Dr\, Sister Bay\, WI\, 54234
CATEGORIES:Dine & Discover Programs
END:VEVENT
BEGIN:VEVENT
DTSTART;TZID=UTC:20240420T130000
DTEND;TZID=UTC:20240420T150000
DTSTAMP:20260425T154927
CREATED:20240307T013907Z
LAST-MODIFIED:20240307T014009Z
UID:10000042-1713618000-1713625200@doorcountyhistoricalsociety.org
SUMMARY:Historic High Tea
DESCRIPTION:Embark on a captivating journey back to the enchanting 1890s and immerse yourself in the charm of a bygone era with our extraordinary historic high tea at Heritage Village on Saturday\, April 20 from 1:00pm – 3:00pm. Step into the Warren House\, a sophisticated haven for Door County’s social elite and one of the earliest post offices on the peninsula. Delight your senses as we unravel the secrets of American high society’s preferred teas during the turn of the 20th century. \nFor just $30\, members will be treated to an exquisite experience\, complete with traditional tea service\, an array of delectable small plates\, and an engaging interpretive historic program that brings the past to life. Dress to impress in your finest Sunday attire or showcase your most elaborate hat because this event promises to be an indulgent feast for both history enthusiasts and lovers of refined elegance. \nAs the Warren House provides an intimate setting\, attendance is limited to 25 individuals. Members of the Door County Historical Society will be given priority\, ensuring an exclusive experience for those who cherish the rich tapestry of our heritage. Don’t miss out on this sweet journey into the past – reserve your spot today!
URL:https://doorcountyhistoricalsociety.org/event/historic-high-tea/
LOCATION:Heritage Village\, 2041 Michigan St\, Sturgeon Bay\, WI\, 54235
CATEGORIES:Heritage Village,Special Events
END:VEVENT
BEGIN:VEVENT
DTSTART;TZID=UTC:20240323T120000
DTEND;TZID=UTC:20240323T140000
DTSTAMP:20260425T154927
CREATED:20240205T173338Z
LAST-MODIFIED:20240221T030917Z
UID:10000041-1711195200-1711202400@doorcountyhistoricalsociety.org
SUMMARY:March Luncheon
DESCRIPTION:Join DCHS for an unforgettable afternoon as melaniejane\, owner and operator of the Holiday Music Motel\, will discuss the motel phenomenon of the 20th century and the history of the Holiday Music Motel specifically. Motels have played an important role in the lives of travelers of American roads. With fewer motels remaining\, The Holiday Music Motel is important\, not only preserving this bygone era\, but also in their mission to be a significant contributor to the community through their outreach and support of the music and art community. \nHeld at the Sturgeon Bay Yacht Club\, 600 Nautical Dr\, the menu includes your plated choice of: Cherry Barbeque Meatloaf\, mashed potatoes\, chef’s choice of vegetable\, Chicken Veloute (chicken with cream sauce)\, mashed potatoes\, chef’s choice of vegetable\, or Vegetarian Apple Gorgonzola Salad with cranberries\, candied walnuts. Dessert of carrot cake with cream cheese frosting and coffee will be served. \nCLICK HERE TO REGISTER
URL:https://doorcountyhistoricalsociety.org/event/march-luncheon/
LOCATION:Sturgeon Bay Yacht Club\, 600 Nautical Dr\, Sturgeon Bay\, WI\, 54235\, United States
CATEGORIES:Dine & Discover Programs
END:VEVENT
BEGIN:VEVENT
DTSTART;TZID=UTC:20240224T120000
DTEND;TZID=UTC:20240224T140000
DTSTAMP:20260425T154927
CREATED:20240205T173027Z
LAST-MODIFIED:20240221T025753Z
UID:10000040-1708776000-1708783200@doorcountyhistoricalsociety.org
SUMMARY:February Luncheon
DESCRIPTION:Our first program for 2024 will be held on Saturday\, February 24\, 2024\, at Stone Harbor Resort\, 107 N. 1st Ave.\, Sturgeon Bay. The menu includes soup\, deli sandwiches and salads\, cookies and bars for dessert\, and coffee. The bar will be open for service. Doors will open at 11:30 am. Lunch will be served at noon. \nFollowing the luncheon will be a presentation on Birds of Prey\, by the Open Door Bird Sanctuary of Door County. Rob Hults\, Executive Director\, will present the history of birds of prey in Door County as well as\, the mission of the Open Door Bird Sanctuary. \nIn addition to the program\, the Door County Historical Society will hold a silent auction to benefit the Endowment Fund. Items will be donated by local businesses and you are encouraged to participate by making bids on the baskets up for auction. You may be going home with a fun prize! \nRegister Here!
URL:https://doorcountyhistoricalsociety.org/event/february-luncheon/
LOCATION:Stone Harbor Resort\, 107 N 1st Ave\, Sturgeon Bay\, WI\, 54235\, United States
CATEGORIES:Dine & Discover Programs
END:VEVENT
BEGIN:VEVENT
DTSTART;TZID=UTC:20231230T160000
DTEND;TZID=UTC:20231230T190000
DTSTAMP:20260425T154927
CREATED:20231106T100925Z
LAST-MODIFIED:20241010T232704Z
UID:10000039-1703952000-1703962800@doorcountyhistoricalsociety.org
SUMMARY:A Glimpse of Christmas Past
DESCRIPTION:Step into beautifully decorated buildings\, each brought to life with historic holiday decor provided by local nonprofit organizations.  \nVote for your favorite building with your donation. Enjoy hot beverages and join in the caroling. Bring the whole family and be part of this new holiday tradition!
URL:https://doorcountyhistoricalsociety.org/event/a-glimpse-of-christmas-past/2023-12-30/
LOCATION:Heritage Village\, 2041 Michigan St\, Sturgeon Bay\, WI\, 54235
END:VEVENT
BEGIN:VEVENT
DTSTART;TZID=UTC:20231229T160000
DTEND;TZID=UTC:20231229T190000
DTSTAMP:20260425T154927
CREATED:20231106T100925Z
LAST-MODIFIED:20241010T232704Z
UID:10000038-1703865600-1703876400@doorcountyhistoricalsociety.org
SUMMARY:A Glimpse of Christmas Past
DESCRIPTION:Step into beautifully decorated buildings\, each brought to life with historic holiday decor provided by local nonprofit organizations.  \nVote for your favorite building with your donation. Enjoy hot beverages and join in the caroling. Bring the whole family and be part of this new holiday tradition!
URL:https://doorcountyhistoricalsociety.org/event/a-glimpse-of-christmas-past/2023-12-29/
LOCATION:Heritage Village\, 2041 Michigan St\, Sturgeon Bay\, WI\, 54235
END:VEVENT
BEGIN:VEVENT
DTSTART;TZID=UTC:20231223T160000
DTEND;TZID=UTC:20231223T190000
DTSTAMP:20260425T154927
CREATED:20231106T100925Z
LAST-MODIFIED:20241010T232704Z
UID:10000037-1703347200-1703358000@doorcountyhistoricalsociety.org
SUMMARY:A Glimpse of Christmas Past
DESCRIPTION:Step into beautifully decorated buildings\, each brought to life with historic holiday decor provided by local nonprofit organizations.  \nVote for your favorite building with your donation. Enjoy hot beverages and join in the caroling. Bring the whole family and be part of this new holiday tradition!
URL:https://doorcountyhistoricalsociety.org/event/a-glimpse-of-christmas-past/2023-12-23/
LOCATION:Heritage Village\, 2041 Michigan St\, Sturgeon Bay\, WI\, 54235
END:VEVENT
END:VCALENDAR