BEGIN:VCALENDAR
VERSION:2.0
PRODID:-//Door County Historical Society - ECPv6.15.20//NONSGML v1.0//EN
CALSCALE:GREGORIAN
METHOD:PUBLISH
X-WR-CALNAME:Door County Historical Society
X-ORIGINAL-URL:https://doorcountyhistoricalsociety.org
X-WR-CALDESC:Events for Door County Historical Society
REFRESH-INTERVAL;VALUE=DURATION:PT1H
X-Robots-Tag:noindex
X-PUBLISHED-TTL:PT1H
BEGIN:VTIMEZONE
TZID:America/Chicago
BEGIN:DAYLIGHT
TZOFFSETFROM:-0600
TZOFFSETTO:-0500
TZNAME:CDT
DTSTART:20250309T080000
END:DAYLIGHT
BEGIN:STANDARD
TZOFFSETFROM:-0500
TZOFFSETTO:-0600
TZNAME:CST
DTSTART:20251102T070000
END:STANDARD
BEGIN:DAYLIGHT
TZOFFSETFROM:-0600
TZOFFSETTO:-0500
TZNAME:CDT
DTSTART:20260308T080000
END:DAYLIGHT
BEGIN:STANDARD
TZOFFSETFROM:-0500
TZOFFSETTO:-0600
TZNAME:CST
DTSTART:20261101T070000
END:STANDARD
BEGIN:DAYLIGHT
TZOFFSETFROM:-0600
TZOFFSETTO:-0500
TZNAME:CDT
DTSTART:20270314T080000
END:DAYLIGHT
BEGIN:STANDARD
TZOFFSETFROM:-0500
TZOFFSETTO:-0600
TZNAME:CST
DTSTART:20271107T070000
END:STANDARD
END:VTIMEZONE
BEGIN:VEVENT
DTSTART;TZID=America/Chicago:20260527T110000
DTEND;TZID=America/Chicago:20260527T160000
DTSTAMP:20260423T155140
CREATED:20260116T181911Z
LAST-MODIFIED:20260116T182139Z
UID:10002232-1779879600-1779897600@doorcountyhistoricalsociety.org
SUMMARY:Heritage Village Open to the Public
DESCRIPTION:
URL:https://doorcountyhistoricalsociety.org/event/heritage-village-open-to-the-public/2026-05-27/
LOCATION:Heritage Village\, 2041 Michigan St\, Sturgeon Bay\, WI\, 54235
CATEGORIES:Heritage Village
ORGANIZER;CN="Door County Historical Society":MAILTO:office@doorcountyhistoricalsociety.org
END:VEVENT
BEGIN:VEVENT
DTSTART;TZID=America/Chicago:20260528T110000
DTEND;TZID=America/Chicago:20260528T160000
DTSTAMP:20260423T155140
CREATED:20260116T181653Z
LAST-MODIFIED:20260415T203552Z
UID:10002013-1779966000-1779984000@doorcountyhistoricalsociety.org
SUMMARY:Eagle Bluff Light Station Open to the public
DESCRIPTION:
URL:https://doorcountyhistoricalsociety.org/event/eagle-bluff-light-station-open-to-the-public/2026-05-28/
LOCATION:Eagle Bluff Light Station\, 10249 Shore Road\, Fish Creek\, WI\, 54212\, United States
CATEGORIES:Eagle Bluff Light Station
END:VEVENT
BEGIN:VEVENT
DTSTART;TZID=America/Chicago:20260528T110000
DTEND;TZID=America/Chicago:20260528T160000
DTSTAMP:20260423T155140
CREATED:20260116T181911Z
LAST-MODIFIED:20260116T182139Z
UID:10002233-1779966000-1779984000@doorcountyhistoricalsociety.org
SUMMARY:Heritage Village Open to the Public
DESCRIPTION:
URL:https://doorcountyhistoricalsociety.org/event/heritage-village-open-to-the-public/2026-05-28/
LOCATION:Heritage Village\, 2041 Michigan St\, Sturgeon Bay\, WI\, 54235
CATEGORIES:Heritage Village
ORGANIZER;CN="Door County Historical Society":MAILTO:office@doorcountyhistoricalsociety.org
END:VEVENT
BEGIN:VEVENT
DTSTART;TZID=America/Chicago:20260529T110000
DTEND;TZID=America/Chicago:20260529T160000
DTSTAMP:20260423T155140
CREATED:20260116T181653Z
LAST-MODIFIED:20260415T203552Z
UID:10002014-1780052400-1780070400@doorcountyhistoricalsociety.org
SUMMARY:Eagle Bluff Light Station Open to the public
DESCRIPTION:
URL:https://doorcountyhistoricalsociety.org/event/eagle-bluff-light-station-open-to-the-public/2026-05-29/
LOCATION:Eagle Bluff Light Station\, 10249 Shore Road\, Fish Creek\, WI\, 54212\, United States
CATEGORIES:Eagle Bluff Light Station
END:VEVENT
BEGIN:VEVENT
DTSTART;TZID=America/Chicago:20260529T110000
DTEND;TZID=America/Chicago:20260529T160000
DTSTAMP:20260423T155140
CREATED:20260116T181911Z
LAST-MODIFIED:20260116T182139Z
UID:10002234-1780052400-1780070400@doorcountyhistoricalsociety.org
SUMMARY:Heritage Village Open to the Public
DESCRIPTION:
URL:https://doorcountyhistoricalsociety.org/event/heritage-village-open-to-the-public/2026-05-29/
LOCATION:Heritage Village\, 2041 Michigan St\, Sturgeon Bay\, WI\, 54235
CATEGORIES:Heritage Village
ORGANIZER;CN="Door County Historical Society":MAILTO:office@doorcountyhistoricalsociety.org
END:VEVENT
BEGIN:VEVENT
DTSTART;TZID=America/Chicago:20260530T110000
DTEND;TZID=America/Chicago:20260530T160000
DTSTAMP:20260423T155140
CREATED:20260116T181653Z
LAST-MODIFIED:20260415T203552Z
UID:10002015-1780138800-1780156800@doorcountyhistoricalsociety.org
SUMMARY:Eagle Bluff Light Station Open to the public
DESCRIPTION:
URL:https://doorcountyhistoricalsociety.org/event/eagle-bluff-light-station-open-to-the-public/2026-05-30/
LOCATION:Eagle Bluff Light Station\, 10249 Shore Road\, Fish Creek\, WI\, 54212\, United States
CATEGORIES:Eagle Bluff Light Station
END:VEVENT
BEGIN:VEVENT
DTSTART;TZID=America/Chicago:20260530T110000
DTEND;TZID=America/Chicago:20260530T160000
DTSTAMP:20260423T155140
CREATED:20260116T181911Z
LAST-MODIFIED:20260116T182139Z
UID:10002162-1780138800-1780156800@doorcountyhistoricalsociety.org
SUMMARY:Heritage Village Open to the Public
DESCRIPTION:
URL:https://doorcountyhistoricalsociety.org/event/heritage-village-open-to-the-public/2026-05-30/
LOCATION:Heritage Village\, 2041 Michigan St\, Sturgeon Bay\, WI\, 54235
CATEGORIES:Heritage Village
ORGANIZER;CN="Door County Historical Society":MAILTO:office@doorcountyhistoricalsociety.org
END:VEVENT
BEGIN:VEVENT
DTSTART;TZID=America/Chicago:20260531T110000
DTEND;TZID=America/Chicago:20260531T160000
DTSTAMP:20260423T155140
CREATED:20260116T181653Z
LAST-MODIFIED:20260415T203552Z
UID:10002016-1780225200-1780243200@doorcountyhistoricalsociety.org
SUMMARY:Eagle Bluff Light Station Open to the public
DESCRIPTION:
URL:https://doorcountyhistoricalsociety.org/event/eagle-bluff-light-station-open-to-the-public/2026-05-31/
LOCATION:Eagle Bluff Light Station\, 10249 Shore Road\, Fish Creek\, WI\, 54212\, United States
CATEGORIES:Eagle Bluff Light Station
END:VEVENT
BEGIN:VEVENT
DTSTART;TZID=America/Chicago:20260531T110000
DTEND;TZID=America/Chicago:20260531T160000
DTSTAMP:20260423T155140
CREATED:20260116T181911Z
LAST-MODIFIED:20260116T182139Z
UID:10002235-1780225200-1780243200@doorcountyhistoricalsociety.org
SUMMARY:Heritage Village Open to the Public
DESCRIPTION:
URL:https://doorcountyhistoricalsociety.org/event/heritage-village-open-to-the-public/2026-05-31/
LOCATION:Heritage Village\, 2041 Michigan St\, Sturgeon Bay\, WI\, 54235
CATEGORIES:Heritage Village
ORGANIZER;CN="Door County Historical Society":MAILTO:office@doorcountyhistoricalsociety.org
END:VEVENT
BEGIN:VEVENT
DTSTART;TZID=America/Chicago:20260601T110000
DTEND;TZID=America/Chicago:20260601T160000
DTSTAMP:20260423T155140
CREATED:20260116T181653Z
LAST-MODIFIED:20260415T203552Z
UID:10002017-1780311600-1780329600@doorcountyhistoricalsociety.org
SUMMARY:Eagle Bluff Light Station Open to the public
DESCRIPTION:
URL:https://doorcountyhistoricalsociety.org/event/eagle-bluff-light-station-open-to-the-public/2026-06-01/
LOCATION:Eagle Bluff Light Station\, 10249 Shore Road\, Fish Creek\, WI\, 54212\, United States
CATEGORIES:Eagle Bluff Light Station
END:VEVENT
BEGIN:VEVENT
DTSTART;TZID=America/Chicago:20260602T110000
DTEND;TZID=America/Chicago:20260602T160000
DTSTAMP:20260423T155140
CREATED:20260116T181653Z
LAST-MODIFIED:20260415T203552Z
UID:10002018-1780398000-1780416000@doorcountyhistoricalsociety.org
SUMMARY:Eagle Bluff Light Station Open to the public
DESCRIPTION:
URL:https://doorcountyhistoricalsociety.org/event/eagle-bluff-light-station-open-to-the-public/2026-06-02/
LOCATION:Eagle Bluff Light Station\, 10249 Shore Road\, Fish Creek\, WI\, 54212\, United States
CATEGORIES:Eagle Bluff Light Station
END:VEVENT
BEGIN:VEVENT
DTSTART;TZID=America/Chicago:20260603T110000
DTEND;TZID=America/Chicago:20260603T160000
DTSTAMP:20260423T155140
CREATED:20260116T181653Z
LAST-MODIFIED:20260415T203552Z
UID:10002019-1780484400-1780502400@doorcountyhistoricalsociety.org
SUMMARY:Eagle Bluff Light Station Open to the public
DESCRIPTION:
URL:https://doorcountyhistoricalsociety.org/event/eagle-bluff-light-station-open-to-the-public/2026-06-03/
LOCATION:Eagle Bluff Light Station\, 10249 Shore Road\, Fish Creek\, WI\, 54212\, United States
CATEGORIES:Eagle Bluff Light Station
END:VEVENT
BEGIN:VEVENT
DTSTART;TZID=America/Chicago:20260603T110000
DTEND;TZID=America/Chicago:20260603T160000
DTSTAMP:20260423T155141
CREATED:20260116T181911Z
LAST-MODIFIED:20260116T182139Z
UID:10002236-1780484400-1780502400@doorcountyhistoricalsociety.org
SUMMARY:Heritage Village Open to the Public
DESCRIPTION:
URL:https://doorcountyhistoricalsociety.org/event/heritage-village-open-to-the-public/2026-06-03/
LOCATION:Heritage Village\, 2041 Michigan St\, Sturgeon Bay\, WI\, 54235
CATEGORIES:Heritage Village
ORGANIZER;CN="Door County Historical Society":MAILTO:office@doorcountyhistoricalsociety.org
END:VEVENT
BEGIN:VEVENT
DTSTART;TZID=America/Chicago:20260604T110000
DTEND;TZID=America/Chicago:20260604T160000
DTSTAMP:20260423T155141
CREATED:20260116T181653Z
LAST-MODIFIED:20260415T203552Z
UID:10002020-1780570800-1780588800@doorcountyhistoricalsociety.org
SUMMARY:Eagle Bluff Light Station Open to the public
DESCRIPTION:
URL:https://doorcountyhistoricalsociety.org/event/eagle-bluff-light-station-open-to-the-public/2026-06-04/
LOCATION:Eagle Bluff Light Station\, 10249 Shore Road\, Fish Creek\, WI\, 54212\, United States
CATEGORIES:Eagle Bluff Light Station
END:VEVENT
BEGIN:VEVENT
DTSTART;TZID=America/Chicago:20260604T110000
DTEND;TZID=America/Chicago:20260604T160000
DTSTAMP:20260423T155141
CREATED:20260116T181911Z
LAST-MODIFIED:20260116T182139Z
UID:10002237-1780570800-1780588800@doorcountyhistoricalsociety.org
SUMMARY:Heritage Village Open to the Public
DESCRIPTION:
URL:https://doorcountyhistoricalsociety.org/event/heritage-village-open-to-the-public/2026-06-04/
LOCATION:Heritage Village\, 2041 Michigan St\, Sturgeon Bay\, WI\, 54235
CATEGORIES:Heritage Village
ORGANIZER;CN="Door County Historical Society":MAILTO:office@doorcountyhistoricalsociety.org
END:VEVENT
BEGIN:VEVENT
DTSTART;TZID=America/Chicago:20260605T110000
DTEND;TZID=America/Chicago:20260605T160000
DTSTAMP:20260423T155141
CREATED:20260116T181653Z
LAST-MODIFIED:20260415T203552Z
UID:10002021-1780657200-1780675200@doorcountyhistoricalsociety.org
SUMMARY:Eagle Bluff Light Station Open to the public
DESCRIPTION:
URL:https://doorcountyhistoricalsociety.org/event/eagle-bluff-light-station-open-to-the-public/2026-06-05/
LOCATION:Eagle Bluff Light Station\, 10249 Shore Road\, Fish Creek\, WI\, 54212\, United States
CATEGORIES:Eagle Bluff Light Station
END:VEVENT
BEGIN:VEVENT
DTSTART;TZID=America/Chicago:20260605T110000
DTEND;TZID=America/Chicago:20260605T160000
DTSTAMP:20260423T155141
CREATED:20260116T181911Z
LAST-MODIFIED:20260116T182139Z
UID:10002238-1780657200-1780675200@doorcountyhistoricalsociety.org
SUMMARY:Heritage Village Open to the Public
DESCRIPTION:
URL:https://doorcountyhistoricalsociety.org/event/heritage-village-open-to-the-public/2026-06-05/
LOCATION:Heritage Village\, 2041 Michigan St\, Sturgeon Bay\, WI\, 54235
CATEGORIES:Heritage Village
ORGANIZER;CN="Door County Historical Society":MAILTO:office@doorcountyhistoricalsociety.org
END:VEVENT
BEGIN:VEVENT
DTSTART;TZID=America/Chicago:20260606T110000
DTEND;TZID=America/Chicago:20260606T160000
DTSTAMP:20260423T155141
CREATED:20260116T181653Z
LAST-MODIFIED:20260415T203552Z
UID:10002022-1780743600-1780761600@doorcountyhistoricalsociety.org
SUMMARY:Eagle Bluff Light Station Open to the public
DESCRIPTION:
URL:https://doorcountyhistoricalsociety.org/event/eagle-bluff-light-station-open-to-the-public/2026-06-06/
LOCATION:Eagle Bluff Light Station\, 10249 Shore Road\, Fish Creek\, WI\, 54212\, United States
CATEGORIES:Eagle Bluff Light Station
END:VEVENT
BEGIN:VEVENT
DTSTART;TZID=America/Chicago:20260606T110000
DTEND;TZID=America/Chicago:20260606T160000
DTSTAMP:20260423T155141
CREATED:20260116T181911Z
LAST-MODIFIED:20260116T182139Z
UID:10002163-1780743600-1780761600@doorcountyhistoricalsociety.org
SUMMARY:Heritage Village Open to the Public
DESCRIPTION:
URL:https://doorcountyhistoricalsociety.org/event/heritage-village-open-to-the-public/2026-06-06/
LOCATION:Heritage Village\, 2041 Michigan St\, Sturgeon Bay\, WI\, 54235
CATEGORIES:Heritage Village
ORGANIZER;CN="Door County Historical Society":MAILTO:office@doorcountyhistoricalsociety.org
END:VEVENT
BEGIN:VEVENT
DTSTART;TZID=America/Chicago:20260607T110000
DTEND;TZID=America/Chicago:20260607T160000
DTSTAMP:20260423T155141
CREATED:20260116T181653Z
LAST-MODIFIED:20260415T203552Z
UID:10002023-1780830000-1780848000@doorcountyhistoricalsociety.org
SUMMARY:Eagle Bluff Light Station Open to the public
DESCRIPTION:
URL:https://doorcountyhistoricalsociety.org/event/eagle-bluff-light-station-open-to-the-public/2026-06-07/
LOCATION:Eagle Bluff Light Station\, 10249 Shore Road\, Fish Creek\, WI\, 54212\, United States
CATEGORIES:Eagle Bluff Light Station
END:VEVENT
BEGIN:VEVENT
DTSTART;TZID=America/Chicago:20260607T110000
DTEND;TZID=America/Chicago:20260607T160000
DTSTAMP:20260423T155141
CREATED:20260116T181911Z
LAST-MODIFIED:20260116T182139Z
UID:10002239-1780830000-1780848000@doorcountyhistoricalsociety.org
SUMMARY:Heritage Village Open to the Public
DESCRIPTION:
URL:https://doorcountyhistoricalsociety.org/event/heritage-village-open-to-the-public/2026-06-07/
LOCATION:Heritage Village\, 2041 Michigan St\, Sturgeon Bay\, WI\, 54235
CATEGORIES:Heritage Village
ORGANIZER;CN="Door County Historical Society":MAILTO:office@doorcountyhistoricalsociety.org
END:VEVENT
BEGIN:VEVENT
DTSTART;TZID=America/Chicago:20260608T110000
DTEND;TZID=America/Chicago:20260608T160000
DTSTAMP:20260423T155141
CREATED:20260116T181653Z
LAST-MODIFIED:20260415T203552Z
UID:10002024-1780916400-1780934400@doorcountyhistoricalsociety.org
SUMMARY:Eagle Bluff Light Station Open to the public
DESCRIPTION:
URL:https://doorcountyhistoricalsociety.org/event/eagle-bluff-light-station-open-to-the-public/2026-06-08/
LOCATION:Eagle Bluff Light Station\, 10249 Shore Road\, Fish Creek\, WI\, 54212\, United States
CATEGORIES:Eagle Bluff Light Station
END:VEVENT
BEGIN:VEVENT
DTSTART;TZID=America/Chicago:20260609T110000
DTEND;TZID=America/Chicago:20260609T160000
DTSTAMP:20260423T155141
CREATED:20260116T181653Z
LAST-MODIFIED:20260415T203552Z
UID:10002025-1781002800-1781020800@doorcountyhistoricalsociety.org
SUMMARY:Eagle Bluff Light Station Open to the public
DESCRIPTION:
URL:https://doorcountyhistoricalsociety.org/event/eagle-bluff-light-station-open-to-the-public/2026-06-09/
LOCATION:Eagle Bluff Light Station\, 10249 Shore Road\, Fish Creek\, WI\, 54212\, United States
CATEGORIES:Eagle Bluff Light Station
END:VEVENT
BEGIN:VEVENT
DTSTART;TZID=America/Chicago:20260610T110000
DTEND;TZID=America/Chicago:20260610T160000
DTSTAMP:20260423T155141
CREATED:20260116T181653Z
LAST-MODIFIED:20260415T203552Z
UID:10002026-1781089200-1781107200@doorcountyhistoricalsociety.org
SUMMARY:Eagle Bluff Light Station Open to the public
DESCRIPTION:
URL:https://doorcountyhistoricalsociety.org/event/eagle-bluff-light-station-open-to-the-public/2026-06-10/
LOCATION:Eagle Bluff Light Station\, 10249 Shore Road\, Fish Creek\, WI\, 54212\, United States
CATEGORIES:Eagle Bluff Light Station
END:VEVENT
BEGIN:VEVENT
DTSTART;TZID=America/Chicago:20260610T110000
DTEND;TZID=America/Chicago:20260610T160000
DTSTAMP:20260423T155141
CREATED:20260116T181911Z
LAST-MODIFIED:20260116T182139Z
UID:10002240-1781089200-1781107200@doorcountyhistoricalsociety.org
SUMMARY:Heritage Village Open to the Public
DESCRIPTION:
URL:https://doorcountyhistoricalsociety.org/event/heritage-village-open-to-the-public/2026-06-10/
LOCATION:Heritage Village\, 2041 Michigan St\, Sturgeon Bay\, WI\, 54235
CATEGORIES:Heritage Village
ORGANIZER;CN="Door County Historical Society":MAILTO:office@doorcountyhistoricalsociety.org
END:VEVENT
BEGIN:VEVENT
DTSTART;TZID=America/Chicago:20260611T110000
DTEND;TZID=America/Chicago:20260611T160000
DTSTAMP:20260423T155141
CREATED:20260116T181653Z
LAST-MODIFIED:20260415T203552Z
UID:10002027-1781175600-1781193600@doorcountyhistoricalsociety.org
SUMMARY:Eagle Bluff Light Station Open to the public
DESCRIPTION:
URL:https://doorcountyhistoricalsociety.org/event/eagle-bluff-light-station-open-to-the-public/2026-06-11/
LOCATION:Eagle Bluff Light Station\, 10249 Shore Road\, Fish Creek\, WI\, 54212\, United States
CATEGORIES:Eagle Bluff Light Station
END:VEVENT
BEGIN:VEVENT
DTSTART;TZID=America/Chicago:20260611T110000
DTEND;TZID=America/Chicago:20260611T160000
DTSTAMP:20260423T155141
CREATED:20260116T181911Z
LAST-MODIFIED:20260116T182139Z
UID:10002241-1781175600-1781193600@doorcountyhistoricalsociety.org
SUMMARY:Heritage Village Open to the Public
DESCRIPTION:
URL:https://doorcountyhistoricalsociety.org/event/heritage-village-open-to-the-public/2026-06-11/
LOCATION:Heritage Village\, 2041 Michigan St\, Sturgeon Bay\, WI\, 54235
CATEGORIES:Heritage Village
ORGANIZER;CN="Door County Historical Society":MAILTO:office@doorcountyhistoricalsociety.org
END:VEVENT
BEGIN:VEVENT
DTSTART;TZID=America/Chicago:20260612T110000
DTEND;TZID=America/Chicago:20260612T160000
DTSTAMP:20260423T155141
CREATED:20260116T181653Z
LAST-MODIFIED:20260415T203552Z
UID:10002028-1781262000-1781280000@doorcountyhistoricalsociety.org
SUMMARY:Eagle Bluff Light Station Open to the public
DESCRIPTION:
URL:https://doorcountyhistoricalsociety.org/event/eagle-bluff-light-station-open-to-the-public/2026-06-12/
LOCATION:Eagle Bluff Light Station\, 10249 Shore Road\, Fish Creek\, WI\, 54212\, United States
CATEGORIES:Eagle Bluff Light Station
END:VEVENT
BEGIN:VEVENT
DTSTART;TZID=America/Chicago:20260612T110000
DTEND;TZID=America/Chicago:20260612T160000
DTSTAMP:20260423T155141
CREATED:20260116T181911Z
LAST-MODIFIED:20260116T182139Z
UID:10002242-1781262000-1781280000@doorcountyhistoricalsociety.org
SUMMARY:Heritage Village Open to the Public
DESCRIPTION:
URL:https://doorcountyhistoricalsociety.org/event/heritage-village-open-to-the-public/2026-06-12/
LOCATION:Heritage Village\, 2041 Michigan St\, Sturgeon Bay\, WI\, 54235
CATEGORIES:Heritage Village
ORGANIZER;CN="Door County Historical Society":MAILTO:office@doorcountyhistoricalsociety.org
END:VEVENT
BEGIN:VEVENT
DTSTART;TZID=America/Chicago:20260613T110000
DTEND;TZID=America/Chicago:20260613T160000
DTSTAMP:20260423T155141
CREATED:20260116T181653Z
LAST-MODIFIED:20260415T203552Z
UID:10002029-1781348400-1781366400@doorcountyhistoricalsociety.org
SUMMARY:Eagle Bluff Light Station Open to the public
DESCRIPTION:
URL:https://doorcountyhistoricalsociety.org/event/eagle-bluff-light-station-open-to-the-public/2026-06-13/
LOCATION:Eagle Bluff Light Station\, 10249 Shore Road\, Fish Creek\, WI\, 54212\, United States
CATEGORIES:Eagle Bluff Light Station
END:VEVENT
END:VCALENDAR