BEGIN:VCALENDAR
VERSION:2.0
PRODID:-//Door County Historical Society - ECPv6.15.20//NONSGML v1.0//EN
CALSCALE:GREGORIAN
METHOD:PUBLISH
X-ORIGINAL-URL:https://doorcountyhistoricalsociety.org
X-WR-CALDESC:Events for Door County Historical Society
REFRESH-INTERVAL;VALUE=DURATION:PT1H
X-Robots-Tag:noindex
X-PUBLISHED-TTL:PT1H
BEGIN:VTIMEZONE
TZID:UTC
BEGIN:STANDARD
TZOFFSETFROM:+0000
TZOFFSETTO:+0000
TZNAME:UTC
DTSTART:20220101T000000
END:STANDARD
END:VTIMEZONE
BEGIN:VEVENT
DTSTART;TZID=UTC:20230923T100000
DTEND;TZID=UTC:20230923T150000
DTSTAMP:20260425T201546
CREATED:20230806T030913Z
LAST-MODIFIED:20230806T030913Z
UID:10000020-1695463200-1695481200@doorcountyhistoricalsociety.org
SUMMARY:Apple Festival
DESCRIPTION:Whether you’re a dedicated apple enthusiast or just looking for a day of wholesome fun\, the Apple Festival at Heritage Village is an event not to be missed. Come and join us in celebrating the bountiful harvest and the joys of fall at this unforgettable gathering!
URL:https://doorcountyhistoricalsociety.org/event/apple-festival/
LOCATION:Heritage Village\, 2041 Michigan St\, Sturgeon Bay\, WI\, 54235
END:VEVENT
BEGIN:VEVENT
DTSTART;TZID=UTC:20230916T110000
DTEND;TZID=UTC:20230916T160000
DTSTAMP:20260425T201546
CREATED:20230806T031230Z
LAST-MODIFIED:20230806T031230Z
UID:10000021-1694862000-1694880000@doorcountyhistoricalsociety.org
SUMMARY:Vinges School Reunion
DESCRIPTION:The Door County Historical Society is delighted to announce the highly anticipated Vignes School Reunion\, set to take place at Heritage Village on Saturday\, September 16 from 11 am – 4 pm. The event is open-house style\, participants are encourage to come when they can and stay as long as they’d like.  \nThe event will feature a variety of exciting activities and engaging programs for all age groups\, including special recognition of all Vignes School Alumni\, opportunities to record oral histories\, participate in a commemorative artistic installation\, and participate in an authentic 1890s school lesson. Also tours inside the preserved Vignes Schoolhouse will be given\, along with a curated collection of memorabilia\, photographs\, and artifacts from the school’s history\, proudly displayed by the Door County Historical Society. \nThe Vignes School Reunion at Heritage Village is open to the public\, with a special invitation to all former students\, faculty\, and anyone with fond memories of the school.For more information and to RSVP\, please contact Michaela Kraft at michaela@doorcountyhistoricalsociety.org or call 920-421-2332.
URL:https://doorcountyhistoricalsociety.org/event/vinges-school-reunion/
LOCATION:Heritage Village\, 2041 Michigan St\, Sturgeon Bay\, WI\, 54235
END:VEVENT
END:VCALENDAR