BEGIN:VCALENDAR
VERSION:2.0
PRODID:-//Door County Historical Society - ECPv6.15.20//NONSGML v1.0//EN
CALSCALE:GREGORIAN
METHOD:PUBLISH
X-WR-CALNAME:Door County Historical Society
X-ORIGINAL-URL:https://doorcountyhistoricalsociety.org
X-WR-CALDESC:Events for Door County Historical Society
REFRESH-INTERVAL;VALUE=DURATION:PT1H
X-Robots-Tag:noindex
X-PUBLISHED-TTL:PT1H
BEGIN:VTIMEZONE
TZID:America/Chicago
BEGIN:DAYLIGHT
TZOFFSETFROM:-0600
TZOFFSETTO:-0500
TZNAME:CDT
DTSTART:20250309T080000
END:DAYLIGHT
BEGIN:STANDARD
TZOFFSETFROM:-0500
TZOFFSETTO:-0600
TZNAME:CST
DTSTART:20251102T070000
END:STANDARD
BEGIN:DAYLIGHT
TZOFFSETFROM:-0600
TZOFFSETTO:-0500
TZNAME:CDT
DTSTART:20260308T080000
END:DAYLIGHT
BEGIN:STANDARD
TZOFFSETFROM:-0500
TZOFFSETTO:-0600
TZNAME:CST
DTSTART:20261101T070000
END:STANDARD
BEGIN:DAYLIGHT
TZOFFSETFROM:-0600
TZOFFSETTO:-0500
TZNAME:CDT
DTSTART:20270314T080000
END:DAYLIGHT
BEGIN:STANDARD
TZOFFSETFROM:-0500
TZOFFSETTO:-0600
TZNAME:CST
DTSTART:20271107T070000
END:STANDARD
END:VTIMEZONE
BEGIN:VEVENT
DTSTART;TZID=America/Chicago:20260701T110000
DTEND;TZID=America/Chicago:20260701T160000
DTSTAMP:20260423T185907
CREATED:20260116T181653Z
LAST-MODIFIED:20260415T203552Z
UID:10002047-1782903600-1782921600@doorcountyhistoricalsociety.org
SUMMARY:Eagle Bluff Light Station Open to the public
DESCRIPTION:
URL:https://doorcountyhistoricalsociety.org/event/eagle-bluff-light-station-open-to-the-public/2026-07-01/
LOCATION:Eagle Bluff Light Station\, 10249 Shore Road\, Fish Creek\, WI\, 54212\, United States
CATEGORIES:Eagle Bluff Light Station
END:VEVENT
BEGIN:VEVENT
DTSTART;TZID=America/Chicago:20260701T110000
DTEND;TZID=America/Chicago:20260701T160000
DTSTAMP:20260423T185907
CREATED:20260116T181911Z
LAST-MODIFIED:20260116T182139Z
UID:10002252-1782903600-1782921600@doorcountyhistoricalsociety.org
SUMMARY:Heritage Village Open to the Public
DESCRIPTION:
URL:https://doorcountyhistoricalsociety.org/event/heritage-village-open-to-the-public/2026-07-01/
LOCATION:Heritage Village\, 2041 Michigan St\, Sturgeon Bay\, WI\, 54235
CATEGORIES:Heritage Village
ORGANIZER;CN="Door County Historical Society":MAILTO:office@doorcountyhistoricalsociety.org
END:VEVENT
BEGIN:VEVENT
DTSTART;TZID=America/Chicago:20260702T110000
DTEND;TZID=America/Chicago:20260702T160000
DTSTAMP:20260423T185907
CREATED:20260116T181653Z
LAST-MODIFIED:20260415T203552Z
UID:10002048-1782990000-1783008000@doorcountyhistoricalsociety.org
SUMMARY:Eagle Bluff Light Station Open to the public
DESCRIPTION:
URL:https://doorcountyhistoricalsociety.org/event/eagle-bluff-light-station-open-to-the-public/2026-07-02/
LOCATION:Eagle Bluff Light Station\, 10249 Shore Road\, Fish Creek\, WI\, 54212\, United States
CATEGORIES:Eagle Bluff Light Station
END:VEVENT
BEGIN:VEVENT
DTSTART;TZID=America/Chicago:20260702T110000
DTEND;TZID=America/Chicago:20260702T160000
DTSTAMP:20260423T185907
CREATED:20260116T181911Z
LAST-MODIFIED:20260116T182139Z
UID:10002253-1782990000-1783008000@doorcountyhistoricalsociety.org
SUMMARY:Heritage Village Open to the Public
DESCRIPTION:
URL:https://doorcountyhistoricalsociety.org/event/heritage-village-open-to-the-public/2026-07-02/
LOCATION:Heritage Village\, 2041 Michigan St\, Sturgeon Bay\, WI\, 54235
CATEGORIES:Heritage Village
ORGANIZER;CN="Door County Historical Society":MAILTO:office@doorcountyhistoricalsociety.org
END:VEVENT
BEGIN:VEVENT
DTSTART;TZID=America/Chicago:20260703T110000
DTEND;TZID=America/Chicago:20260703T160000
DTSTAMP:20260423T185907
CREATED:20260116T181653Z
LAST-MODIFIED:20260415T203552Z
UID:10002049-1783076400-1783094400@doorcountyhistoricalsociety.org
SUMMARY:Eagle Bluff Light Station Open to the public
DESCRIPTION:
URL:https://doorcountyhistoricalsociety.org/event/eagle-bluff-light-station-open-to-the-public/2026-07-03/
LOCATION:Eagle Bluff Light Station\, 10249 Shore Road\, Fish Creek\, WI\, 54212\, United States
CATEGORIES:Eagle Bluff Light Station
END:VEVENT
BEGIN:VEVENT
DTSTART;TZID=America/Chicago:20260703T110000
DTEND;TZID=America/Chicago:20260703T160000
DTSTAMP:20260423T185907
CREATED:20260116T181911Z
LAST-MODIFIED:20260116T182139Z
UID:10002254-1783076400-1783094400@doorcountyhistoricalsociety.org
SUMMARY:Heritage Village Open to the Public
DESCRIPTION:
URL:https://doorcountyhistoricalsociety.org/event/heritage-village-open-to-the-public/2026-07-03/
LOCATION:Heritage Village\, 2041 Michigan St\, Sturgeon Bay\, WI\, 54235
CATEGORIES:Heritage Village
ORGANIZER;CN="Door County Historical Society":MAILTO:office@doorcountyhistoricalsociety.org
END:VEVENT
BEGIN:VEVENT
DTSTART;TZID=America/Chicago:20260705T110000
DTEND;TZID=America/Chicago:20260705T160000
DTSTAMP:20260423T185907
CREATED:20260116T181653Z
LAST-MODIFIED:20260415T203552Z
UID:10002050-1783249200-1783267200@doorcountyhistoricalsociety.org
SUMMARY:Eagle Bluff Light Station Open to the public
DESCRIPTION:
URL:https://doorcountyhistoricalsociety.org/event/eagle-bluff-light-station-open-to-the-public/2026-07-05/
LOCATION:Eagle Bluff Light Station\, 10249 Shore Road\, Fish Creek\, WI\, 54212\, United States
CATEGORIES:Eagle Bluff Light Station
END:VEVENT
BEGIN:VEVENT
DTSTART;TZID=America/Chicago:20260705T110000
DTEND;TZID=America/Chicago:20260705T160000
DTSTAMP:20260423T185907
CREATED:20260116T181911Z
LAST-MODIFIED:20260116T182139Z
UID:10002255-1783249200-1783267200@doorcountyhistoricalsociety.org
SUMMARY:Heritage Village Open to the Public
DESCRIPTION:
URL:https://doorcountyhistoricalsociety.org/event/heritage-village-open-to-the-public/2026-07-05/
LOCATION:Heritage Village\, 2041 Michigan St\, Sturgeon Bay\, WI\, 54235
CATEGORIES:Heritage Village
ORGANIZER;CN="Door County Historical Society":MAILTO:office@doorcountyhistoricalsociety.org
END:VEVENT
BEGIN:VEVENT
DTSTART;TZID=America/Chicago:20260706T110000
DTEND;TZID=America/Chicago:20260706T160000
DTSTAMP:20260423T185907
CREATED:20260116T181653Z
LAST-MODIFIED:20260415T203552Z
UID:10002051-1783335600-1783353600@doorcountyhistoricalsociety.org
SUMMARY:Eagle Bluff Light Station Open to the public
DESCRIPTION:
URL:https://doorcountyhistoricalsociety.org/event/eagle-bluff-light-station-open-to-the-public/2026-07-06/
LOCATION:Eagle Bluff Light Station\, 10249 Shore Road\, Fish Creek\, WI\, 54212\, United States
CATEGORIES:Eagle Bluff Light Station
END:VEVENT
BEGIN:VEVENT
DTSTART;TZID=America/Chicago:20260707T110000
DTEND;TZID=America/Chicago:20260707T160000
DTSTAMP:20260423T185907
CREATED:20260116T181653Z
LAST-MODIFIED:20260415T203552Z
UID:10002052-1783422000-1783440000@doorcountyhistoricalsociety.org
SUMMARY:Eagle Bluff Light Station Open to the public
DESCRIPTION:
URL:https://doorcountyhistoricalsociety.org/event/eagle-bluff-light-station-open-to-the-public/2026-07-07/
LOCATION:Eagle Bluff Light Station\, 10249 Shore Road\, Fish Creek\, WI\, 54212\, United States
CATEGORIES:Eagle Bluff Light Station
END:VEVENT
BEGIN:VEVENT
DTSTART;TZID=America/Chicago:20260708T110000
DTEND;TZID=America/Chicago:20260708T160000
DTSTAMP:20260423T185907
CREATED:20260116T181653Z
LAST-MODIFIED:20260415T203552Z
UID:10002053-1783508400-1783526400@doorcountyhistoricalsociety.org
SUMMARY:Eagle Bluff Light Station Open to the public
DESCRIPTION:
URL:https://doorcountyhistoricalsociety.org/event/eagle-bluff-light-station-open-to-the-public/2026-07-08/
LOCATION:Eagle Bluff Light Station\, 10249 Shore Road\, Fish Creek\, WI\, 54212\, United States
CATEGORIES:Eagle Bluff Light Station
END:VEVENT
BEGIN:VEVENT
DTSTART;TZID=America/Chicago:20260708T110000
DTEND;TZID=America/Chicago:20260708T160000
DTSTAMP:20260423T185907
CREATED:20260116T181911Z
LAST-MODIFIED:20260116T182139Z
UID:10002256-1783508400-1783526400@doorcountyhistoricalsociety.org
SUMMARY:Heritage Village Open to the Public
DESCRIPTION:
URL:https://doorcountyhistoricalsociety.org/event/heritage-village-open-to-the-public/2026-07-08/
LOCATION:Heritage Village\, 2041 Michigan St\, Sturgeon Bay\, WI\, 54235
CATEGORIES:Heritage Village
ORGANIZER;CN="Door County Historical Society":MAILTO:office@doorcountyhistoricalsociety.org
END:VEVENT
BEGIN:VEVENT
DTSTART;TZID=America/Chicago:20260709T110000
DTEND;TZID=America/Chicago:20260709T160000
DTSTAMP:20260423T185907
CREATED:20260116T181653Z
LAST-MODIFIED:20260415T203552Z
UID:10002054-1783594800-1783612800@doorcountyhistoricalsociety.org
SUMMARY:Eagle Bluff Light Station Open to the public
DESCRIPTION:
URL:https://doorcountyhistoricalsociety.org/event/eagle-bluff-light-station-open-to-the-public/2026-07-09/
LOCATION:Eagle Bluff Light Station\, 10249 Shore Road\, Fish Creek\, WI\, 54212\, United States
CATEGORIES:Eagle Bluff Light Station
END:VEVENT
BEGIN:VEVENT
DTSTART;TZID=America/Chicago:20260709T110000
DTEND;TZID=America/Chicago:20260709T160000
DTSTAMP:20260423T185907
CREATED:20260116T181911Z
LAST-MODIFIED:20260116T182139Z
UID:10002257-1783594800-1783612800@doorcountyhistoricalsociety.org
SUMMARY:Heritage Village Open to the Public
DESCRIPTION:
URL:https://doorcountyhistoricalsociety.org/event/heritage-village-open-to-the-public/2026-07-09/
LOCATION:Heritage Village\, 2041 Michigan St\, Sturgeon Bay\, WI\, 54235
CATEGORIES:Heritage Village
ORGANIZER;CN="Door County Historical Society":MAILTO:office@doorcountyhistoricalsociety.org
END:VEVENT
BEGIN:VEVENT
DTSTART;TZID=America/Chicago:20260710T110000
DTEND;TZID=America/Chicago:20260710T160000
DTSTAMP:20260423T185907
CREATED:20260116T181653Z
LAST-MODIFIED:20260415T203552Z
UID:10002055-1783681200-1783699200@doorcountyhistoricalsociety.org
SUMMARY:Eagle Bluff Light Station Open to the public
DESCRIPTION:
URL:https://doorcountyhistoricalsociety.org/event/eagle-bluff-light-station-open-to-the-public/2026-07-10/
LOCATION:Eagle Bluff Light Station\, 10249 Shore Road\, Fish Creek\, WI\, 54212\, United States
CATEGORIES:Eagle Bluff Light Station
END:VEVENT
BEGIN:VEVENT
DTSTART;TZID=America/Chicago:20260710T110000
DTEND;TZID=America/Chicago:20260710T160000
DTSTAMP:20260423T185907
CREATED:20260116T181911Z
LAST-MODIFIED:20260116T182139Z
UID:10002258-1783681200-1783699200@doorcountyhistoricalsociety.org
SUMMARY:Heritage Village Open to the Public
DESCRIPTION:
URL:https://doorcountyhistoricalsociety.org/event/heritage-village-open-to-the-public/2026-07-10/
LOCATION:Heritage Village\, 2041 Michigan St\, Sturgeon Bay\, WI\, 54235
CATEGORIES:Heritage Village
ORGANIZER;CN="Door County Historical Society":MAILTO:office@doorcountyhistoricalsociety.org
END:VEVENT
BEGIN:VEVENT
DTSTART;TZID=America/Chicago:20260711T110000
DTEND;TZID=America/Chicago:20260711T160000
DTSTAMP:20260423T185907
CREATED:20260116T181653Z
LAST-MODIFIED:20260415T203552Z
UID:10002056-1783767600-1783785600@doorcountyhistoricalsociety.org
SUMMARY:Eagle Bluff Light Station Open to the public
DESCRIPTION:
URL:https://doorcountyhistoricalsociety.org/event/eagle-bluff-light-station-open-to-the-public/2026-07-11/
LOCATION:Eagle Bluff Light Station\, 10249 Shore Road\, Fish Creek\, WI\, 54212\, United States
CATEGORIES:Eagle Bluff Light Station
END:VEVENT
BEGIN:VEVENT
DTSTART;TZID=America/Chicago:20260711T110000
DTEND;TZID=America/Chicago:20260711T160000
DTSTAMP:20260423T185907
CREATED:20260116T181911Z
LAST-MODIFIED:20260116T182139Z
UID:10002167-1783767600-1783785600@doorcountyhistoricalsociety.org
SUMMARY:Heritage Village Open to the Public
DESCRIPTION:
URL:https://doorcountyhistoricalsociety.org/event/heritage-village-open-to-the-public/2026-07-11/
LOCATION:Heritage Village\, 2041 Michigan St\, Sturgeon Bay\, WI\, 54235
CATEGORIES:Heritage Village
ORGANIZER;CN="Door County Historical Society":MAILTO:office@doorcountyhistoricalsociety.org
END:VEVENT
BEGIN:VEVENT
DTSTART;TZID=America/Chicago:20260712T110000
DTEND;TZID=America/Chicago:20260712T160000
DTSTAMP:20260423T185907
CREATED:20260116T181653Z
LAST-MODIFIED:20260415T203552Z
UID:10002057-1783854000-1783872000@doorcountyhistoricalsociety.org
SUMMARY:Eagle Bluff Light Station Open to the public
DESCRIPTION:
URL:https://doorcountyhistoricalsociety.org/event/eagle-bluff-light-station-open-to-the-public/2026-07-12/
LOCATION:Eagle Bluff Light Station\, 10249 Shore Road\, Fish Creek\, WI\, 54212\, United States
CATEGORIES:Eagle Bluff Light Station
END:VEVENT
BEGIN:VEVENT
DTSTART;TZID=America/Chicago:20260712T110000
DTEND;TZID=America/Chicago:20260712T160000
DTSTAMP:20260423T185907
CREATED:20260116T181911Z
LAST-MODIFIED:20260116T182139Z
UID:10002259-1783854000-1783872000@doorcountyhistoricalsociety.org
SUMMARY:Heritage Village Open to the Public
DESCRIPTION:
URL:https://doorcountyhistoricalsociety.org/event/heritage-village-open-to-the-public/2026-07-12/
LOCATION:Heritage Village\, 2041 Michigan St\, Sturgeon Bay\, WI\, 54235
CATEGORIES:Heritage Village
ORGANIZER;CN="Door County Historical Society":MAILTO:office@doorcountyhistoricalsociety.org
END:VEVENT
BEGIN:VEVENT
DTSTART;TZID=America/Chicago:20260713T110000
DTEND;TZID=America/Chicago:20260713T160000
DTSTAMP:20260423T185907
CREATED:20260116T181653Z
LAST-MODIFIED:20260415T203552Z
UID:10002058-1783940400-1783958400@doorcountyhistoricalsociety.org
SUMMARY:Eagle Bluff Light Station Open to the public
DESCRIPTION:
URL:https://doorcountyhistoricalsociety.org/event/eagle-bluff-light-station-open-to-the-public/2026-07-13/
LOCATION:Eagle Bluff Light Station\, 10249 Shore Road\, Fish Creek\, WI\, 54212\, United States
CATEGORIES:Eagle Bluff Light Station
END:VEVENT
BEGIN:VEVENT
DTSTART;TZID=America/Chicago:20260714T110000
DTEND;TZID=America/Chicago:20260714T160000
DTSTAMP:20260423T185907
CREATED:20260116T181653Z
LAST-MODIFIED:20260415T203552Z
UID:10002059-1784026800-1784044800@doorcountyhistoricalsociety.org
SUMMARY:Eagle Bluff Light Station Open to the public
DESCRIPTION:
URL:https://doorcountyhistoricalsociety.org/event/eagle-bluff-light-station-open-to-the-public/2026-07-14/
LOCATION:Eagle Bluff Light Station\, 10249 Shore Road\, Fish Creek\, WI\, 54212\, United States
CATEGORIES:Eagle Bluff Light Station
END:VEVENT
BEGIN:VEVENT
DTSTART;TZID=America/Chicago:20260715T110000
DTEND;TZID=America/Chicago:20260715T160000
DTSTAMP:20260423T185907
CREATED:20260116T181653Z
LAST-MODIFIED:20260415T203552Z
UID:10002060-1784113200-1784131200@doorcountyhistoricalsociety.org
SUMMARY:Eagle Bluff Light Station Open to the public
DESCRIPTION:
URL:https://doorcountyhistoricalsociety.org/event/eagle-bluff-light-station-open-to-the-public/2026-07-15/
LOCATION:Eagle Bluff Light Station\, 10249 Shore Road\, Fish Creek\, WI\, 54212\, United States
CATEGORIES:Eagle Bluff Light Station
END:VEVENT
BEGIN:VEVENT
DTSTART;TZID=America/Chicago:20260715T110000
DTEND;TZID=America/Chicago:20260715T160000
DTSTAMP:20260423T185907
CREATED:20260116T181911Z
LAST-MODIFIED:20260116T182139Z
UID:10002260-1784113200-1784131200@doorcountyhistoricalsociety.org
SUMMARY:Heritage Village Open to the Public
DESCRIPTION:
URL:https://doorcountyhistoricalsociety.org/event/heritage-village-open-to-the-public/2026-07-15/
LOCATION:Heritage Village\, 2041 Michigan St\, Sturgeon Bay\, WI\, 54235
CATEGORIES:Heritage Village
ORGANIZER;CN="Door County Historical Society":MAILTO:office@doorcountyhistoricalsociety.org
END:VEVENT
BEGIN:VEVENT
DTSTART;TZID=America/Chicago:20260716T110000
DTEND;TZID=America/Chicago:20260716T160000
DTSTAMP:20260423T185907
CREATED:20260116T181653Z
LAST-MODIFIED:20260415T203552Z
UID:10002061-1784199600-1784217600@doorcountyhistoricalsociety.org
SUMMARY:Eagle Bluff Light Station Open to the public
DESCRIPTION:
URL:https://doorcountyhistoricalsociety.org/event/eagle-bluff-light-station-open-to-the-public/2026-07-16/
LOCATION:Eagle Bluff Light Station\, 10249 Shore Road\, Fish Creek\, WI\, 54212\, United States
CATEGORIES:Eagle Bluff Light Station
END:VEVENT
BEGIN:VEVENT
DTSTART;TZID=America/Chicago:20260716T110000
DTEND;TZID=America/Chicago:20260716T160000
DTSTAMP:20260423T185907
CREATED:20260116T181911Z
LAST-MODIFIED:20260116T182139Z
UID:10002261-1784199600-1784217600@doorcountyhistoricalsociety.org
SUMMARY:Heritage Village Open to the Public
DESCRIPTION:
URL:https://doorcountyhistoricalsociety.org/event/heritage-village-open-to-the-public/2026-07-16/
LOCATION:Heritage Village\, 2041 Michigan St\, Sturgeon Bay\, WI\, 54235
CATEGORIES:Heritage Village
ORGANIZER;CN="Door County Historical Society":MAILTO:office@doorcountyhistoricalsociety.org
END:VEVENT
BEGIN:VEVENT
DTSTART;TZID=America/Chicago:20260717T110000
DTEND;TZID=America/Chicago:20260717T160000
DTSTAMP:20260423T185907
CREATED:20260116T181653Z
LAST-MODIFIED:20260415T203552Z
UID:10002062-1784286000-1784304000@doorcountyhistoricalsociety.org
SUMMARY:Eagle Bluff Light Station Open to the public
DESCRIPTION:
URL:https://doorcountyhistoricalsociety.org/event/eagle-bluff-light-station-open-to-the-public/2026-07-17/
LOCATION:Eagle Bluff Light Station\, 10249 Shore Road\, Fish Creek\, WI\, 54212\, United States
CATEGORIES:Eagle Bluff Light Station
END:VEVENT
BEGIN:VEVENT
DTSTART;TZID=America/Chicago:20260717T110000
DTEND;TZID=America/Chicago:20260717T160000
DTSTAMP:20260423T185907
CREATED:20260116T181911Z
LAST-MODIFIED:20260116T182139Z
UID:10002262-1784286000-1784304000@doorcountyhistoricalsociety.org
SUMMARY:Heritage Village Open to the Public
DESCRIPTION:
URL:https://doorcountyhistoricalsociety.org/event/heritage-village-open-to-the-public/2026-07-17/
LOCATION:Heritage Village\, 2041 Michigan St\, Sturgeon Bay\, WI\, 54235
CATEGORIES:Heritage Village
ORGANIZER;CN="Door County Historical Society":MAILTO:office@doorcountyhistoricalsociety.org
END:VEVENT
BEGIN:VEVENT
DTSTART;TZID=America/Chicago:20260718T110000
DTEND;TZID=America/Chicago:20260718T160000
DTSTAMP:20260423T185907
CREATED:20260116T181653Z
LAST-MODIFIED:20260415T203552Z
UID:10002063-1784372400-1784390400@doorcountyhistoricalsociety.org
SUMMARY:Eagle Bluff Light Station Open to the public
DESCRIPTION:
URL:https://doorcountyhistoricalsociety.org/event/eagle-bluff-light-station-open-to-the-public/2026-07-18/
LOCATION:Eagle Bluff Light Station\, 10249 Shore Road\, Fish Creek\, WI\, 54212\, United States
CATEGORIES:Eagle Bluff Light Station
END:VEVENT
BEGIN:VEVENT
DTSTART;TZID=America/Chicago:20260718T110000
DTEND;TZID=America/Chicago:20260718T160000
DTSTAMP:20260423T185907
CREATED:20260116T181911Z
LAST-MODIFIED:20260116T182139Z
UID:10002168-1784372400-1784390400@doorcountyhistoricalsociety.org
SUMMARY:Heritage Village Open to the Public
DESCRIPTION:
URL:https://doorcountyhistoricalsociety.org/event/heritage-village-open-to-the-public/2026-07-18/
LOCATION:Heritage Village\, 2041 Michigan St\, Sturgeon Bay\, WI\, 54235
CATEGORIES:Heritage Village
ORGANIZER;CN="Door County Historical Society":MAILTO:office@doorcountyhistoricalsociety.org
END:VEVENT
END:VCALENDAR