BEGIN:VCALENDAR
VERSION:2.0
PRODID:-//Door County Historical Society - ECPv6.15.20//NONSGML v1.0//EN
CALSCALE:GREGORIAN
METHOD:PUBLISH
X-WR-CALNAME:Door County Historical Society
X-ORIGINAL-URL:https://doorcountyhistoricalsociety.org
X-WR-CALDESC:Events for Door County Historical Society
REFRESH-INTERVAL;VALUE=DURATION:PT1H
X-Robots-Tag:noindex
X-PUBLISHED-TTL:PT1H
BEGIN:VTIMEZONE
TZID:America/Chicago
BEGIN:DAYLIGHT
TZOFFSETFROM:-0600
TZOFFSETTO:-0500
TZNAME:CDT
DTSTART:20250309T080000
END:DAYLIGHT
BEGIN:STANDARD
TZOFFSETFROM:-0500
TZOFFSETTO:-0600
TZNAME:CST
DTSTART:20251102T070000
END:STANDARD
BEGIN:DAYLIGHT
TZOFFSETFROM:-0600
TZOFFSETTO:-0500
TZNAME:CDT
DTSTART:20260308T080000
END:DAYLIGHT
BEGIN:STANDARD
TZOFFSETFROM:-0500
TZOFFSETTO:-0600
TZNAME:CST
DTSTART:20261101T070000
END:STANDARD
BEGIN:DAYLIGHT
TZOFFSETFROM:-0600
TZOFFSETTO:-0500
TZNAME:CDT
DTSTART:20270314T080000
END:DAYLIGHT
BEGIN:STANDARD
TZOFFSETFROM:-0500
TZOFFSETTO:-0600
TZNAME:CST
DTSTART:20271107T070000
END:STANDARD
END:VTIMEZONE
BEGIN:VEVENT
DTSTART;TZID=America/Chicago:20260822T110000
DTEND;TZID=America/Chicago:20260822T160000
DTSTAMP:20260424T053825
CREATED:20260116T181653Z
LAST-MODIFIED:20260415T203552Z
UID:10002098-1787396400-1787414400@doorcountyhistoricalsociety.org
SUMMARY:Eagle Bluff Light Station Open to the public
DESCRIPTION:
URL:https://doorcountyhistoricalsociety.org/event/eagle-bluff-light-station-open-to-the-public/2026-08-22/
LOCATION:Eagle Bluff Light Station\, 10249 Shore Road\, Fish Creek\, WI\, 54212\, United States
CATEGORIES:Eagle Bluff Light Station
END:VEVENT
BEGIN:VEVENT
DTSTART;TZID=America/Chicago:20260822T110000
DTEND;TZID=America/Chicago:20260822T160000
DTSTAMP:20260424T053825
CREATED:20260116T181911Z
LAST-MODIFIED:20260116T182139Z
UID:10002173-1787396400-1787414400@doorcountyhistoricalsociety.org
SUMMARY:Heritage Village Open to the Public
DESCRIPTION:
URL:https://doorcountyhistoricalsociety.org/event/heritage-village-open-to-the-public/2026-08-22/
LOCATION:Heritage Village\, 2041 Michigan St\, Sturgeon Bay\, WI\, 54235
CATEGORIES:Heritage Village
ORGANIZER;CN="Door County Historical Society":MAILTO:office@doorcountyhistoricalsociety.org
END:VEVENT
BEGIN:VEVENT
DTSTART;TZID=America/Chicago:20260823T110000
DTEND;TZID=America/Chicago:20260823T160000
DTSTAMP:20260424T053825
CREATED:20260116T181653Z
LAST-MODIFIED:20260415T203552Z
UID:10002099-1787482800-1787500800@doorcountyhistoricalsociety.org
SUMMARY:Eagle Bluff Light Station Open to the public
DESCRIPTION:
URL:https://doorcountyhistoricalsociety.org/event/eagle-bluff-light-station-open-to-the-public/2026-08-23/
LOCATION:Eagle Bluff Light Station\, 10249 Shore Road\, Fish Creek\, WI\, 54212\, United States
CATEGORIES:Eagle Bluff Light Station
END:VEVENT
BEGIN:VEVENT
DTSTART;TZID=America/Chicago:20260823T110000
DTEND;TZID=America/Chicago:20260823T160000
DTSTAMP:20260424T053825
CREATED:20260116T181911Z
LAST-MODIFIED:20260116T182139Z
UID:10002283-1787482800-1787500800@doorcountyhistoricalsociety.org
SUMMARY:Heritage Village Open to the Public
DESCRIPTION:
URL:https://doorcountyhistoricalsociety.org/event/heritage-village-open-to-the-public/2026-08-23/
LOCATION:Heritage Village\, 2041 Michigan St\, Sturgeon Bay\, WI\, 54235
CATEGORIES:Heritage Village
ORGANIZER;CN="Door County Historical Society":MAILTO:office@doorcountyhistoricalsociety.org
END:VEVENT
BEGIN:VEVENT
DTSTART;TZID=America/Chicago:20260824T110000
DTEND;TZID=America/Chicago:20260824T160000
DTSTAMP:20260424T053825
CREATED:20260116T181653Z
LAST-MODIFIED:20260415T203552Z
UID:10002100-1787569200-1787587200@doorcountyhistoricalsociety.org
SUMMARY:Eagle Bluff Light Station Open to the public
DESCRIPTION:
URL:https://doorcountyhistoricalsociety.org/event/eagle-bluff-light-station-open-to-the-public/2026-08-24/
LOCATION:Eagle Bluff Light Station\, 10249 Shore Road\, Fish Creek\, WI\, 54212\, United States
CATEGORIES:Eagle Bluff Light Station
END:VEVENT
BEGIN:VEVENT
DTSTART;TZID=America/Chicago:20260824T180000
DTEND;TZID=America/Chicago:20260824T200000
DTSTAMP:20260424T053825
CREATED:20260116T181113Z
LAST-MODIFIED:20260116T181113Z
UID:10002003-1787594400-1787601600@doorcountyhistoricalsociety.org
SUMMARY:August Dine & Discover Program
DESCRIPTION:Details TBD
URL:https://doorcountyhistoricalsociety.org/event/august-dine-discover-program-2/
LOCATION:WI
CATEGORIES:Dine & Discover Programs
ORGANIZER;CN="Door County Historical Society":MAILTO:office@doorcountyhistoricalsociety.org
END:VEVENT
BEGIN:VEVENT
DTSTART;TZID=America/Chicago:20260825T110000
DTEND;TZID=America/Chicago:20260825T160000
DTSTAMP:20260424T053825
CREATED:20260116T181653Z
LAST-MODIFIED:20260415T203552Z
UID:10002101-1787655600-1787673600@doorcountyhistoricalsociety.org
SUMMARY:Eagle Bluff Light Station Open to the public
DESCRIPTION:
URL:https://doorcountyhistoricalsociety.org/event/eagle-bluff-light-station-open-to-the-public/2026-08-25/
LOCATION:Eagle Bluff Light Station\, 10249 Shore Road\, Fish Creek\, WI\, 54212\, United States
CATEGORIES:Eagle Bluff Light Station
END:VEVENT
BEGIN:VEVENT
DTSTART;TZID=America/Chicago:20260826T110000
DTEND;TZID=America/Chicago:20260826T160000
DTSTAMP:20260424T053825
CREATED:20260116T181653Z
LAST-MODIFIED:20260415T203552Z
UID:10002102-1787742000-1787760000@doorcountyhistoricalsociety.org
SUMMARY:Eagle Bluff Light Station Open to the public
DESCRIPTION:
URL:https://doorcountyhistoricalsociety.org/event/eagle-bluff-light-station-open-to-the-public/2026-08-26/
LOCATION:Eagle Bluff Light Station\, 10249 Shore Road\, Fish Creek\, WI\, 54212\, United States
CATEGORIES:Eagle Bluff Light Station
END:VEVENT
BEGIN:VEVENT
DTSTART;TZID=America/Chicago:20260826T110000
DTEND;TZID=America/Chicago:20260826T160000
DTSTAMP:20260424T053825
CREATED:20260116T181911Z
LAST-MODIFIED:20260116T182139Z
UID:10002284-1787742000-1787760000@doorcountyhistoricalsociety.org
SUMMARY:Heritage Village Open to the Public
DESCRIPTION:
URL:https://doorcountyhistoricalsociety.org/event/heritage-village-open-to-the-public/2026-08-26/
LOCATION:Heritage Village\, 2041 Michigan St\, Sturgeon Bay\, WI\, 54235
CATEGORIES:Heritage Village
ORGANIZER;CN="Door County Historical Society":MAILTO:office@doorcountyhistoricalsociety.org
END:VEVENT
BEGIN:VEVENT
DTSTART;TZID=America/Chicago:20260827T110000
DTEND;TZID=America/Chicago:20260827T160000
DTSTAMP:20260424T053825
CREATED:20260116T181653Z
LAST-MODIFIED:20260415T203552Z
UID:10002103-1787828400-1787846400@doorcountyhistoricalsociety.org
SUMMARY:Eagle Bluff Light Station Open to the public
DESCRIPTION:
URL:https://doorcountyhistoricalsociety.org/event/eagle-bluff-light-station-open-to-the-public/2026-08-27/
LOCATION:Eagle Bluff Light Station\, 10249 Shore Road\, Fish Creek\, WI\, 54212\, United States
CATEGORIES:Eagle Bluff Light Station
END:VEVENT
BEGIN:VEVENT
DTSTART;TZID=America/Chicago:20260827T110000
DTEND;TZID=America/Chicago:20260827T160000
DTSTAMP:20260424T053825
CREATED:20260116T181911Z
LAST-MODIFIED:20260116T182139Z
UID:10002285-1787828400-1787846400@doorcountyhistoricalsociety.org
SUMMARY:Heritage Village Open to the Public
DESCRIPTION:
URL:https://doorcountyhistoricalsociety.org/event/heritage-village-open-to-the-public/2026-08-27/
LOCATION:Heritage Village\, 2041 Michigan St\, Sturgeon Bay\, WI\, 54235
CATEGORIES:Heritage Village
ORGANIZER;CN="Door County Historical Society":MAILTO:office@doorcountyhistoricalsociety.org
END:VEVENT
BEGIN:VEVENT
DTSTART;TZID=America/Chicago:20260828T110000
DTEND;TZID=America/Chicago:20260828T160000
DTSTAMP:20260424T053825
CREATED:20260116T181653Z
LAST-MODIFIED:20260415T203552Z
UID:10002104-1787914800-1787932800@doorcountyhistoricalsociety.org
SUMMARY:Eagle Bluff Light Station Open to the public
DESCRIPTION:
URL:https://doorcountyhistoricalsociety.org/event/eagle-bluff-light-station-open-to-the-public/2026-08-28/
LOCATION:Eagle Bluff Light Station\, 10249 Shore Road\, Fish Creek\, WI\, 54212\, United States
CATEGORIES:Eagle Bluff Light Station
END:VEVENT
BEGIN:VEVENT
DTSTART;TZID=America/Chicago:20260828T110000
DTEND;TZID=America/Chicago:20260828T160000
DTSTAMP:20260424T053825
CREATED:20260116T181911Z
LAST-MODIFIED:20260116T182139Z
UID:10002286-1787914800-1787932800@doorcountyhistoricalsociety.org
SUMMARY:Heritage Village Open to the Public
DESCRIPTION:
URL:https://doorcountyhistoricalsociety.org/event/heritage-village-open-to-the-public/2026-08-28/
LOCATION:Heritage Village\, 2041 Michigan St\, Sturgeon Bay\, WI\, 54235
CATEGORIES:Heritage Village
ORGANIZER;CN="Door County Historical Society":MAILTO:office@doorcountyhistoricalsociety.org
END:VEVENT
BEGIN:VEVENT
DTSTART;TZID=America/Chicago:20260829T110000
DTEND;TZID=America/Chicago:20260829T160000
DTSTAMP:20260424T053825
CREATED:20260116T181653Z
LAST-MODIFIED:20260415T203552Z
UID:10002105-1788001200-1788019200@doorcountyhistoricalsociety.org
SUMMARY:Eagle Bluff Light Station Open to the public
DESCRIPTION:
URL:https://doorcountyhistoricalsociety.org/event/eagle-bluff-light-station-open-to-the-public/2026-08-29/
LOCATION:Eagle Bluff Light Station\, 10249 Shore Road\, Fish Creek\, WI\, 54212\, United States
CATEGORIES:Eagle Bluff Light Station
END:VEVENT
BEGIN:VEVENT
DTSTART;TZID=America/Chicago:20260829T110000
DTEND;TZID=America/Chicago:20260829T160000
DTSTAMP:20260424T053826
CREATED:20260116T181911Z
LAST-MODIFIED:20260116T182139Z
UID:10002174-1788001200-1788019200@doorcountyhistoricalsociety.org
SUMMARY:Heritage Village Open to the Public
DESCRIPTION:
URL:https://doorcountyhistoricalsociety.org/event/heritage-village-open-to-the-public/2026-08-29/
LOCATION:Heritage Village\, 2041 Michigan St\, Sturgeon Bay\, WI\, 54235
CATEGORIES:Heritage Village
ORGANIZER;CN="Door County Historical Society":MAILTO:office@doorcountyhistoricalsociety.org
END:VEVENT
BEGIN:VEVENT
DTSTART;TZID=America/Chicago:20260830T110000
DTEND;TZID=America/Chicago:20260830T160000
DTSTAMP:20260424T053826
CREATED:20260116T181653Z
LAST-MODIFIED:20260415T203552Z
UID:10002106-1788087600-1788105600@doorcountyhistoricalsociety.org
SUMMARY:Eagle Bluff Light Station Open to the public
DESCRIPTION:
URL:https://doorcountyhistoricalsociety.org/event/eagle-bluff-light-station-open-to-the-public/2026-08-30/
LOCATION:Eagle Bluff Light Station\, 10249 Shore Road\, Fish Creek\, WI\, 54212\, United States
CATEGORIES:Eagle Bluff Light Station
END:VEVENT
BEGIN:VEVENT
DTSTART;TZID=America/Chicago:20260830T110000
DTEND;TZID=America/Chicago:20260830T160000
DTSTAMP:20260424T053826
CREATED:20260116T181911Z
LAST-MODIFIED:20260116T182139Z
UID:10002287-1788087600-1788105600@doorcountyhistoricalsociety.org
SUMMARY:Heritage Village Open to the Public
DESCRIPTION:
URL:https://doorcountyhistoricalsociety.org/event/heritage-village-open-to-the-public/2026-08-30/
LOCATION:Heritage Village\, 2041 Michigan St\, Sturgeon Bay\, WI\, 54235
CATEGORIES:Heritage Village
ORGANIZER;CN="Door County Historical Society":MAILTO:office@doorcountyhistoricalsociety.org
END:VEVENT
BEGIN:VEVENT
DTSTART;TZID=America/Chicago:20260831T110000
DTEND;TZID=America/Chicago:20260831T160000
DTSTAMP:20260424T053826
CREATED:20260116T181653Z
LAST-MODIFIED:20260415T203552Z
UID:10002107-1788174000-1788192000@doorcountyhistoricalsociety.org
SUMMARY:Eagle Bluff Light Station Open to the public
DESCRIPTION:
URL:https://doorcountyhistoricalsociety.org/event/eagle-bluff-light-station-open-to-the-public/2026-08-31/
LOCATION:Eagle Bluff Light Station\, 10249 Shore Road\, Fish Creek\, WI\, 54212\, United States
CATEGORIES:Eagle Bluff Light Station
END:VEVENT
BEGIN:VEVENT
DTSTART;TZID=America/Chicago:20260901T110000
DTEND;TZID=America/Chicago:20260901T160000
DTSTAMP:20260424T053826
CREATED:20260116T181653Z
LAST-MODIFIED:20260415T203552Z
UID:10002108-1788260400-1788278400@doorcountyhistoricalsociety.org
SUMMARY:Eagle Bluff Light Station Open to the public
DESCRIPTION:
URL:https://doorcountyhistoricalsociety.org/event/eagle-bluff-light-station-open-to-the-public/2026-09-01/
LOCATION:Eagle Bluff Light Station\, 10249 Shore Road\, Fish Creek\, WI\, 54212\, United States
CATEGORIES:Eagle Bluff Light Station
END:VEVENT
BEGIN:VEVENT
DTSTART;TZID=America/Chicago:20260902T110000
DTEND;TZID=America/Chicago:20260902T160000
DTSTAMP:20260424T053826
CREATED:20260116T181653Z
LAST-MODIFIED:20260415T203552Z
UID:10002109-1788346800-1788364800@doorcountyhistoricalsociety.org
SUMMARY:Eagle Bluff Light Station Open to the public
DESCRIPTION:
URL:https://doorcountyhistoricalsociety.org/event/eagle-bluff-light-station-open-to-the-public/2026-09-02/
LOCATION:Eagle Bluff Light Station\, 10249 Shore Road\, Fish Creek\, WI\, 54212\, United States
CATEGORIES:Eagle Bluff Light Station
END:VEVENT
BEGIN:VEVENT
DTSTART;TZID=America/Chicago:20260902T110000
DTEND;TZID=America/Chicago:20260902T160000
DTSTAMP:20260424T053826
CREATED:20260116T181911Z
LAST-MODIFIED:20260116T182139Z
UID:10002288-1788346800-1788364800@doorcountyhistoricalsociety.org
SUMMARY:Heritage Village Open to the Public
DESCRIPTION:
URL:https://doorcountyhistoricalsociety.org/event/heritage-village-open-to-the-public/2026-09-02/
LOCATION:Heritage Village\, 2041 Michigan St\, Sturgeon Bay\, WI\, 54235
CATEGORIES:Heritage Village
ORGANIZER;CN="Door County Historical Society":MAILTO:office@doorcountyhistoricalsociety.org
END:VEVENT
BEGIN:VEVENT
DTSTART;TZID=America/Chicago:20260903T110000
DTEND;TZID=America/Chicago:20260903T160000
DTSTAMP:20260424T053826
CREATED:20260116T181653Z
LAST-MODIFIED:20260415T203552Z
UID:10002110-1788433200-1788451200@doorcountyhistoricalsociety.org
SUMMARY:Eagle Bluff Light Station Open to the public
DESCRIPTION:
URL:https://doorcountyhistoricalsociety.org/event/eagle-bluff-light-station-open-to-the-public/2026-09-03/
LOCATION:Eagle Bluff Light Station\, 10249 Shore Road\, Fish Creek\, WI\, 54212\, United States
CATEGORIES:Eagle Bluff Light Station
END:VEVENT
BEGIN:VEVENT
DTSTART;TZID=America/Chicago:20260903T110000
DTEND;TZID=America/Chicago:20260903T160000
DTSTAMP:20260424T053826
CREATED:20260116T181911Z
LAST-MODIFIED:20260116T182139Z
UID:10002289-1788433200-1788451200@doorcountyhistoricalsociety.org
SUMMARY:Heritage Village Open to the Public
DESCRIPTION:
URL:https://doorcountyhistoricalsociety.org/event/heritage-village-open-to-the-public/2026-09-03/
LOCATION:Heritage Village\, 2041 Michigan St\, Sturgeon Bay\, WI\, 54235
CATEGORIES:Heritage Village
ORGANIZER;CN="Door County Historical Society":MAILTO:office@doorcountyhistoricalsociety.org
END:VEVENT
BEGIN:VEVENT
DTSTART;TZID=America/Chicago:20260904T110000
DTEND;TZID=America/Chicago:20260904T160000
DTSTAMP:20260424T053826
CREATED:20260116T181653Z
LAST-MODIFIED:20260415T203552Z
UID:10002111-1788519600-1788537600@doorcountyhistoricalsociety.org
SUMMARY:Eagle Bluff Light Station Open to the public
DESCRIPTION:
URL:https://doorcountyhistoricalsociety.org/event/eagle-bluff-light-station-open-to-the-public/2026-09-04/
LOCATION:Eagle Bluff Light Station\, 10249 Shore Road\, Fish Creek\, WI\, 54212\, United States
CATEGORIES:Eagle Bluff Light Station
END:VEVENT
BEGIN:VEVENT
DTSTART;TZID=America/Chicago:20260904T110000
DTEND;TZID=America/Chicago:20260904T160000
DTSTAMP:20260424T053826
CREATED:20260116T181911Z
LAST-MODIFIED:20260116T182139Z
UID:10002290-1788519600-1788537600@doorcountyhistoricalsociety.org
SUMMARY:Heritage Village Open to the Public
DESCRIPTION:
URL:https://doorcountyhistoricalsociety.org/event/heritage-village-open-to-the-public/2026-09-04/
LOCATION:Heritage Village\, 2041 Michigan St\, Sturgeon Bay\, WI\, 54235
CATEGORIES:Heritage Village
ORGANIZER;CN="Door County Historical Society":MAILTO:office@doorcountyhistoricalsociety.org
END:VEVENT
BEGIN:VEVENT
DTSTART;TZID=America/Chicago:20260905T110000
DTEND;TZID=America/Chicago:20260905T160000
DTSTAMP:20260424T053826
CREATED:20260116T181653Z
LAST-MODIFIED:20260415T203552Z
UID:10002112-1788606000-1788624000@doorcountyhistoricalsociety.org
SUMMARY:Eagle Bluff Light Station Open to the public
DESCRIPTION:
URL:https://doorcountyhistoricalsociety.org/event/eagle-bluff-light-station-open-to-the-public/2026-09-05/
LOCATION:Eagle Bluff Light Station\, 10249 Shore Road\, Fish Creek\, WI\, 54212\, United States
CATEGORIES:Eagle Bluff Light Station
END:VEVENT
BEGIN:VEVENT
DTSTART;TZID=America/Chicago:20260905T110000
DTEND;TZID=America/Chicago:20260905T160000
DTSTAMP:20260424T053826
CREATED:20260116T181911Z
LAST-MODIFIED:20260116T182139Z
UID:10002175-1788606000-1788624000@doorcountyhistoricalsociety.org
SUMMARY:Heritage Village Open to the Public
DESCRIPTION:
URL:https://doorcountyhistoricalsociety.org/event/heritage-village-open-to-the-public/2026-09-05/
LOCATION:Heritage Village\, 2041 Michigan St\, Sturgeon Bay\, WI\, 54235
CATEGORIES:Heritage Village
ORGANIZER;CN="Door County Historical Society":MAILTO:office@doorcountyhistoricalsociety.org
END:VEVENT
BEGIN:VEVENT
DTSTART;TZID=America/Chicago:20260906T110000
DTEND;TZID=America/Chicago:20260906T160000
DTSTAMP:20260424T053826
CREATED:20260116T181653Z
LAST-MODIFIED:20260415T203552Z
UID:10002113-1788692400-1788710400@doorcountyhistoricalsociety.org
SUMMARY:Eagle Bluff Light Station Open to the public
DESCRIPTION:
URL:https://doorcountyhistoricalsociety.org/event/eagle-bluff-light-station-open-to-the-public/2026-09-06/
LOCATION:Eagle Bluff Light Station\, 10249 Shore Road\, Fish Creek\, WI\, 54212\, United States
CATEGORIES:Eagle Bluff Light Station
END:VEVENT
BEGIN:VEVENT
DTSTART;TZID=America/Chicago:20260906T110000
DTEND;TZID=America/Chicago:20260906T160000
DTSTAMP:20260424T053826
CREATED:20260116T181911Z
LAST-MODIFIED:20260116T182139Z
UID:10002291-1788692400-1788710400@doorcountyhistoricalsociety.org
SUMMARY:Heritage Village Open to the Public
DESCRIPTION:
URL:https://doorcountyhistoricalsociety.org/event/heritage-village-open-to-the-public/2026-09-06/
LOCATION:Heritage Village\, 2041 Michigan St\, Sturgeon Bay\, WI\, 54235
CATEGORIES:Heritage Village
ORGANIZER;CN="Door County Historical Society":MAILTO:office@doorcountyhistoricalsociety.org
END:VEVENT
BEGIN:VEVENT
DTSTART;TZID=America/Chicago:20260907T110000
DTEND;TZID=America/Chicago:20260907T160000
DTSTAMP:20260424T053826
CREATED:20260116T181653Z
LAST-MODIFIED:20260415T203552Z
UID:10002114-1788778800-1788796800@doorcountyhistoricalsociety.org
SUMMARY:Eagle Bluff Light Station Open to the public
DESCRIPTION:
URL:https://doorcountyhistoricalsociety.org/event/eagle-bluff-light-station-open-to-the-public/2026-09-07/
LOCATION:Eagle Bluff Light Station\, 10249 Shore Road\, Fish Creek\, WI\, 54212\, United States
CATEGORIES:Eagle Bluff Light Station
END:VEVENT
END:VCALENDAR