BEGIN:VCALENDAR
VERSION:2.0
PRODID:-//Door County Historical Society - ECPv6.15.20//NONSGML v1.0//EN
CALSCALE:GREGORIAN
METHOD:PUBLISH
X-WR-CALNAME:Door County Historical Society
X-ORIGINAL-URL:https://doorcountyhistoricalsociety.org
X-WR-CALDESC:Events for Door County Historical Society
REFRESH-INTERVAL;VALUE=DURATION:PT1H
X-Robots-Tag:noindex
X-PUBLISHED-TTL:PT1H
BEGIN:VTIMEZONE
TZID:America/Chicago
BEGIN:DAYLIGHT
TZOFFSETFROM:-0600
TZOFFSETTO:-0500
TZNAME:CDT
DTSTART:20250309T080000
END:DAYLIGHT
BEGIN:STANDARD
TZOFFSETFROM:-0500
TZOFFSETTO:-0600
TZNAME:CST
DTSTART:20251102T070000
END:STANDARD
BEGIN:DAYLIGHT
TZOFFSETFROM:-0600
TZOFFSETTO:-0500
TZNAME:CDT
DTSTART:20260308T080000
END:DAYLIGHT
BEGIN:STANDARD
TZOFFSETFROM:-0500
TZOFFSETTO:-0600
TZNAME:CST
DTSTART:20261101T070000
END:STANDARD
BEGIN:DAYLIGHT
TZOFFSETFROM:-0600
TZOFFSETTO:-0500
TZNAME:CDT
DTSTART:20270314T080000
END:DAYLIGHT
BEGIN:STANDARD
TZOFFSETFROM:-0500
TZOFFSETTO:-0600
TZNAME:CST
DTSTART:20271107T070000
END:STANDARD
END:VTIMEZONE
BEGIN:VEVENT
DTSTART;TZID=America/Chicago:20260916T110000
DTEND;TZID=America/Chicago:20260916T160000
DTSTAMP:20260424T105848
CREATED:20260116T181653Z
LAST-MODIFIED:20260415T203552Z
UID:10002123-1789556400-1789574400@doorcountyhistoricalsociety.org
SUMMARY:Eagle Bluff Light Station Open to the public
DESCRIPTION:
URL:https://doorcountyhistoricalsociety.org/event/eagle-bluff-light-station-open-to-the-public/2026-09-16/
LOCATION:Eagle Bluff Light Station\, 10249 Shore Road\, Fish Creek\, WI\, 54212\, United States
CATEGORIES:Eagle Bluff Light Station
END:VEVENT
BEGIN:VEVENT
DTSTART;TZID=America/Chicago:20260916T110000
DTEND;TZID=America/Chicago:20260916T160000
DTSTAMP:20260424T105848
CREATED:20260116T181911Z
LAST-MODIFIED:20260116T182139Z
UID:10002296-1789556400-1789574400@doorcountyhistoricalsociety.org
SUMMARY:Heritage Village Open to the Public
DESCRIPTION:
URL:https://doorcountyhistoricalsociety.org/event/heritage-village-open-to-the-public/2026-09-16/
LOCATION:Heritage Village\, 2041 Michigan St\, Sturgeon Bay\, WI\, 54235
CATEGORIES:Heritage Village
ORGANIZER;CN="Door County Historical Society":MAILTO:office@doorcountyhistoricalsociety.org
END:VEVENT
BEGIN:VEVENT
DTSTART;TZID=America/Chicago:20260917T110000
DTEND;TZID=America/Chicago:20260917T160000
DTSTAMP:20260424T105848
CREATED:20260116T181653Z
LAST-MODIFIED:20260415T203552Z
UID:10002124-1789642800-1789660800@doorcountyhistoricalsociety.org
SUMMARY:Eagle Bluff Light Station Open to the public
DESCRIPTION:
URL:https://doorcountyhistoricalsociety.org/event/eagle-bluff-light-station-open-to-the-public/2026-09-17/
LOCATION:Eagle Bluff Light Station\, 10249 Shore Road\, Fish Creek\, WI\, 54212\, United States
CATEGORIES:Eagle Bluff Light Station
END:VEVENT
BEGIN:VEVENT
DTSTART;TZID=America/Chicago:20260917T110000
DTEND;TZID=America/Chicago:20260917T160000
DTSTAMP:20260424T105848
CREATED:20260116T181911Z
LAST-MODIFIED:20260116T182139Z
UID:10002297-1789642800-1789660800@doorcountyhistoricalsociety.org
SUMMARY:Heritage Village Open to the Public
DESCRIPTION:
URL:https://doorcountyhistoricalsociety.org/event/heritage-village-open-to-the-public/2026-09-17/
LOCATION:Heritage Village\, 2041 Michigan St\, Sturgeon Bay\, WI\, 54235
CATEGORIES:Heritage Village
ORGANIZER;CN="Door County Historical Society":MAILTO:office@doorcountyhistoricalsociety.org
END:VEVENT
BEGIN:VEVENT
DTSTART;TZID=America/Chicago:20260918T110000
DTEND;TZID=America/Chicago:20260918T160000
DTSTAMP:20260424T105848
CREATED:20260116T181653Z
LAST-MODIFIED:20260415T203552Z
UID:10002125-1789729200-1789747200@doorcountyhistoricalsociety.org
SUMMARY:Eagle Bluff Light Station Open to the public
DESCRIPTION:
URL:https://doorcountyhistoricalsociety.org/event/eagle-bluff-light-station-open-to-the-public/2026-09-18/
LOCATION:Eagle Bluff Light Station\, 10249 Shore Road\, Fish Creek\, WI\, 54212\, United States
CATEGORIES:Eagle Bluff Light Station
END:VEVENT
BEGIN:VEVENT
DTSTART;TZID=America/Chicago:20260918T110000
DTEND;TZID=America/Chicago:20260918T160000
DTSTAMP:20260424T105848
CREATED:20260116T181911Z
LAST-MODIFIED:20260116T182139Z
UID:10002298-1789729200-1789747200@doorcountyhistoricalsociety.org
SUMMARY:Heritage Village Open to the Public
DESCRIPTION:
URL:https://doorcountyhistoricalsociety.org/event/heritage-village-open-to-the-public/2026-09-18/
LOCATION:Heritage Village\, 2041 Michigan St\, Sturgeon Bay\, WI\, 54235
CATEGORIES:Heritage Village
ORGANIZER;CN="Door County Historical Society":MAILTO:office@doorcountyhistoricalsociety.org
END:VEVENT
BEGIN:VEVENT
DTSTART;TZID=America/Chicago:20260919T110000
DTEND;TZID=America/Chicago:20260919T160000
DTSTAMP:20260424T105848
CREATED:20260116T181653Z
LAST-MODIFIED:20260415T203552Z
UID:10002126-1789815600-1789833600@doorcountyhistoricalsociety.org
SUMMARY:Eagle Bluff Light Station Open to the public
DESCRIPTION:
URL:https://doorcountyhistoricalsociety.org/event/eagle-bluff-light-station-open-to-the-public/2026-09-19/
LOCATION:Eagle Bluff Light Station\, 10249 Shore Road\, Fish Creek\, WI\, 54212\, United States
CATEGORIES:Eagle Bluff Light Station
END:VEVENT
BEGIN:VEVENT
DTSTART;TZID=America/Chicago:20260919T110000
DTEND;TZID=America/Chicago:20260919T160000
DTSTAMP:20260424T105848
CREATED:20260116T181911Z
LAST-MODIFIED:20260116T182139Z
UID:10002177-1789815600-1789833600@doorcountyhistoricalsociety.org
SUMMARY:Heritage Village Open to the Public
DESCRIPTION:
URL:https://doorcountyhistoricalsociety.org/event/heritage-village-open-to-the-public/2026-09-19/
LOCATION:Heritage Village\, 2041 Michigan St\, Sturgeon Bay\, WI\, 54235
CATEGORIES:Heritage Village
ORGANIZER;CN="Door County Historical Society":MAILTO:office@doorcountyhistoricalsociety.org
END:VEVENT
BEGIN:VEVENT
DTSTART;TZID=America/Chicago:20260920T110000
DTEND;TZID=America/Chicago:20260920T160000
DTSTAMP:20260424T105848
CREATED:20260116T181653Z
LAST-MODIFIED:20260415T203552Z
UID:10002127-1789902000-1789920000@doorcountyhistoricalsociety.org
SUMMARY:Eagle Bluff Light Station Open to the public
DESCRIPTION:
URL:https://doorcountyhistoricalsociety.org/event/eagle-bluff-light-station-open-to-the-public/2026-09-20/
LOCATION:Eagle Bluff Light Station\, 10249 Shore Road\, Fish Creek\, WI\, 54212\, United States
CATEGORIES:Eagle Bluff Light Station
END:VEVENT
BEGIN:VEVENT
DTSTART;TZID=America/Chicago:20260920T110000
DTEND;TZID=America/Chicago:20260920T160000
DTSTAMP:20260424T105848
CREATED:20260116T181911Z
LAST-MODIFIED:20260116T182139Z
UID:10002299-1789902000-1789920000@doorcountyhistoricalsociety.org
SUMMARY:Heritage Village Open to the Public
DESCRIPTION:
URL:https://doorcountyhistoricalsociety.org/event/heritage-village-open-to-the-public/2026-09-20/
LOCATION:Heritage Village\, 2041 Michigan St\, Sturgeon Bay\, WI\, 54235
CATEGORIES:Heritage Village
ORGANIZER;CN="Door County Historical Society":MAILTO:office@doorcountyhistoricalsociety.org
END:VEVENT
BEGIN:VEVENT
DTSTART;TZID=America/Chicago:20260921T110000
DTEND;TZID=America/Chicago:20260921T160000
DTSTAMP:20260424T105848
CREATED:20260116T181653Z
LAST-MODIFIED:20260415T203552Z
UID:10002128-1789988400-1790006400@doorcountyhistoricalsociety.org
SUMMARY:Eagle Bluff Light Station Open to the public
DESCRIPTION:
URL:https://doorcountyhistoricalsociety.org/event/eagle-bluff-light-station-open-to-the-public/2026-09-21/
LOCATION:Eagle Bluff Light Station\, 10249 Shore Road\, Fish Creek\, WI\, 54212\, United States
CATEGORIES:Eagle Bluff Light Station
END:VEVENT
BEGIN:VEVENT
DTSTART;TZID=America/Chicago:20260922T110000
DTEND;TZID=America/Chicago:20260922T160000
DTSTAMP:20260424T105848
CREATED:20260116T181653Z
LAST-MODIFIED:20260415T203552Z
UID:10002129-1790074800-1790092800@doorcountyhistoricalsociety.org
SUMMARY:Eagle Bluff Light Station Open to the public
DESCRIPTION:
URL:https://doorcountyhistoricalsociety.org/event/eagle-bluff-light-station-open-to-the-public/2026-09-22/
LOCATION:Eagle Bluff Light Station\, 10249 Shore Road\, Fish Creek\, WI\, 54212\, United States
CATEGORIES:Eagle Bluff Light Station
END:VEVENT
BEGIN:VEVENT
DTSTART;TZID=America/Chicago:20260923T110000
DTEND;TZID=America/Chicago:20260923T160000
DTSTAMP:20260424T105848
CREATED:20260116T181653Z
LAST-MODIFIED:20260415T203552Z
UID:10002130-1790161200-1790179200@doorcountyhistoricalsociety.org
SUMMARY:Eagle Bluff Light Station Open to the public
DESCRIPTION:
URL:https://doorcountyhistoricalsociety.org/event/eagle-bluff-light-station-open-to-the-public/2026-09-23/
LOCATION:Eagle Bluff Light Station\, 10249 Shore Road\, Fish Creek\, WI\, 54212\, United States
CATEGORIES:Eagle Bluff Light Station
END:VEVENT
BEGIN:VEVENT
DTSTART;TZID=America/Chicago:20260923T110000
DTEND;TZID=America/Chicago:20260923T160000
DTSTAMP:20260424T105848
CREATED:20260116T181911Z
LAST-MODIFIED:20260116T182139Z
UID:10002300-1790161200-1790179200@doorcountyhistoricalsociety.org
SUMMARY:Heritage Village Open to the Public
DESCRIPTION:
URL:https://doorcountyhistoricalsociety.org/event/heritage-village-open-to-the-public/2026-09-23/
LOCATION:Heritage Village\, 2041 Michigan St\, Sturgeon Bay\, WI\, 54235
CATEGORIES:Heritage Village
ORGANIZER;CN="Door County Historical Society":MAILTO:office@doorcountyhistoricalsociety.org
END:VEVENT
BEGIN:VEVENT
DTSTART;TZID=America/Chicago:20260924T110000
DTEND;TZID=America/Chicago:20260924T160000
DTSTAMP:20260424T105848
CREATED:20260116T181653Z
LAST-MODIFIED:20260415T203552Z
UID:10002131-1790247600-1790265600@doorcountyhistoricalsociety.org
SUMMARY:Eagle Bluff Light Station Open to the public
DESCRIPTION:
URL:https://doorcountyhistoricalsociety.org/event/eagle-bluff-light-station-open-to-the-public/2026-09-24/
LOCATION:Eagle Bluff Light Station\, 10249 Shore Road\, Fish Creek\, WI\, 54212\, United States
CATEGORIES:Eagle Bluff Light Station
END:VEVENT
BEGIN:VEVENT
DTSTART;TZID=America/Chicago:20260924T110000
DTEND;TZID=America/Chicago:20260924T160000
DTSTAMP:20260424T105848
CREATED:20260116T181911Z
LAST-MODIFIED:20260116T182139Z
UID:10002301-1790247600-1790265600@doorcountyhistoricalsociety.org
SUMMARY:Heritage Village Open to the Public
DESCRIPTION:
URL:https://doorcountyhistoricalsociety.org/event/heritage-village-open-to-the-public/2026-09-24/
LOCATION:Heritage Village\, 2041 Michigan St\, Sturgeon Bay\, WI\, 54235
CATEGORIES:Heritage Village
ORGANIZER;CN="Door County Historical Society":MAILTO:office@doorcountyhistoricalsociety.org
END:VEVENT
BEGIN:VEVENT
DTSTART;TZID=America/Chicago:20260925T110000
DTEND;TZID=America/Chicago:20260925T160000
DTSTAMP:20260424T105848
CREATED:20260116T181653Z
LAST-MODIFIED:20260415T203552Z
UID:10002132-1790334000-1790352000@doorcountyhistoricalsociety.org
SUMMARY:Eagle Bluff Light Station Open to the public
DESCRIPTION:
URL:https://doorcountyhistoricalsociety.org/event/eagle-bluff-light-station-open-to-the-public/2026-09-25/
LOCATION:Eagle Bluff Light Station\, 10249 Shore Road\, Fish Creek\, WI\, 54212\, United States
CATEGORIES:Eagle Bluff Light Station
END:VEVENT
BEGIN:VEVENT
DTSTART;TZID=America/Chicago:20260925T110000
DTEND;TZID=America/Chicago:20260925T160000
DTSTAMP:20260424T105848
CREATED:20260116T181911Z
LAST-MODIFIED:20260116T182139Z
UID:10002302-1790334000-1790352000@doorcountyhistoricalsociety.org
SUMMARY:Heritage Village Open to the Public
DESCRIPTION:
URL:https://doorcountyhistoricalsociety.org/event/heritage-village-open-to-the-public/2026-09-25/
LOCATION:Heritage Village\, 2041 Michigan St\, Sturgeon Bay\, WI\, 54235
CATEGORIES:Heritage Village
ORGANIZER;CN="Door County Historical Society":MAILTO:office@doorcountyhistoricalsociety.org
END:VEVENT
BEGIN:VEVENT
DTSTART;TZID=America/Chicago:20260926T110000
DTEND;TZID=America/Chicago:20260926T160000
DTSTAMP:20260424T105848
CREATED:20260116T181653Z
LAST-MODIFIED:20260415T203552Z
UID:10002133-1790420400-1790438400@doorcountyhistoricalsociety.org
SUMMARY:Eagle Bluff Light Station Open to the public
DESCRIPTION:
URL:https://doorcountyhistoricalsociety.org/event/eagle-bluff-light-station-open-to-the-public/2026-09-26/
LOCATION:Eagle Bluff Light Station\, 10249 Shore Road\, Fish Creek\, WI\, 54212\, United States
CATEGORIES:Eagle Bluff Light Station
END:VEVENT
BEGIN:VEVENT
DTSTART;TZID=America/Chicago:20260926T110000
DTEND;TZID=America/Chicago:20260926T160000
DTSTAMP:20260424T105848
CREATED:20260116T181911Z
LAST-MODIFIED:20260116T182139Z
UID:10002178-1790420400-1790438400@doorcountyhistoricalsociety.org
SUMMARY:Heritage Village Open to the Public
DESCRIPTION:
URL:https://doorcountyhistoricalsociety.org/event/heritage-village-open-to-the-public/2026-09-26/
LOCATION:Heritage Village\, 2041 Michigan St\, Sturgeon Bay\, WI\, 54235
CATEGORIES:Heritage Village
ORGANIZER;CN="Door County Historical Society":MAILTO:office@doorcountyhistoricalsociety.org
END:VEVENT
BEGIN:VEVENT
DTSTART;TZID=America/Chicago:20260927T110000
DTEND;TZID=America/Chicago:20260927T160000
DTSTAMP:20260424T105849
CREATED:20260116T181653Z
LAST-MODIFIED:20260415T203552Z
UID:10002134-1790506800-1790524800@doorcountyhistoricalsociety.org
SUMMARY:Eagle Bluff Light Station Open to the public
DESCRIPTION:
URL:https://doorcountyhistoricalsociety.org/event/eagle-bluff-light-station-open-to-the-public/2026-09-27/
LOCATION:Eagle Bluff Light Station\, 10249 Shore Road\, Fish Creek\, WI\, 54212\, United States
CATEGORIES:Eagle Bluff Light Station
END:VEVENT
BEGIN:VEVENT
DTSTART;TZID=America/Chicago:20260927T110000
DTEND;TZID=America/Chicago:20260927T160000
DTSTAMP:20260424T105849
CREATED:20260116T181911Z
LAST-MODIFIED:20260116T182139Z
UID:10002303-1790506800-1790524800@doorcountyhistoricalsociety.org
SUMMARY:Heritage Village Open to the Public
DESCRIPTION:
URL:https://doorcountyhistoricalsociety.org/event/heritage-village-open-to-the-public/2026-09-27/
LOCATION:Heritage Village\, 2041 Michigan St\, Sturgeon Bay\, WI\, 54235
CATEGORIES:Heritage Village
ORGANIZER;CN="Door County Historical Society":MAILTO:office@doorcountyhistoricalsociety.org
END:VEVENT
BEGIN:VEVENT
DTSTART;TZID=America/Chicago:20260928T080000
DTEND;TZID=America/Chicago:20260928T170000
DTSTAMP:20260424T105849
CREATED:20260116T181218Z
LAST-MODIFIED:20260305T211223Z
UID:10002004-1790582400-1790614800@doorcountyhistoricalsociety.org
SUMMARY:September Dine & Discover Program - Hail to the Prophet King of Beaver Island
DESCRIPTION:The story of James Jesse Strang is one of the most unusual and fascinating chapters of frontier life in the Midwest. Over the course of his remarkable life\, Strang rose to prominence as a Mormon prophet\, crowned himself King of Beaver Island\, served as Grand Primate of the Halcyon Order of the Illuminati\, became a Michigan state legislator\, and was even accused of piracy. Drawing from sources such as Strang’s encrypted diaries and accounts of his strict rule on Beaver Island\, this program explores how a young man from rural New York transformed himself into one of the most controversial and intriguing figures in Midwestern history.
URL:https://doorcountyhistoricalsociety.org/event/september-dine-discover-program-2/
LOCATION:Lodge at Leathem Smith\, 1640 Memorial Dr\, Sturgeon Bay\, WI\, 54235\, United States
CATEGORIES:Dine & Discover Programs
ORGANIZER;CN="Door County Historical Society":MAILTO:office@doorcountyhistoricalsociety.org
END:VEVENT
BEGIN:VEVENT
DTSTART;TZID=America/Chicago:20260928T110000
DTEND;TZID=America/Chicago:20260928T160000
DTSTAMP:20260424T105849
CREATED:20260116T181653Z
LAST-MODIFIED:20260415T203552Z
UID:10002135-1790593200-1790611200@doorcountyhistoricalsociety.org
SUMMARY:Eagle Bluff Light Station Open to the public
DESCRIPTION:
URL:https://doorcountyhistoricalsociety.org/event/eagle-bluff-light-station-open-to-the-public/2026-09-28/
LOCATION:Eagle Bluff Light Station\, 10249 Shore Road\, Fish Creek\, WI\, 54212\, United States
CATEGORIES:Eagle Bluff Light Station
END:VEVENT
BEGIN:VEVENT
DTSTART;TZID=America/Chicago:20260929T110000
DTEND;TZID=America/Chicago:20260929T160000
DTSTAMP:20260424T105849
CREATED:20260116T181653Z
LAST-MODIFIED:20260415T203552Z
UID:10002136-1790679600-1790697600@doorcountyhistoricalsociety.org
SUMMARY:Eagle Bluff Light Station Open to the public
DESCRIPTION:
URL:https://doorcountyhistoricalsociety.org/event/eagle-bluff-light-station-open-to-the-public/2026-09-29/
LOCATION:Eagle Bluff Light Station\, 10249 Shore Road\, Fish Creek\, WI\, 54212\, United States
CATEGORIES:Eagle Bluff Light Station
END:VEVENT
BEGIN:VEVENT
DTSTART;TZID=America/Chicago:20260930T110000
DTEND;TZID=America/Chicago:20260930T160000
DTSTAMP:20260424T105849
CREATED:20260116T181653Z
LAST-MODIFIED:20260415T203552Z
UID:10002137-1790766000-1790784000@doorcountyhistoricalsociety.org
SUMMARY:Eagle Bluff Light Station Open to the public
DESCRIPTION:
URL:https://doorcountyhistoricalsociety.org/event/eagle-bluff-light-station-open-to-the-public/2026-09-30/
LOCATION:Eagle Bluff Light Station\, 10249 Shore Road\, Fish Creek\, WI\, 54212\, United States
CATEGORIES:Eagle Bluff Light Station
END:VEVENT
BEGIN:VEVENT
DTSTART;TZID=America/Chicago:20260930T110000
DTEND;TZID=America/Chicago:20260930T160000
DTSTAMP:20260424T105849
CREATED:20260116T181911Z
LAST-MODIFIED:20260116T182139Z
UID:10002304-1790766000-1790784000@doorcountyhistoricalsociety.org
SUMMARY:Heritage Village Open to the Public
DESCRIPTION:
URL:https://doorcountyhistoricalsociety.org/event/heritage-village-open-to-the-public/2026-09-30/
LOCATION:Heritage Village\, 2041 Michigan St\, Sturgeon Bay\, WI\, 54235
CATEGORIES:Heritage Village
ORGANIZER;CN="Door County Historical Society":MAILTO:office@doorcountyhistoricalsociety.org
END:VEVENT
BEGIN:VEVENT
DTSTART;TZID=America/Chicago:20261001T110000
DTEND;TZID=America/Chicago:20261001T160000
DTSTAMP:20260424T105849
CREATED:20260116T181653Z
LAST-MODIFIED:20260415T203552Z
UID:10002138-1790852400-1790870400@doorcountyhistoricalsociety.org
SUMMARY:Eagle Bluff Light Station Open to the public
DESCRIPTION:
URL:https://doorcountyhistoricalsociety.org/event/eagle-bluff-light-station-open-to-the-public/2026-10-01/
LOCATION:Eagle Bluff Light Station\, 10249 Shore Road\, Fish Creek\, WI\, 54212\, United States
CATEGORIES:Eagle Bluff Light Station
END:VEVENT
BEGIN:VEVENT
DTSTART;TZID=America/Chicago:20261001T110000
DTEND;TZID=America/Chicago:20261001T160000
DTSTAMP:20260424T105849
CREATED:20260116T181911Z
LAST-MODIFIED:20260116T182139Z
UID:10002305-1790852400-1790870400@doorcountyhistoricalsociety.org
SUMMARY:Heritage Village Open to the Public
DESCRIPTION:
URL:https://doorcountyhistoricalsociety.org/event/heritage-village-open-to-the-public/2026-10-01/
LOCATION:Heritage Village\, 2041 Michigan St\, Sturgeon Bay\, WI\, 54235
CATEGORIES:Heritage Village
ORGANIZER;CN="Door County Historical Society":MAILTO:office@doorcountyhistoricalsociety.org
END:VEVENT
BEGIN:VEVENT
DTSTART;TZID=America/Chicago:20261002T110000
DTEND;TZID=America/Chicago:20261002T160000
DTSTAMP:20260424T105849
CREATED:20260116T181653Z
LAST-MODIFIED:20260415T203552Z
UID:10002139-1790938800-1790956800@doorcountyhistoricalsociety.org
SUMMARY:Eagle Bluff Light Station Open to the public
DESCRIPTION:
URL:https://doorcountyhistoricalsociety.org/event/eagle-bluff-light-station-open-to-the-public/2026-10-02/
LOCATION:Eagle Bluff Light Station\, 10249 Shore Road\, Fish Creek\, WI\, 54212\, United States
CATEGORIES:Eagle Bluff Light Station
END:VEVENT
END:VCALENDAR