BEGIN:VCALENDAR
VERSION:2.0
PRODID:-//Door County Historical Society - ECPv6.15.20//NONSGML v1.0//EN
CALSCALE:GREGORIAN
METHOD:PUBLISH
X-ORIGINAL-URL:https://doorcountyhistoricalsociety.org
X-WR-CALDESC:Events for Door County Historical Society
REFRESH-INTERVAL;VALUE=DURATION:PT1H
X-Robots-Tag:noindex
X-PUBLISHED-TTL:PT1H
BEGIN:VTIMEZONE
TZID:America/Chicago
BEGIN:DAYLIGHT
TZOFFSETFROM:-0600
TZOFFSETTO:-0500
TZNAME:CDT
DTSTART:20250309T080000
END:DAYLIGHT
BEGIN:STANDARD
TZOFFSETFROM:-0500
TZOFFSETTO:-0600
TZNAME:CST
DTSTART:20251102T070000
END:STANDARD
BEGIN:DAYLIGHT
TZOFFSETFROM:-0600
TZOFFSETTO:-0500
TZNAME:CDT
DTSTART:20260308T080000
END:DAYLIGHT
BEGIN:STANDARD
TZOFFSETFROM:-0500
TZOFFSETTO:-0600
TZNAME:CST
DTSTART:20261101T070000
END:STANDARD
BEGIN:DAYLIGHT
TZOFFSETFROM:-0600
TZOFFSETTO:-0500
TZNAME:CDT
DTSTART:20270314T080000
END:DAYLIGHT
BEGIN:STANDARD
TZOFFSETFROM:-0500
TZOFFSETTO:-0600
TZNAME:CST
DTSTART:20271107T070000
END:STANDARD
END:VTIMEZONE
BEGIN:VEVENT
DTSTART;TZID=America/Chicago:20261016T110000
DTEND;TZID=America/Chicago:20261016T160000
DTSTAMP:20260424T021702
CREATED:20260116T181911Z
LAST-MODIFIED:20260116T182139Z
UID:10002314-1792148400-1792166400@doorcountyhistoricalsociety.org
SUMMARY:Heritage Village Open to the Public
DESCRIPTION:
URL:https://doorcountyhistoricalsociety.org/event/heritage-village-open-to-the-public/2026-10-16/
LOCATION:Heritage Village\, 2041 Michigan St\, Sturgeon Bay\, WI\, 54235
CATEGORIES:Heritage Village
ORGANIZER;CN="Door County Historical Society":MAILTO:office@doorcountyhistoricalsociety.org
END:VEVENT
BEGIN:VEVENT
DTSTART;TZID=America/Chicago:20261016T110000
DTEND;TZID=America/Chicago:20261016T160000
DTSTAMP:20260424T021702
CREATED:20260116T181653Z
LAST-MODIFIED:20260415T203552Z
UID:10002153-1792148400-1792166400@doorcountyhistoricalsociety.org
SUMMARY:Eagle Bluff Light Station Open to the public
DESCRIPTION:
URL:https://doorcountyhistoricalsociety.org/event/eagle-bluff-light-station-open-to-the-public/2026-10-16/
LOCATION:Eagle Bluff Light Station\, 10249 Shore Road\, Fish Creek\, WI\, 54212\, United States
CATEGORIES:Eagle Bluff Light Station
END:VEVENT
BEGIN:VEVENT
DTSTART;TZID=America/Chicago:20261015T110000
DTEND;TZID=America/Chicago:20261015T160000
DTSTAMP:20260424T021702
CREATED:20260116T181911Z
LAST-MODIFIED:20260116T182139Z
UID:10002313-1792062000-1792080000@doorcountyhistoricalsociety.org
SUMMARY:Heritage Village Open to the Public
DESCRIPTION:
URL:https://doorcountyhistoricalsociety.org/event/heritage-village-open-to-the-public/2026-10-15/
LOCATION:Heritage Village\, 2041 Michigan St\, Sturgeon Bay\, WI\, 54235
CATEGORIES:Heritage Village
ORGANIZER;CN="Door County Historical Society":MAILTO:office@doorcountyhistoricalsociety.org
END:VEVENT
BEGIN:VEVENT
DTSTART;TZID=America/Chicago:20261015T110000
DTEND;TZID=America/Chicago:20261015T160000
DTSTAMP:20260424T021702
CREATED:20260116T181653Z
LAST-MODIFIED:20260415T203552Z
UID:10002152-1792062000-1792080000@doorcountyhistoricalsociety.org
SUMMARY:Eagle Bluff Light Station Open to the public
DESCRIPTION:
URL:https://doorcountyhistoricalsociety.org/event/eagle-bluff-light-station-open-to-the-public/2026-10-15/
LOCATION:Eagle Bluff Light Station\, 10249 Shore Road\, Fish Creek\, WI\, 54212\, United States
CATEGORIES:Eagle Bluff Light Station
END:VEVENT
BEGIN:VEVENT
DTSTART;TZID=America/Chicago:20261014T110000
DTEND;TZID=America/Chicago:20261014T160000
DTSTAMP:20260424T021702
CREATED:20260116T181911Z
LAST-MODIFIED:20260116T182139Z
UID:10002312-1791975600-1791993600@doorcountyhistoricalsociety.org
SUMMARY:Heritage Village Open to the Public
DESCRIPTION:
URL:https://doorcountyhistoricalsociety.org/event/heritage-village-open-to-the-public/2026-10-14/
LOCATION:Heritage Village\, 2041 Michigan St\, Sturgeon Bay\, WI\, 54235
CATEGORIES:Heritage Village
ORGANIZER;CN="Door County Historical Society":MAILTO:office@doorcountyhistoricalsociety.org
END:VEVENT
BEGIN:VEVENT
DTSTART;TZID=America/Chicago:20261014T110000
DTEND;TZID=America/Chicago:20261014T160000
DTSTAMP:20260424T021702
CREATED:20260116T181653Z
LAST-MODIFIED:20260415T203552Z
UID:10002151-1791975600-1791993600@doorcountyhistoricalsociety.org
SUMMARY:Eagle Bluff Light Station Open to the public
DESCRIPTION:
URL:https://doorcountyhistoricalsociety.org/event/eagle-bluff-light-station-open-to-the-public/2026-10-14/
LOCATION:Eagle Bluff Light Station\, 10249 Shore Road\, Fish Creek\, WI\, 54212\, United States
CATEGORIES:Eagle Bluff Light Station
END:VEVENT
BEGIN:VEVENT
DTSTART;TZID=America/Chicago:20261013T110000
DTEND;TZID=America/Chicago:20261013T160000
DTSTAMP:20260424T021702
CREATED:20260116T181653Z
LAST-MODIFIED:20260415T203552Z
UID:10002150-1791889200-1791907200@doorcountyhistoricalsociety.org
SUMMARY:Eagle Bluff Light Station Open to the public
DESCRIPTION:
URL:https://doorcountyhistoricalsociety.org/event/eagle-bluff-light-station-open-to-the-public/2026-10-13/
LOCATION:Eagle Bluff Light Station\, 10249 Shore Road\, Fish Creek\, WI\, 54212\, United States
CATEGORIES:Eagle Bluff Light Station
END:VEVENT
BEGIN:VEVENT
DTSTART;TZID=America/Chicago:20261012T110000
DTEND;TZID=America/Chicago:20261012T160000
DTSTAMP:20260424T021702
CREATED:20260116T181653Z
LAST-MODIFIED:20260415T203552Z
UID:10002149-1791802800-1791820800@doorcountyhistoricalsociety.org
SUMMARY:Eagle Bluff Light Station Open to the public
DESCRIPTION:
URL:https://doorcountyhistoricalsociety.org/event/eagle-bluff-light-station-open-to-the-public/2026-10-12/
LOCATION:Eagle Bluff Light Station\, 10249 Shore Road\, Fish Creek\, WI\, 54212\, United States
CATEGORIES:Eagle Bluff Light Station
END:VEVENT
BEGIN:VEVENT
DTSTART;TZID=America/Chicago:20261011T110000
DTEND;TZID=America/Chicago:20261011T160000
DTSTAMP:20260424T021702
CREATED:20260116T181911Z
LAST-MODIFIED:20260116T182139Z
UID:10002311-1791716400-1791734400@doorcountyhistoricalsociety.org
SUMMARY:Heritage Village Open to the Public
DESCRIPTION:
URL:https://doorcountyhistoricalsociety.org/event/heritage-village-open-to-the-public/2026-10-11/
LOCATION:Heritage Village\, 2041 Michigan St\, Sturgeon Bay\, WI\, 54235
CATEGORIES:Heritage Village
ORGANIZER;CN="Door County Historical Society":MAILTO:office@doorcountyhistoricalsociety.org
END:VEVENT
BEGIN:VEVENT
DTSTART;TZID=America/Chicago:20261011T110000
DTEND;TZID=America/Chicago:20261011T160000
DTSTAMP:20260424T021702
CREATED:20260116T181653Z
LAST-MODIFIED:20260415T203552Z
UID:10002148-1791716400-1791734400@doorcountyhistoricalsociety.org
SUMMARY:Eagle Bluff Light Station Open to the public
DESCRIPTION:
URL:https://doorcountyhistoricalsociety.org/event/eagle-bluff-light-station-open-to-the-public/2026-10-11/
LOCATION:Eagle Bluff Light Station\, 10249 Shore Road\, Fish Creek\, WI\, 54212\, United States
CATEGORIES:Eagle Bluff Light Station
END:VEVENT
BEGIN:VEVENT
DTSTART;TZID=America/Chicago:20261010T110000
DTEND;TZID=America/Chicago:20261010T160000
DTSTAMP:20260424T021703
CREATED:20260116T181911Z
LAST-MODIFIED:20260116T182139Z
UID:10002180-1791630000-1791648000@doorcountyhistoricalsociety.org
SUMMARY:Heritage Village Open to the Public
DESCRIPTION:
URL:https://doorcountyhistoricalsociety.org/event/heritage-village-open-to-the-public/2026-10-10/
LOCATION:Heritage Village\, 2041 Michigan St\, Sturgeon Bay\, WI\, 54235
CATEGORIES:Heritage Village
ORGANIZER;CN="Door County Historical Society":MAILTO:office@doorcountyhistoricalsociety.org
END:VEVENT
BEGIN:VEVENT
DTSTART;TZID=America/Chicago:20261010T110000
DTEND;TZID=America/Chicago:20261010T160000
DTSTAMP:20260424T021703
CREATED:20260116T181653Z
LAST-MODIFIED:20260415T203552Z
UID:10002147-1791630000-1791648000@doorcountyhistoricalsociety.org
SUMMARY:Eagle Bluff Light Station Open to the public
DESCRIPTION:
URL:https://doorcountyhistoricalsociety.org/event/eagle-bluff-light-station-open-to-the-public/2026-10-10/
LOCATION:Eagle Bluff Light Station\, 10249 Shore Road\, Fish Creek\, WI\, 54212\, United States
CATEGORIES:Eagle Bluff Light Station
END:VEVENT
BEGIN:VEVENT
DTSTART;TZID=America/Chicago:20261009T110000
DTEND;TZID=America/Chicago:20261009T160000
DTSTAMP:20260424T021703
CREATED:20260116T181911Z
LAST-MODIFIED:20260116T182139Z
UID:10002310-1791543600-1791561600@doorcountyhistoricalsociety.org
SUMMARY:Heritage Village Open to the Public
DESCRIPTION:
URL:https://doorcountyhistoricalsociety.org/event/heritage-village-open-to-the-public/2026-10-09/
LOCATION:Heritage Village\, 2041 Michigan St\, Sturgeon Bay\, WI\, 54235
CATEGORIES:Heritage Village
ORGANIZER;CN="Door County Historical Society":MAILTO:office@doorcountyhistoricalsociety.org
END:VEVENT
BEGIN:VEVENT
DTSTART;TZID=America/Chicago:20261009T110000
DTEND;TZID=America/Chicago:20261009T160000
DTSTAMP:20260424T021703
CREATED:20260116T181653Z
LAST-MODIFIED:20260415T203552Z
UID:10002146-1791543600-1791561600@doorcountyhistoricalsociety.org
SUMMARY:Eagle Bluff Light Station Open to the public
DESCRIPTION:
URL:https://doorcountyhistoricalsociety.org/event/eagle-bluff-light-station-open-to-the-public/2026-10-09/
LOCATION:Eagle Bluff Light Station\, 10249 Shore Road\, Fish Creek\, WI\, 54212\, United States
CATEGORIES:Eagle Bluff Light Station
END:VEVENT
BEGIN:VEVENT
DTSTART;TZID=America/Chicago:20261008T110000
DTEND;TZID=America/Chicago:20261008T160000
DTSTAMP:20260424T021703
CREATED:20260116T181911Z
LAST-MODIFIED:20260116T182139Z
UID:10002309-1791457200-1791475200@doorcountyhistoricalsociety.org
SUMMARY:Heritage Village Open to the Public
DESCRIPTION:
URL:https://doorcountyhistoricalsociety.org/event/heritage-village-open-to-the-public/2026-10-08/
LOCATION:Heritage Village\, 2041 Michigan St\, Sturgeon Bay\, WI\, 54235
CATEGORIES:Heritage Village
ORGANIZER;CN="Door County Historical Society":MAILTO:office@doorcountyhistoricalsociety.org
END:VEVENT
BEGIN:VEVENT
DTSTART;TZID=America/Chicago:20261008T110000
DTEND;TZID=America/Chicago:20261008T160000
DTSTAMP:20260424T021703
CREATED:20260116T181653Z
LAST-MODIFIED:20260415T203552Z
UID:10002145-1791457200-1791475200@doorcountyhistoricalsociety.org
SUMMARY:Eagle Bluff Light Station Open to the public
DESCRIPTION:
URL:https://doorcountyhistoricalsociety.org/event/eagle-bluff-light-station-open-to-the-public/2026-10-08/
LOCATION:Eagle Bluff Light Station\, 10249 Shore Road\, Fish Creek\, WI\, 54212\, United States
CATEGORIES:Eagle Bluff Light Station
END:VEVENT
BEGIN:VEVENT
DTSTART;TZID=America/Chicago:20261007T110000
DTEND;TZID=America/Chicago:20261007T160000
DTSTAMP:20260424T021703
CREATED:20260116T181911Z
LAST-MODIFIED:20260116T182139Z
UID:10002308-1791370800-1791388800@doorcountyhistoricalsociety.org
SUMMARY:Heritage Village Open to the Public
DESCRIPTION:
URL:https://doorcountyhistoricalsociety.org/event/heritage-village-open-to-the-public/2026-10-07/
LOCATION:Heritage Village\, 2041 Michigan St\, Sturgeon Bay\, WI\, 54235
CATEGORIES:Heritage Village
ORGANIZER;CN="Door County Historical Society":MAILTO:office@doorcountyhistoricalsociety.org
END:VEVENT
BEGIN:VEVENT
DTSTART;TZID=America/Chicago:20261007T110000
DTEND;TZID=America/Chicago:20261007T160000
DTSTAMP:20260424T021703
CREATED:20260116T181653Z
LAST-MODIFIED:20260415T203552Z
UID:10002144-1791370800-1791388800@doorcountyhistoricalsociety.org
SUMMARY:Eagle Bluff Light Station Open to the public
DESCRIPTION:
URL:https://doorcountyhistoricalsociety.org/event/eagle-bluff-light-station-open-to-the-public/2026-10-07/
LOCATION:Eagle Bluff Light Station\, 10249 Shore Road\, Fish Creek\, WI\, 54212\, United States
CATEGORIES:Eagle Bluff Light Station
END:VEVENT
BEGIN:VEVENT
DTSTART;TZID=America/Chicago:20261006T110000
DTEND;TZID=America/Chicago:20261006T160000
DTSTAMP:20260424T021703
CREATED:20260116T181653Z
LAST-MODIFIED:20260415T203552Z
UID:10002143-1791284400-1791302400@doorcountyhistoricalsociety.org
SUMMARY:Eagle Bluff Light Station Open to the public
DESCRIPTION:
URL:https://doorcountyhistoricalsociety.org/event/eagle-bluff-light-station-open-to-the-public/2026-10-06/
LOCATION:Eagle Bluff Light Station\, 10249 Shore Road\, Fish Creek\, WI\, 54212\, United States
CATEGORIES:Eagle Bluff Light Station
END:VEVENT
BEGIN:VEVENT
DTSTART;TZID=America/Chicago:20261005T110000
DTEND;TZID=America/Chicago:20261005T160000
DTSTAMP:20260424T021703
CREATED:20260116T181653Z
LAST-MODIFIED:20260415T203552Z
UID:10002142-1791198000-1791216000@doorcountyhistoricalsociety.org
SUMMARY:Eagle Bluff Light Station Open to the public
DESCRIPTION:
URL:https://doorcountyhistoricalsociety.org/event/eagle-bluff-light-station-open-to-the-public/2026-10-05/
LOCATION:Eagle Bluff Light Station\, 10249 Shore Road\, Fish Creek\, WI\, 54212\, United States
CATEGORIES:Eagle Bluff Light Station
END:VEVENT
BEGIN:VEVENT
DTSTART;TZID=America/Chicago:20261004T110000
DTEND;TZID=America/Chicago:20261004T160000
DTSTAMP:20260424T021703
CREATED:20260116T181911Z
LAST-MODIFIED:20260116T182139Z
UID:10002307-1791111600-1791129600@doorcountyhistoricalsociety.org
SUMMARY:Heritage Village Open to the Public
DESCRIPTION:
URL:https://doorcountyhistoricalsociety.org/event/heritage-village-open-to-the-public/2026-10-04/
LOCATION:Heritage Village\, 2041 Michigan St\, Sturgeon Bay\, WI\, 54235
CATEGORIES:Heritage Village
ORGANIZER;CN="Door County Historical Society":MAILTO:office@doorcountyhistoricalsociety.org
END:VEVENT
BEGIN:VEVENT
DTSTART;TZID=America/Chicago:20261004T110000
DTEND;TZID=America/Chicago:20261004T160000
DTSTAMP:20260424T021703
CREATED:20260116T181653Z
LAST-MODIFIED:20260415T203552Z
UID:10002141-1791111600-1791129600@doorcountyhistoricalsociety.org
SUMMARY:Eagle Bluff Light Station Open to the public
DESCRIPTION:
URL:https://doorcountyhistoricalsociety.org/event/eagle-bluff-light-station-open-to-the-public/2026-10-04/
LOCATION:Eagle Bluff Light Station\, 10249 Shore Road\, Fish Creek\, WI\, 54212\, United States
CATEGORIES:Eagle Bluff Light Station
END:VEVENT
BEGIN:VEVENT
DTSTART;TZID=America/Chicago:20261003T110000
DTEND;TZID=America/Chicago:20261003T160000
DTSTAMP:20260424T021703
CREATED:20260116T181911Z
LAST-MODIFIED:20260116T182139Z
UID:10002179-1791025200-1791043200@doorcountyhistoricalsociety.org
SUMMARY:Heritage Village Open to the Public
DESCRIPTION:
URL:https://doorcountyhistoricalsociety.org/event/heritage-village-open-to-the-public/2026-10-03/
LOCATION:Heritage Village\, 2041 Michigan St\, Sturgeon Bay\, WI\, 54235
CATEGORIES:Heritage Village
ORGANIZER;CN="Door County Historical Society":MAILTO:office@doorcountyhistoricalsociety.org
END:VEVENT
BEGIN:VEVENT
DTSTART;TZID=America/Chicago:20261003T110000
DTEND;TZID=America/Chicago:20261003T160000
DTSTAMP:20260424T021703
CREATED:20260116T181653Z
LAST-MODIFIED:20260415T203552Z
UID:10002140-1791025200-1791043200@doorcountyhistoricalsociety.org
SUMMARY:Eagle Bluff Light Station Open to the public
DESCRIPTION:
URL:https://doorcountyhistoricalsociety.org/event/eagle-bluff-light-station-open-to-the-public/2026-10-03/
LOCATION:Eagle Bluff Light Station\, 10249 Shore Road\, Fish Creek\, WI\, 54212\, United States
CATEGORIES:Eagle Bluff Light Station
END:VEVENT
BEGIN:VEVENT
DTSTART;TZID=America/Chicago:20261002T110000
DTEND;TZID=America/Chicago:20261002T160000
DTSTAMP:20260424T021703
CREATED:20260116T181911Z
LAST-MODIFIED:20260116T182139Z
UID:10002306-1790938800-1790956800@doorcountyhistoricalsociety.org
SUMMARY:Heritage Village Open to the Public
DESCRIPTION:
URL:https://doorcountyhistoricalsociety.org/event/heritage-village-open-to-the-public/2026-10-02/
LOCATION:Heritage Village\, 2041 Michigan St\, Sturgeon Bay\, WI\, 54235
CATEGORIES:Heritage Village
ORGANIZER;CN="Door County Historical Society":MAILTO:office@doorcountyhistoricalsociety.org
END:VEVENT
BEGIN:VEVENT
DTSTART;TZID=America/Chicago:20261002T110000
DTEND;TZID=America/Chicago:20261002T160000
DTSTAMP:20260424T021703
CREATED:20260116T181653Z
LAST-MODIFIED:20260415T203552Z
UID:10002139-1790938800-1790956800@doorcountyhistoricalsociety.org
SUMMARY:Eagle Bluff Light Station Open to the public
DESCRIPTION:
URL:https://doorcountyhistoricalsociety.org/event/eagle-bluff-light-station-open-to-the-public/2026-10-02/
LOCATION:Eagle Bluff Light Station\, 10249 Shore Road\, Fish Creek\, WI\, 54212\, United States
CATEGORIES:Eagle Bluff Light Station
END:VEVENT
BEGIN:VEVENT
DTSTART;TZID=America/Chicago:20261001T110000
DTEND;TZID=America/Chicago:20261001T160000
DTSTAMP:20260424T021703
CREATED:20260116T181911Z
LAST-MODIFIED:20260116T182139Z
UID:10002305-1790852400-1790870400@doorcountyhistoricalsociety.org
SUMMARY:Heritage Village Open to the Public
DESCRIPTION:
URL:https://doorcountyhistoricalsociety.org/event/heritage-village-open-to-the-public/2026-10-01/
LOCATION:Heritage Village\, 2041 Michigan St\, Sturgeon Bay\, WI\, 54235
CATEGORIES:Heritage Village
ORGANIZER;CN="Door County Historical Society":MAILTO:office@doorcountyhistoricalsociety.org
END:VEVENT
BEGIN:VEVENT
DTSTART;TZID=America/Chicago:20261001T110000
DTEND;TZID=America/Chicago:20261001T160000
DTSTAMP:20260424T021703
CREATED:20260116T181653Z
LAST-MODIFIED:20260415T203552Z
UID:10002138-1790852400-1790870400@doorcountyhistoricalsociety.org
SUMMARY:Eagle Bluff Light Station Open to the public
DESCRIPTION:
URL:https://doorcountyhistoricalsociety.org/event/eagle-bluff-light-station-open-to-the-public/2026-10-01/
LOCATION:Eagle Bluff Light Station\, 10249 Shore Road\, Fish Creek\, WI\, 54212\, United States
CATEGORIES:Eagle Bluff Light Station
END:VEVENT
BEGIN:VEVENT
DTSTART;TZID=America/Chicago:20260930T110000
DTEND;TZID=America/Chicago:20260930T160000
DTSTAMP:20260424T021703
CREATED:20260116T181911Z
LAST-MODIFIED:20260116T182139Z
UID:10002304-1790766000-1790784000@doorcountyhistoricalsociety.org
SUMMARY:Heritage Village Open to the Public
DESCRIPTION:
URL:https://doorcountyhistoricalsociety.org/event/heritage-village-open-to-the-public/2026-09-30/
LOCATION:Heritage Village\, 2041 Michigan St\, Sturgeon Bay\, WI\, 54235
CATEGORIES:Heritage Village
ORGANIZER;CN="Door County Historical Society":MAILTO:office@doorcountyhistoricalsociety.org
END:VEVENT
BEGIN:VEVENT
DTSTART;TZID=America/Chicago:20260930T110000
DTEND;TZID=America/Chicago:20260930T160000
DTSTAMP:20260424T021703
CREATED:20260116T181653Z
LAST-MODIFIED:20260415T203552Z
UID:10002137-1790766000-1790784000@doorcountyhistoricalsociety.org
SUMMARY:Eagle Bluff Light Station Open to the public
DESCRIPTION:
URL:https://doorcountyhistoricalsociety.org/event/eagle-bluff-light-station-open-to-the-public/2026-09-30/
LOCATION:Eagle Bluff Light Station\, 10249 Shore Road\, Fish Creek\, WI\, 54212\, United States
CATEGORIES:Eagle Bluff Light Station
END:VEVENT
END:VCALENDAR