BEGIN:VCALENDAR
VERSION:2.0
PRODID:-//Door County Historical Society - ECPv6.15.20//NONSGML v1.0//EN
CALSCALE:GREGORIAN
METHOD:PUBLISH
X-WR-CALNAME:Door County Historical Society
X-ORIGINAL-URL:https://doorcountyhistoricalsociety.org
X-WR-CALDESC:Events for Door County Historical Society
REFRESH-INTERVAL;VALUE=DURATION:PT1H
X-Robots-Tag:noindex
X-PUBLISHED-TTL:PT1H
BEGIN:VTIMEZONE
TZID:America/Chicago
BEGIN:DAYLIGHT
TZOFFSETFROM:-0600
TZOFFSETTO:-0500
TZNAME:CDT
DTSTART:20240310T080000
END:DAYLIGHT
BEGIN:STANDARD
TZOFFSETFROM:-0500
TZOFFSETTO:-0600
TZNAME:CST
DTSTART:20241103T070000
END:STANDARD
BEGIN:DAYLIGHT
TZOFFSETFROM:-0600
TZOFFSETTO:-0500
TZNAME:CDT
DTSTART:20250309T080000
END:DAYLIGHT
BEGIN:STANDARD
TZOFFSETFROM:-0500
TZOFFSETTO:-0600
TZNAME:CST
DTSTART:20251102T070000
END:STANDARD
BEGIN:DAYLIGHT
TZOFFSETFROM:-0600
TZOFFSETTO:-0500
TZNAME:CDT
DTSTART:20260308T080000
END:DAYLIGHT
BEGIN:STANDARD
TZOFFSETFROM:-0500
TZOFFSETTO:-0600
TZNAME:CST
DTSTART:20261101T070000
END:STANDARD
END:VTIMEZONE
BEGIN:VEVENT
DTSTART;TZID=America/Chicago:20250801T110000
DTEND;TZID=America/Chicago:20250801T150000
DTSTAMP:20260424T053908
CREATED:20250410T220045Z
LAST-MODIFIED:20250606T190754Z
UID:10000646-1754046000-1754060400@doorcountyhistoricalsociety.org
SUMMARY:Eagle Bluff Light Station Open
DESCRIPTION:Step into the world of Eagle Bluff’s light keepers and experience life at the lighthouse from 1868-1926. Discover their daily routines\, family life\, and the dedication it took to keep the light shining. \nAdmission is $6/person\nDoor County Historical Society members and US Military are free.
URL:https://doorcountyhistoricalsociety.org/event/eagle-bluff-lighthouse-open/2025-08-01/
LOCATION:WI
CATEGORIES:Eagle Bluff Light Station
ATTACH;FMTTYPE=image/jpeg:https://doorcountyhistoricalsociety.org/wp-content/uploads/2024/09/09.10.2024-compared-to-the-PVC-pipes-that-previously-held-them-open-big-improvement.jpg
ORGANIZER;CN="Door County Historical Society":MAILTO:office@doorcountyhistoricalsociety.org
END:VEVENT
BEGIN:VEVENT
DTSTART;TZID=America/Chicago:20250802T110000
DTEND;TZID=America/Chicago:20250802T150000
DTSTAMP:20260424T053908
CREATED:20250410T220045Z
LAST-MODIFIED:20250606T190754Z
UID:10000647-1754132400-1754146800@doorcountyhistoricalsociety.org
SUMMARY:Eagle Bluff Light Station Open
DESCRIPTION:Step into the world of Eagle Bluff’s light keepers and experience life at the lighthouse from 1868-1926. Discover their daily routines\, family life\, and the dedication it took to keep the light shining. \nAdmission is $6/person\nDoor County Historical Society members and US Military are free.
URL:https://doorcountyhistoricalsociety.org/event/eagle-bluff-lighthouse-open/2025-08-02/
LOCATION:WI
CATEGORIES:Eagle Bluff Light Station
ATTACH;FMTTYPE=image/jpeg:https://doorcountyhistoricalsociety.org/wp-content/uploads/2024/09/09.10.2024-compared-to-the-PVC-pipes-that-previously-held-them-open-big-improvement.jpg
ORGANIZER;CN="Door County Historical Society":MAILTO:office@doorcountyhistoricalsociety.org
END:VEVENT
BEGIN:VEVENT
DTSTART;TZID=America/Chicago:20250803T110000
DTEND;TZID=America/Chicago:20250803T150000
DTSTAMP:20260424T053908
CREATED:20250410T220045Z
LAST-MODIFIED:20250606T190754Z
UID:10000648-1754218800-1754233200@doorcountyhistoricalsociety.org
SUMMARY:Eagle Bluff Light Station Open
DESCRIPTION:Step into the world of Eagle Bluff’s light keepers and experience life at the lighthouse from 1868-1926. Discover their daily routines\, family life\, and the dedication it took to keep the light shining. \nAdmission is $6/person\nDoor County Historical Society members and US Military are free.
URL:https://doorcountyhistoricalsociety.org/event/eagle-bluff-lighthouse-open/2025-08-03/
LOCATION:WI
CATEGORIES:Eagle Bluff Light Station
ATTACH;FMTTYPE=image/jpeg:https://doorcountyhistoricalsociety.org/wp-content/uploads/2024/09/09.10.2024-compared-to-the-PVC-pipes-that-previously-held-them-open-big-improvement.jpg
ORGANIZER;CN="Door County Historical Society":MAILTO:office@doorcountyhistoricalsociety.org
END:VEVENT
BEGIN:VEVENT
DTSTART;TZID=America/Chicago:20250804T110000
DTEND;TZID=America/Chicago:20250804T150000
DTSTAMP:20260424T053908
CREATED:20250410T220045Z
LAST-MODIFIED:20250606T190754Z
UID:10000649-1754305200-1754319600@doorcountyhistoricalsociety.org
SUMMARY:Eagle Bluff Light Station Open
DESCRIPTION:Step into the world of Eagle Bluff’s light keepers and experience life at the lighthouse from 1868-1926. Discover their daily routines\, family life\, and the dedication it took to keep the light shining. \nAdmission is $6/person\nDoor County Historical Society members and US Military are free.
URL:https://doorcountyhistoricalsociety.org/event/eagle-bluff-lighthouse-open/2025-08-04/
LOCATION:WI
CATEGORIES:Eagle Bluff Light Station
ATTACH;FMTTYPE=image/jpeg:https://doorcountyhistoricalsociety.org/wp-content/uploads/2024/09/09.10.2024-compared-to-the-PVC-pipes-that-previously-held-them-open-big-improvement.jpg
ORGANIZER;CN="Door County Historical Society":MAILTO:office@doorcountyhistoricalsociety.org
END:VEVENT
BEGIN:VEVENT
DTSTART;TZID=America/Chicago:20250805T110000
DTEND;TZID=America/Chicago:20250805T150000
DTSTAMP:20260424T053908
CREATED:20250410T220045Z
LAST-MODIFIED:20250606T190754Z
UID:10000650-1754391600-1754406000@doorcountyhistoricalsociety.org
SUMMARY:Eagle Bluff Light Station Open
DESCRIPTION:Step into the world of Eagle Bluff’s light keepers and experience life at the lighthouse from 1868-1926. Discover their daily routines\, family life\, and the dedication it took to keep the light shining. \nAdmission is $6/person\nDoor County Historical Society members and US Military are free.
URL:https://doorcountyhistoricalsociety.org/event/eagle-bluff-lighthouse-open/2025-08-05/
LOCATION:WI
CATEGORIES:Eagle Bluff Light Station
ATTACH;FMTTYPE=image/jpeg:https://doorcountyhistoricalsociety.org/wp-content/uploads/2024/09/09.10.2024-compared-to-the-PVC-pipes-that-previously-held-them-open-big-improvement.jpg
ORGANIZER;CN="Door County Historical Society":MAILTO:office@doorcountyhistoricalsociety.org
END:VEVENT
BEGIN:VEVENT
DTSTART;TZID=America/Chicago:20250806T110000
DTEND;TZID=America/Chicago:20250806T150000
DTSTAMP:20260424T053908
CREATED:20250410T220045Z
LAST-MODIFIED:20250606T190754Z
UID:10000651-1754478000-1754492400@doorcountyhistoricalsociety.org
SUMMARY:Eagle Bluff Light Station Open
DESCRIPTION:Step into the world of Eagle Bluff’s light keepers and experience life at the lighthouse from 1868-1926. Discover their daily routines\, family life\, and the dedication it took to keep the light shining. \nAdmission is $6/person\nDoor County Historical Society members and US Military are free.
URL:https://doorcountyhistoricalsociety.org/event/eagle-bluff-lighthouse-open/2025-08-06/
LOCATION:WI
CATEGORIES:Eagle Bluff Light Station
ATTACH;FMTTYPE=image/jpeg:https://doorcountyhistoricalsociety.org/wp-content/uploads/2024/09/09.10.2024-compared-to-the-PVC-pipes-that-previously-held-them-open-big-improvement.jpg
ORGANIZER;CN="Door County Historical Society":MAILTO:office@doorcountyhistoricalsociety.org
END:VEVENT
BEGIN:VEVENT
DTSTART;TZID=America/Chicago:20250807T110000
DTEND;TZID=America/Chicago:20250807T150000
DTSTAMP:20260424T053908
CREATED:20250410T220045Z
LAST-MODIFIED:20250606T190754Z
UID:10000652-1754564400-1754578800@doorcountyhistoricalsociety.org
SUMMARY:Eagle Bluff Light Station Open
DESCRIPTION:Step into the world of Eagle Bluff’s light keepers and experience life at the lighthouse from 1868-1926. Discover their daily routines\, family life\, and the dedication it took to keep the light shining. \nAdmission is $6/person\nDoor County Historical Society members and US Military are free.
URL:https://doorcountyhistoricalsociety.org/event/eagle-bluff-lighthouse-open/2025-08-07/
LOCATION:WI
CATEGORIES:Eagle Bluff Light Station
ATTACH;FMTTYPE=image/jpeg:https://doorcountyhistoricalsociety.org/wp-content/uploads/2024/09/09.10.2024-compared-to-the-PVC-pipes-that-previously-held-them-open-big-improvement.jpg
ORGANIZER;CN="Door County Historical Society":MAILTO:office@doorcountyhistoricalsociety.org
END:VEVENT
BEGIN:VEVENT
DTSTART;TZID=America/Chicago:20250808T110000
DTEND;TZID=America/Chicago:20250808T150000
DTSTAMP:20260424T053908
CREATED:20250410T220045Z
LAST-MODIFIED:20250606T190754Z
UID:10000653-1754650800-1754665200@doorcountyhistoricalsociety.org
SUMMARY:Eagle Bluff Light Station Open
DESCRIPTION:Step into the world of Eagle Bluff’s light keepers and experience life at the lighthouse from 1868-1926. Discover their daily routines\, family life\, and the dedication it took to keep the light shining. \nAdmission is $6/person\nDoor County Historical Society members and US Military are free.
URL:https://doorcountyhistoricalsociety.org/event/eagle-bluff-lighthouse-open/2025-08-08/
LOCATION:WI
CATEGORIES:Eagle Bluff Light Station
ATTACH;FMTTYPE=image/jpeg:https://doorcountyhistoricalsociety.org/wp-content/uploads/2024/09/09.10.2024-compared-to-the-PVC-pipes-that-previously-held-them-open-big-improvement.jpg
ORGANIZER;CN="Door County Historical Society":MAILTO:office@doorcountyhistoricalsociety.org
END:VEVENT
BEGIN:VEVENT
DTSTART;TZID=America/Chicago:20250809T110000
DTEND;TZID=America/Chicago:20250809T150000
DTSTAMP:20260424T053908
CREATED:20250410T220045Z
LAST-MODIFIED:20250606T190754Z
UID:10000654-1754737200-1754751600@doorcountyhistoricalsociety.org
SUMMARY:Eagle Bluff Light Station Open
DESCRIPTION:Step into the world of Eagle Bluff’s light keepers and experience life at the lighthouse from 1868-1926. Discover their daily routines\, family life\, and the dedication it took to keep the light shining. \nAdmission is $6/person\nDoor County Historical Society members and US Military are free.
URL:https://doorcountyhistoricalsociety.org/event/eagle-bluff-lighthouse-open/2025-08-09/
LOCATION:WI
CATEGORIES:Eagle Bluff Light Station
ATTACH;FMTTYPE=image/jpeg:https://doorcountyhistoricalsociety.org/wp-content/uploads/2024/09/09.10.2024-compared-to-the-PVC-pipes-that-previously-held-them-open-big-improvement.jpg
ORGANIZER;CN="Door County Historical Society":MAILTO:office@doorcountyhistoricalsociety.org
END:VEVENT
BEGIN:VEVENT
DTSTART;TZID=America/Chicago:20250810T110000
DTEND;TZID=America/Chicago:20250810T150000
DTSTAMP:20260424T053908
CREATED:20250410T220045Z
LAST-MODIFIED:20250606T190754Z
UID:10000655-1754823600-1754838000@doorcountyhistoricalsociety.org
SUMMARY:Eagle Bluff Light Station Open
DESCRIPTION:Step into the world of Eagle Bluff’s light keepers and experience life at the lighthouse from 1868-1926. Discover their daily routines\, family life\, and the dedication it took to keep the light shining. \nAdmission is $6/person\nDoor County Historical Society members and US Military are free.
URL:https://doorcountyhistoricalsociety.org/event/eagle-bluff-lighthouse-open/2025-08-10/
LOCATION:WI
CATEGORIES:Eagle Bluff Light Station
ATTACH;FMTTYPE=image/jpeg:https://doorcountyhistoricalsociety.org/wp-content/uploads/2024/09/09.10.2024-compared-to-the-PVC-pipes-that-previously-held-them-open-big-improvement.jpg
ORGANIZER;CN="Door County Historical Society":MAILTO:office@doorcountyhistoricalsociety.org
END:VEVENT
BEGIN:VEVENT
DTSTART;TZID=America/Chicago:20250811T110000
DTEND;TZID=America/Chicago:20250811T150000
DTSTAMP:20260424T053908
CREATED:20250410T220045Z
LAST-MODIFIED:20250606T190754Z
UID:10000656-1754910000-1754924400@doorcountyhistoricalsociety.org
SUMMARY:Eagle Bluff Light Station Open
DESCRIPTION:Step into the world of Eagle Bluff’s light keepers and experience life at the lighthouse from 1868-1926. Discover their daily routines\, family life\, and the dedication it took to keep the light shining. \nAdmission is $6/person\nDoor County Historical Society members and US Military are free.
URL:https://doorcountyhistoricalsociety.org/event/eagle-bluff-lighthouse-open/2025-08-11/
LOCATION:WI
CATEGORIES:Eagle Bluff Light Station
ATTACH;FMTTYPE=image/jpeg:https://doorcountyhistoricalsociety.org/wp-content/uploads/2024/09/09.10.2024-compared-to-the-PVC-pipes-that-previously-held-them-open-big-improvement.jpg
ORGANIZER;CN="Door County Historical Society":MAILTO:office@doorcountyhistoricalsociety.org
END:VEVENT
BEGIN:VEVENT
DTSTART;TZID=America/Chicago:20250812T110000
DTEND;TZID=America/Chicago:20250812T150000
DTSTAMP:20260424T053908
CREATED:20250410T220045Z
LAST-MODIFIED:20250606T190754Z
UID:10000657-1754996400-1755010800@doorcountyhistoricalsociety.org
SUMMARY:Eagle Bluff Light Station Open
DESCRIPTION:Step into the world of Eagle Bluff’s light keepers and experience life at the lighthouse from 1868-1926. Discover their daily routines\, family life\, and the dedication it took to keep the light shining. \nAdmission is $6/person\nDoor County Historical Society members and US Military are free.
URL:https://doorcountyhistoricalsociety.org/event/eagle-bluff-lighthouse-open/2025-08-12/
LOCATION:WI
CATEGORIES:Eagle Bluff Light Station
ATTACH;FMTTYPE=image/jpeg:https://doorcountyhistoricalsociety.org/wp-content/uploads/2024/09/09.10.2024-compared-to-the-PVC-pipes-that-previously-held-them-open-big-improvement.jpg
ORGANIZER;CN="Door County Historical Society":MAILTO:office@doorcountyhistoricalsociety.org
END:VEVENT
BEGIN:VEVENT
DTSTART;TZID=America/Chicago:20250813T110000
DTEND;TZID=America/Chicago:20250813T150000
DTSTAMP:20260424T053908
CREATED:20250410T220045Z
LAST-MODIFIED:20250606T190754Z
UID:10000658-1755082800-1755097200@doorcountyhistoricalsociety.org
SUMMARY:Eagle Bluff Light Station Open
DESCRIPTION:Step into the world of Eagle Bluff’s light keepers and experience life at the lighthouse from 1868-1926. Discover their daily routines\, family life\, and the dedication it took to keep the light shining. \nAdmission is $6/person\nDoor County Historical Society members and US Military are free.
URL:https://doorcountyhistoricalsociety.org/event/eagle-bluff-lighthouse-open/2025-08-13/
LOCATION:WI
CATEGORIES:Eagle Bluff Light Station
ATTACH;FMTTYPE=image/jpeg:https://doorcountyhistoricalsociety.org/wp-content/uploads/2024/09/09.10.2024-compared-to-the-PVC-pipes-that-previously-held-them-open-big-improvement.jpg
ORGANIZER;CN="Door County Historical Society":MAILTO:office@doorcountyhistoricalsociety.org
END:VEVENT
BEGIN:VEVENT
DTSTART;TZID=America/Chicago:20250814T110000
DTEND;TZID=America/Chicago:20250814T150000
DTSTAMP:20260424T053908
CREATED:20250410T220045Z
LAST-MODIFIED:20250606T190754Z
UID:10000659-1755169200-1755183600@doorcountyhistoricalsociety.org
SUMMARY:Eagle Bluff Light Station Open
DESCRIPTION:Step into the world of Eagle Bluff’s light keepers and experience life at the lighthouse from 1868-1926. Discover their daily routines\, family life\, and the dedication it took to keep the light shining. \nAdmission is $6/person\nDoor County Historical Society members and US Military are free.
URL:https://doorcountyhistoricalsociety.org/event/eagle-bluff-lighthouse-open/2025-08-14/
LOCATION:WI
CATEGORIES:Eagle Bluff Light Station
ATTACH;FMTTYPE=image/jpeg:https://doorcountyhistoricalsociety.org/wp-content/uploads/2024/09/09.10.2024-compared-to-the-PVC-pipes-that-previously-held-them-open-big-improvement.jpg
ORGANIZER;CN="Door County Historical Society":MAILTO:office@doorcountyhistoricalsociety.org
END:VEVENT
BEGIN:VEVENT
DTSTART;TZID=America/Chicago:20250815T110000
DTEND;TZID=America/Chicago:20250815T150000
DTSTAMP:20260424T053908
CREATED:20250814T231410Z
LAST-MODIFIED:20251006T152356Z
UID:10000660-1755255600-1755270000@doorcountyhistoricalsociety.org
SUMMARY:Eagle Bluff Light Station Open
DESCRIPTION:Step into the world of Eagle Bluff’s light keepers and experience life at the lighthouse from 1868-1926. Discover their daily routines\, family life\, and the dedication it took to keep the light shining. \nAdmission is $6/person\nDoor County Historical Society members and US Military are free.
URL:https://doorcountyhistoricalsociety.org/event/eagle-bluff-lighthouse-open-2/2025-08-15/
LOCATION:Eagle Bluff Light Station\, 10249 Shore Road\, Fish Creek\, WI\, 54212\, United States
CATEGORIES:Eagle Bluff Light Station
ATTACH;FMTTYPE=image/jpeg:https://doorcountyhistoricalsociety.org/wp-content/uploads/2024/09/09.10.2024-compared-to-the-PVC-pipes-that-previously-held-them-open-big-improvement.jpg
ORGANIZER;CN="Door County Historical Society":MAILTO:office@doorcountyhistoricalsociety.org
END:VEVENT
BEGIN:VEVENT
DTSTART;TZID=America/Chicago:20250816T110000
DTEND;TZID=America/Chicago:20250816T150000
DTSTAMP:20260424T053908
CREATED:20250814T231410Z
LAST-MODIFIED:20251006T152356Z
UID:10000661-1755342000-1755356400@doorcountyhistoricalsociety.org
SUMMARY:Eagle Bluff Light Station Open
DESCRIPTION:Step into the world of Eagle Bluff’s light keepers and experience life at the lighthouse from 1868-1926. Discover their daily routines\, family life\, and the dedication it took to keep the light shining. \nAdmission is $6/person\nDoor County Historical Society members and US Military are free.
URL:https://doorcountyhistoricalsociety.org/event/eagle-bluff-lighthouse-open-2/2025-08-16/
LOCATION:Eagle Bluff Light Station\, 10249 Shore Road\, Fish Creek\, WI\, 54212\, United States
CATEGORIES:Eagle Bluff Light Station
ATTACH;FMTTYPE=image/jpeg:https://doorcountyhistoricalsociety.org/wp-content/uploads/2024/09/09.10.2024-compared-to-the-PVC-pipes-that-previously-held-them-open-big-improvement.jpg
ORGANIZER;CN="Door County Historical Society":MAILTO:office@doorcountyhistoricalsociety.org
END:VEVENT
BEGIN:VEVENT
DTSTART;TZID=America/Chicago:20250817T110000
DTEND;TZID=America/Chicago:20250817T150000
DTSTAMP:20260424T053908
CREATED:20250814T231410Z
LAST-MODIFIED:20251006T152356Z
UID:10000662-1755428400-1755442800@doorcountyhistoricalsociety.org
SUMMARY:Eagle Bluff Light Station Open
DESCRIPTION:Step into the world of Eagle Bluff’s light keepers and experience life at the lighthouse from 1868-1926. Discover their daily routines\, family life\, and the dedication it took to keep the light shining. \nAdmission is $6/person\nDoor County Historical Society members and US Military are free.
URL:https://doorcountyhistoricalsociety.org/event/eagle-bluff-lighthouse-open-2/2025-08-17/
LOCATION:Eagle Bluff Light Station\, 10249 Shore Road\, Fish Creek\, WI\, 54212\, United States
CATEGORIES:Eagle Bluff Light Station
ATTACH;FMTTYPE=image/jpeg:https://doorcountyhistoricalsociety.org/wp-content/uploads/2024/09/09.10.2024-compared-to-the-PVC-pipes-that-previously-held-them-open-big-improvement.jpg
ORGANIZER;CN="Door County Historical Society":MAILTO:office@doorcountyhistoricalsociety.org
END:VEVENT
BEGIN:VEVENT
DTSTART;TZID=America/Chicago:20250823T110000
DTEND;TZID=America/Chicago:20250823T150000
DTSTAMP:20260424T053908
CREATED:20250814T231410Z
LAST-MODIFIED:20251006T152356Z
UID:10000668-1755946800-1755961200@doorcountyhistoricalsociety.org
SUMMARY:Eagle Bluff Light Station Open
DESCRIPTION:Step into the world of Eagle Bluff’s light keepers and experience life at the lighthouse from 1868-1926. Discover their daily routines\, family life\, and the dedication it took to keep the light shining. \nAdmission is $6/person\nDoor County Historical Society members and US Military are free.
URL:https://doorcountyhistoricalsociety.org/event/eagle-bluff-lighthouse-open-2/2025-08-23/
LOCATION:Eagle Bluff Light Station\, 10249 Shore Road\, Fish Creek\, WI\, 54212\, United States
CATEGORIES:Eagle Bluff Light Station
ATTACH;FMTTYPE=image/jpeg:https://doorcountyhistoricalsociety.org/wp-content/uploads/2024/09/09.10.2024-compared-to-the-PVC-pipes-that-previously-held-them-open-big-improvement.jpg
ORGANIZER;CN="Door County Historical Society":MAILTO:office@doorcountyhistoricalsociety.org
END:VEVENT
BEGIN:VEVENT
DTSTART;TZID=America/Chicago:20250824T110000
DTEND;TZID=America/Chicago:20250824T150000
DTSTAMP:20260424T053908
CREATED:20250814T231410Z
LAST-MODIFIED:20251006T152356Z
UID:10000669-1756033200-1756047600@doorcountyhistoricalsociety.org
SUMMARY:Eagle Bluff Light Station Open
DESCRIPTION:Step into the world of Eagle Bluff’s light keepers and experience life at the lighthouse from 1868-1926. Discover their daily routines\, family life\, and the dedication it took to keep the light shining. \nAdmission is $6/person\nDoor County Historical Society members and US Military are free.
URL:https://doorcountyhistoricalsociety.org/event/eagle-bluff-lighthouse-open-2/2025-08-24/
LOCATION:Eagle Bluff Light Station\, 10249 Shore Road\, Fish Creek\, WI\, 54212\, United States
CATEGORIES:Eagle Bluff Light Station
ATTACH;FMTTYPE=image/jpeg:https://doorcountyhistoricalsociety.org/wp-content/uploads/2024/09/09.10.2024-compared-to-the-PVC-pipes-that-previously-held-them-open-big-improvement.jpg
ORGANIZER;CN="Door County Historical Society":MAILTO:office@doorcountyhistoricalsociety.org
END:VEVENT
BEGIN:VEVENT
DTSTART;TZID=America/Chicago:20250825T110000
DTEND;TZID=America/Chicago:20250825T150000
DTSTAMP:20260424T053908
CREATED:20250814T231410Z
LAST-MODIFIED:20251006T152356Z
UID:10000670-1756119600-1756134000@doorcountyhistoricalsociety.org
SUMMARY:Eagle Bluff Light Station Open
DESCRIPTION:Step into the world of Eagle Bluff’s light keepers and experience life at the lighthouse from 1868-1926. Discover their daily routines\, family life\, and the dedication it took to keep the light shining. \nAdmission is $6/person\nDoor County Historical Society members and US Military are free.
URL:https://doorcountyhistoricalsociety.org/event/eagle-bluff-lighthouse-open-2/2025-08-25/
LOCATION:Eagle Bluff Light Station\, 10249 Shore Road\, Fish Creek\, WI\, 54212\, United States
CATEGORIES:Eagle Bluff Light Station
ATTACH;FMTTYPE=image/jpeg:https://doorcountyhistoricalsociety.org/wp-content/uploads/2024/09/09.10.2024-compared-to-the-PVC-pipes-that-previously-held-them-open-big-improvement.jpg
ORGANIZER;CN="Door County Historical Society":MAILTO:office@doorcountyhistoricalsociety.org
END:VEVENT
BEGIN:VEVENT
DTSTART;TZID=America/Chicago:20250826T110000
DTEND;TZID=America/Chicago:20250826T150000
DTSTAMP:20260424T053908
CREATED:20250814T231410Z
LAST-MODIFIED:20251006T152356Z
UID:10000671-1756206000-1756220400@doorcountyhistoricalsociety.org
SUMMARY:Eagle Bluff Light Station Open
DESCRIPTION:Step into the world of Eagle Bluff’s light keepers and experience life at the lighthouse from 1868-1926. Discover their daily routines\, family life\, and the dedication it took to keep the light shining. \nAdmission is $6/person\nDoor County Historical Society members and US Military are free.
URL:https://doorcountyhistoricalsociety.org/event/eagle-bluff-lighthouse-open-2/2025-08-26/
LOCATION:Eagle Bluff Light Station\, 10249 Shore Road\, Fish Creek\, WI\, 54212\, United States
CATEGORIES:Eagle Bluff Light Station
ATTACH;FMTTYPE=image/jpeg:https://doorcountyhistoricalsociety.org/wp-content/uploads/2024/09/09.10.2024-compared-to-the-PVC-pipes-that-previously-held-them-open-big-improvement.jpg
ORGANIZER;CN="Door County Historical Society":MAILTO:office@doorcountyhistoricalsociety.org
END:VEVENT
BEGIN:VEVENT
DTSTART;TZID=America/Chicago:20250827T110000
DTEND;TZID=America/Chicago:20250827T150000
DTSTAMP:20260424T053908
CREATED:20250814T231410Z
LAST-MODIFIED:20251006T152356Z
UID:10000672-1756292400-1756306800@doorcountyhistoricalsociety.org
SUMMARY:Eagle Bluff Light Station Open
DESCRIPTION:Step into the world of Eagle Bluff’s light keepers and experience life at the lighthouse from 1868-1926. Discover their daily routines\, family life\, and the dedication it took to keep the light shining. \nAdmission is $6/person\nDoor County Historical Society members and US Military are free.
URL:https://doorcountyhistoricalsociety.org/event/eagle-bluff-lighthouse-open-2/2025-08-27/
LOCATION:Eagle Bluff Light Station\, 10249 Shore Road\, Fish Creek\, WI\, 54212\, United States
CATEGORIES:Eagle Bluff Light Station
ATTACH;FMTTYPE=image/jpeg:https://doorcountyhistoricalsociety.org/wp-content/uploads/2024/09/09.10.2024-compared-to-the-PVC-pipes-that-previously-held-them-open-big-improvement.jpg
ORGANIZER;CN="Door County Historical Society":MAILTO:office@doorcountyhistoricalsociety.org
END:VEVENT
BEGIN:VEVENT
DTSTART;TZID=America/Chicago:20250828T110000
DTEND;TZID=America/Chicago:20250828T150000
DTSTAMP:20260424T053908
CREATED:20250814T231410Z
LAST-MODIFIED:20251006T152356Z
UID:10000673-1756378800-1756393200@doorcountyhistoricalsociety.org
SUMMARY:Eagle Bluff Light Station Open
DESCRIPTION:Step into the world of Eagle Bluff’s light keepers and experience life at the lighthouse from 1868-1926. Discover their daily routines\, family life\, and the dedication it took to keep the light shining. \nAdmission is $6/person\nDoor County Historical Society members and US Military are free.
URL:https://doorcountyhistoricalsociety.org/event/eagle-bluff-lighthouse-open-2/2025-08-28/
LOCATION:Eagle Bluff Light Station\, 10249 Shore Road\, Fish Creek\, WI\, 54212\, United States
CATEGORIES:Eagle Bluff Light Station
ATTACH;FMTTYPE=image/jpeg:https://doorcountyhistoricalsociety.org/wp-content/uploads/2024/09/09.10.2024-compared-to-the-PVC-pipes-that-previously-held-them-open-big-improvement.jpg
ORGANIZER;CN="Door County Historical Society":MAILTO:office@doorcountyhistoricalsociety.org
END:VEVENT
BEGIN:VEVENT
DTSTART;TZID=America/Chicago:20250829T110000
DTEND;TZID=America/Chicago:20250829T150000
DTSTAMP:20260424T053908
CREATED:20250814T231410Z
LAST-MODIFIED:20251006T152356Z
UID:10000674-1756465200-1756479600@doorcountyhistoricalsociety.org
SUMMARY:Eagle Bluff Light Station Open
DESCRIPTION:Step into the world of Eagle Bluff’s light keepers and experience life at the lighthouse from 1868-1926. Discover their daily routines\, family life\, and the dedication it took to keep the light shining. \nAdmission is $6/person\nDoor County Historical Society members and US Military are free.
URL:https://doorcountyhistoricalsociety.org/event/eagle-bluff-lighthouse-open-2/2025-08-29/
LOCATION:Eagle Bluff Light Station\, 10249 Shore Road\, Fish Creek\, WI\, 54212\, United States
CATEGORIES:Eagle Bluff Light Station
ATTACH;FMTTYPE=image/jpeg:https://doorcountyhistoricalsociety.org/wp-content/uploads/2024/09/09.10.2024-compared-to-the-PVC-pipes-that-previously-held-them-open-big-improvement.jpg
ORGANIZER;CN="Door County Historical Society":MAILTO:office@doorcountyhistoricalsociety.org
END:VEVENT
BEGIN:VEVENT
DTSTART;TZID=America/Chicago:20250830T110000
DTEND;TZID=America/Chicago:20250830T150000
DTSTAMP:20260424T053908
CREATED:20250814T231410Z
LAST-MODIFIED:20251006T152356Z
UID:10000675-1756551600-1756566000@doorcountyhistoricalsociety.org
SUMMARY:Eagle Bluff Light Station Open
DESCRIPTION:Step into the world of Eagle Bluff’s light keepers and experience life at the lighthouse from 1868-1926. Discover their daily routines\, family life\, and the dedication it took to keep the light shining. \nAdmission is $6/person\nDoor County Historical Society members and US Military are free.
URL:https://doorcountyhistoricalsociety.org/event/eagle-bluff-lighthouse-open-2/2025-08-30/
LOCATION:Eagle Bluff Light Station\, 10249 Shore Road\, Fish Creek\, WI\, 54212\, United States
CATEGORIES:Eagle Bluff Light Station
ATTACH;FMTTYPE=image/jpeg:https://doorcountyhistoricalsociety.org/wp-content/uploads/2024/09/09.10.2024-compared-to-the-PVC-pipes-that-previously-held-them-open-big-improvement.jpg
ORGANIZER;CN="Door County Historical Society":MAILTO:office@doorcountyhistoricalsociety.org
END:VEVENT
BEGIN:VEVENT
DTSTART;TZID=America/Chicago:20250831T110000
DTEND;TZID=America/Chicago:20250831T150000
DTSTAMP:20260424T053908
CREATED:20250814T231410Z
LAST-MODIFIED:20251006T152356Z
UID:10000676-1756638000-1756652400@doorcountyhistoricalsociety.org
SUMMARY:Eagle Bluff Light Station Open
DESCRIPTION:Step into the world of Eagle Bluff’s light keepers and experience life at the lighthouse from 1868-1926. Discover their daily routines\, family life\, and the dedication it took to keep the light shining. \nAdmission is $6/person\nDoor County Historical Society members and US Military are free.
URL:https://doorcountyhistoricalsociety.org/event/eagle-bluff-lighthouse-open-2/2025-08-31/
LOCATION:Eagle Bluff Light Station\, 10249 Shore Road\, Fish Creek\, WI\, 54212\, United States
CATEGORIES:Eagle Bluff Light Station
ATTACH;FMTTYPE=image/jpeg:https://doorcountyhistoricalsociety.org/wp-content/uploads/2024/09/09.10.2024-compared-to-the-PVC-pipes-that-previously-held-them-open-big-improvement.jpg
ORGANIZER;CN="Door County Historical Society":MAILTO:office@doorcountyhistoricalsociety.org
END:VEVENT
END:VCALENDAR