BEGIN:VCALENDAR
VERSION:2.0
PRODID:-//Door County Historical Society - ECPv6.15.20//NONSGML v1.0//EN
CALSCALE:GREGORIAN
METHOD:PUBLISH
X-WR-CALNAME:Door County Historical Society
X-ORIGINAL-URL:https://doorcountyhistoricalsociety.org
X-WR-CALDESC:Events for Door County Historical Society
REFRESH-INTERVAL;VALUE=DURATION:PT1H
X-Robots-Tag:noindex
X-PUBLISHED-TTL:PT1H
BEGIN:VTIMEZONE
TZID:America/Chicago
BEGIN:DAYLIGHT
TZOFFSETFROM:-0600
TZOFFSETTO:-0500
TZNAME:CDT
DTSTART:20250309T080000
END:DAYLIGHT
BEGIN:STANDARD
TZOFFSETFROM:-0500
TZOFFSETTO:-0600
TZNAME:CST
DTSTART:20251102T070000
END:STANDARD
BEGIN:DAYLIGHT
TZOFFSETFROM:-0600
TZOFFSETTO:-0500
TZNAME:CDT
DTSTART:20260308T080000
END:DAYLIGHT
BEGIN:STANDARD
TZOFFSETFROM:-0500
TZOFFSETTO:-0600
TZNAME:CST
DTSTART:20261101T070000
END:STANDARD
BEGIN:DAYLIGHT
TZOFFSETFROM:-0600
TZOFFSETTO:-0500
TZNAME:CDT
DTSTART:20270314T080000
END:DAYLIGHT
BEGIN:STANDARD
TZOFFSETFROM:-0500
TZOFFSETTO:-0600
TZNAME:CST
DTSTART:20271107T070000
END:STANDARD
END:VTIMEZONE
BEGIN:VEVENT
DTSTART;TZID=America/Chicago:20260804T110000
DTEND;TZID=America/Chicago:20260804T160000
DTSTAMP:20260425T065218
CREATED:20260116T181653Z
LAST-MODIFIED:20260415T203552Z
UID:10002080-1785841200-1785859200@doorcountyhistoricalsociety.org
SUMMARY:Eagle Bluff Light Station Open to the public
DESCRIPTION:
URL:https://doorcountyhistoricalsociety.org/event/eagle-bluff-light-station-open-to-the-public/2026-08-04/
LOCATION:Eagle Bluff Light Station\, 10249 Shore Road\, Fish Creek\, WI\, 54212\, United States
CATEGORIES:Eagle Bluff Light Station
END:VEVENT
BEGIN:VEVENT
DTSTART;TZID=America/Chicago:20260805T110000
DTEND;TZID=America/Chicago:20260805T160000
DTSTAMP:20260425T065218
CREATED:20260116T181653Z
LAST-MODIFIED:20260415T203552Z
UID:10002081-1785927600-1785945600@doorcountyhistoricalsociety.org
SUMMARY:Eagle Bluff Light Station Open to the public
DESCRIPTION:
URL:https://doorcountyhistoricalsociety.org/event/eagle-bluff-light-station-open-to-the-public/2026-08-05/
LOCATION:Eagle Bluff Light Station\, 10249 Shore Road\, Fish Creek\, WI\, 54212\, United States
CATEGORIES:Eagle Bluff Light Station
END:VEVENT
BEGIN:VEVENT
DTSTART;TZID=America/Chicago:20260806T110000
DTEND;TZID=America/Chicago:20260806T160000
DTSTAMP:20260425T065218
CREATED:20260116T181653Z
LAST-MODIFIED:20260415T203552Z
UID:10002082-1786014000-1786032000@doorcountyhistoricalsociety.org
SUMMARY:Eagle Bluff Light Station Open to the public
DESCRIPTION:
URL:https://doorcountyhistoricalsociety.org/event/eagle-bluff-light-station-open-to-the-public/2026-08-06/
LOCATION:Eagle Bluff Light Station\, 10249 Shore Road\, Fish Creek\, WI\, 54212\, United States
CATEGORIES:Eagle Bluff Light Station
END:VEVENT
BEGIN:VEVENT
DTSTART;TZID=America/Chicago:20260807T110000
DTEND;TZID=America/Chicago:20260807T160000
DTSTAMP:20260425T065218
CREATED:20260116T181653Z
LAST-MODIFIED:20260415T203552Z
UID:10002083-1786100400-1786118400@doorcountyhistoricalsociety.org
SUMMARY:Eagle Bluff Light Station Open to the public
DESCRIPTION:
URL:https://doorcountyhistoricalsociety.org/event/eagle-bluff-light-station-open-to-the-public/2026-08-07/
LOCATION:Eagle Bluff Light Station\, 10249 Shore Road\, Fish Creek\, WI\, 54212\, United States
CATEGORIES:Eagle Bluff Light Station
END:VEVENT
BEGIN:VEVENT
DTSTART;TZID=America/Chicago:20260808T110000
DTEND;TZID=America/Chicago:20260808T160000
DTSTAMP:20260425T065218
CREATED:20260116T181653Z
LAST-MODIFIED:20260415T203552Z
UID:10002084-1786186800-1786204800@doorcountyhistoricalsociety.org
SUMMARY:Eagle Bluff Light Station Open to the public
DESCRIPTION:
URL:https://doorcountyhistoricalsociety.org/event/eagle-bluff-light-station-open-to-the-public/2026-08-08/
LOCATION:Eagle Bluff Light Station\, 10249 Shore Road\, Fish Creek\, WI\, 54212\, United States
CATEGORIES:Eagle Bluff Light Station
END:VEVENT
BEGIN:VEVENT
DTSTART;TZID=America/Chicago:20260809T110000
DTEND;TZID=America/Chicago:20260809T160000
DTSTAMP:20260425T065218
CREATED:20260116T181653Z
LAST-MODIFIED:20260415T203552Z
UID:10002085-1786273200-1786291200@doorcountyhistoricalsociety.org
SUMMARY:Eagle Bluff Light Station Open to the public
DESCRIPTION:
URL:https://doorcountyhistoricalsociety.org/event/eagle-bluff-light-station-open-to-the-public/2026-08-09/
LOCATION:Eagle Bluff Light Station\, 10249 Shore Road\, Fish Creek\, WI\, 54212\, United States
CATEGORIES:Eagle Bluff Light Station
END:VEVENT
BEGIN:VEVENT
DTSTART;TZID=America/Chicago:20260810T110000
DTEND;TZID=America/Chicago:20260810T160000
DTSTAMP:20260425T065218
CREATED:20260116T181653Z
LAST-MODIFIED:20260415T203552Z
UID:10002086-1786359600-1786377600@doorcountyhistoricalsociety.org
SUMMARY:Eagle Bluff Light Station Open to the public
DESCRIPTION:
URL:https://doorcountyhistoricalsociety.org/event/eagle-bluff-light-station-open-to-the-public/2026-08-10/
LOCATION:Eagle Bluff Light Station\, 10249 Shore Road\, Fish Creek\, WI\, 54212\, United States
CATEGORIES:Eagle Bluff Light Station
END:VEVENT
BEGIN:VEVENT
DTSTART;TZID=America/Chicago:20260811T110000
DTEND;TZID=America/Chicago:20260811T160000
DTSTAMP:20260425T065218
CREATED:20260116T181653Z
LAST-MODIFIED:20260415T203552Z
UID:10002087-1786446000-1786464000@doorcountyhistoricalsociety.org
SUMMARY:Eagle Bluff Light Station Open to the public
DESCRIPTION:
URL:https://doorcountyhistoricalsociety.org/event/eagle-bluff-light-station-open-to-the-public/2026-08-11/
LOCATION:Eagle Bluff Light Station\, 10249 Shore Road\, Fish Creek\, WI\, 54212\, United States
CATEGORIES:Eagle Bluff Light Station
END:VEVENT
BEGIN:VEVENT
DTSTART;TZID=America/Chicago:20260812T110000
DTEND;TZID=America/Chicago:20260812T160000
DTSTAMP:20260425T065218
CREATED:20260116T181653Z
LAST-MODIFIED:20260415T203552Z
UID:10002088-1786532400-1786550400@doorcountyhistoricalsociety.org
SUMMARY:Eagle Bluff Light Station Open to the public
DESCRIPTION:
URL:https://doorcountyhistoricalsociety.org/event/eagle-bluff-light-station-open-to-the-public/2026-08-12/
LOCATION:Eagle Bluff Light Station\, 10249 Shore Road\, Fish Creek\, WI\, 54212\, United States
CATEGORIES:Eagle Bluff Light Station
END:VEVENT
BEGIN:VEVENT
DTSTART;TZID=America/Chicago:20260813T110000
DTEND;TZID=America/Chicago:20260813T160000
DTSTAMP:20260425T065218
CREATED:20260116T181653Z
LAST-MODIFIED:20260415T203552Z
UID:10002089-1786618800-1786636800@doorcountyhistoricalsociety.org
SUMMARY:Eagle Bluff Light Station Open to the public
DESCRIPTION:
URL:https://doorcountyhistoricalsociety.org/event/eagle-bluff-light-station-open-to-the-public/2026-08-13/
LOCATION:Eagle Bluff Light Station\, 10249 Shore Road\, Fish Creek\, WI\, 54212\, United States
CATEGORIES:Eagle Bluff Light Station
END:VEVENT
BEGIN:VEVENT
DTSTART;TZID=America/Chicago:20260814T110000
DTEND;TZID=America/Chicago:20260814T160000
DTSTAMP:20260425T065218
CREATED:20260116T181653Z
LAST-MODIFIED:20260415T203552Z
UID:10002090-1786705200-1786723200@doorcountyhistoricalsociety.org
SUMMARY:Eagle Bluff Light Station Open to the public
DESCRIPTION:
URL:https://doorcountyhistoricalsociety.org/event/eagle-bluff-light-station-open-to-the-public/2026-08-14/
LOCATION:Eagle Bluff Light Station\, 10249 Shore Road\, Fish Creek\, WI\, 54212\, United States
CATEGORIES:Eagle Bluff Light Station
END:VEVENT
BEGIN:VEVENT
DTSTART;TZID=America/Chicago:20260815T110000
DTEND;TZID=America/Chicago:20260815T160000
DTSTAMP:20260425T065218
CREATED:20260116T181653Z
LAST-MODIFIED:20260415T203552Z
UID:10002091-1786791600-1786809600@doorcountyhistoricalsociety.org
SUMMARY:Eagle Bluff Light Station Open to the public
DESCRIPTION:
URL:https://doorcountyhistoricalsociety.org/event/eagle-bluff-light-station-open-to-the-public/2026-08-15/
LOCATION:Eagle Bluff Light Station\, 10249 Shore Road\, Fish Creek\, WI\, 54212\, United States
CATEGORIES:Eagle Bluff Light Station
END:VEVENT
BEGIN:VEVENT
DTSTART;TZID=America/Chicago:20260816T110000
DTEND;TZID=America/Chicago:20260816T160000
DTSTAMP:20260425T065218
CREATED:20260116T181653Z
LAST-MODIFIED:20260415T203552Z
UID:10002092-1786878000-1786896000@doorcountyhistoricalsociety.org
SUMMARY:Eagle Bluff Light Station Open to the public
DESCRIPTION:
URL:https://doorcountyhistoricalsociety.org/event/eagle-bluff-light-station-open-to-the-public/2026-08-16/
LOCATION:Eagle Bluff Light Station\, 10249 Shore Road\, Fish Creek\, WI\, 54212\, United States
CATEGORIES:Eagle Bluff Light Station
END:VEVENT
BEGIN:VEVENT
DTSTART;TZID=America/Chicago:20260817T110000
DTEND;TZID=America/Chicago:20260817T160000
DTSTAMP:20260425T065218
CREATED:20260116T181653Z
LAST-MODIFIED:20260415T203552Z
UID:10002093-1786964400-1786982400@doorcountyhistoricalsociety.org
SUMMARY:Eagle Bluff Light Station Open to the public
DESCRIPTION:
URL:https://doorcountyhistoricalsociety.org/event/eagle-bluff-light-station-open-to-the-public/2026-08-17/
LOCATION:Eagle Bluff Light Station\, 10249 Shore Road\, Fish Creek\, WI\, 54212\, United States
CATEGORIES:Eagle Bluff Light Station
END:VEVENT
BEGIN:VEVENT
DTSTART;TZID=America/Chicago:20260818T110000
DTEND;TZID=America/Chicago:20260818T160000
DTSTAMP:20260425T065218
CREATED:20260116T181653Z
LAST-MODIFIED:20260415T203552Z
UID:10002094-1787050800-1787068800@doorcountyhistoricalsociety.org
SUMMARY:Eagle Bluff Light Station Open to the public
DESCRIPTION:
URL:https://doorcountyhistoricalsociety.org/event/eagle-bluff-light-station-open-to-the-public/2026-08-18/
LOCATION:Eagle Bluff Light Station\, 10249 Shore Road\, Fish Creek\, WI\, 54212\, United States
CATEGORIES:Eagle Bluff Light Station
END:VEVENT
BEGIN:VEVENT
DTSTART;TZID=America/Chicago:20260819T110000
DTEND;TZID=America/Chicago:20260819T160000
DTSTAMP:20260425T065218
CREATED:20260116T181653Z
LAST-MODIFIED:20260415T203552Z
UID:10002095-1787137200-1787155200@doorcountyhistoricalsociety.org
SUMMARY:Eagle Bluff Light Station Open to the public
DESCRIPTION:
URL:https://doorcountyhistoricalsociety.org/event/eagle-bluff-light-station-open-to-the-public/2026-08-19/
LOCATION:Eagle Bluff Light Station\, 10249 Shore Road\, Fish Creek\, WI\, 54212\, United States
CATEGORIES:Eagle Bluff Light Station
END:VEVENT
BEGIN:VEVENT
DTSTART;TZID=America/Chicago:20260820T110000
DTEND;TZID=America/Chicago:20260820T160000
DTSTAMP:20260425T065218
CREATED:20260116T181653Z
LAST-MODIFIED:20260415T203552Z
UID:10002096-1787223600-1787241600@doorcountyhistoricalsociety.org
SUMMARY:Eagle Bluff Light Station Open to the public
DESCRIPTION:
URL:https://doorcountyhistoricalsociety.org/event/eagle-bluff-light-station-open-to-the-public/2026-08-20/
LOCATION:Eagle Bluff Light Station\, 10249 Shore Road\, Fish Creek\, WI\, 54212\, United States
CATEGORIES:Eagle Bluff Light Station
END:VEVENT
BEGIN:VEVENT
DTSTART;TZID=America/Chicago:20260821T110000
DTEND;TZID=America/Chicago:20260821T160000
DTSTAMP:20260425T065218
CREATED:20260116T181653Z
LAST-MODIFIED:20260415T203552Z
UID:10002097-1787310000-1787328000@doorcountyhistoricalsociety.org
SUMMARY:Eagle Bluff Light Station Open to the public
DESCRIPTION:
URL:https://doorcountyhistoricalsociety.org/event/eagle-bluff-light-station-open-to-the-public/2026-08-21/
LOCATION:Eagle Bluff Light Station\, 10249 Shore Road\, Fish Creek\, WI\, 54212\, United States
CATEGORIES:Eagle Bluff Light Station
END:VEVENT
BEGIN:VEVENT
DTSTART;TZID=America/Chicago:20260822T110000
DTEND;TZID=America/Chicago:20260822T160000
DTSTAMP:20260425T065218
CREATED:20260116T181653Z
LAST-MODIFIED:20260415T203552Z
UID:10002098-1787396400-1787414400@doorcountyhistoricalsociety.org
SUMMARY:Eagle Bluff Light Station Open to the public
DESCRIPTION:
URL:https://doorcountyhistoricalsociety.org/event/eagle-bluff-light-station-open-to-the-public/2026-08-22/
LOCATION:Eagle Bluff Light Station\, 10249 Shore Road\, Fish Creek\, WI\, 54212\, United States
CATEGORIES:Eagle Bluff Light Station
END:VEVENT
BEGIN:VEVENT
DTSTART;TZID=America/Chicago:20260823T110000
DTEND;TZID=America/Chicago:20260823T160000
DTSTAMP:20260425T065218
CREATED:20260116T181653Z
LAST-MODIFIED:20260415T203552Z
UID:10002099-1787482800-1787500800@doorcountyhistoricalsociety.org
SUMMARY:Eagle Bluff Light Station Open to the public
DESCRIPTION:
URL:https://doorcountyhistoricalsociety.org/event/eagle-bluff-light-station-open-to-the-public/2026-08-23/
LOCATION:Eagle Bluff Light Station\, 10249 Shore Road\, Fish Creek\, WI\, 54212\, United States
CATEGORIES:Eagle Bluff Light Station
END:VEVENT
BEGIN:VEVENT
DTSTART;TZID=America/Chicago:20260824T110000
DTEND;TZID=America/Chicago:20260824T160000
DTSTAMP:20260425T065218
CREATED:20260116T181653Z
LAST-MODIFIED:20260415T203552Z
UID:10002100-1787569200-1787587200@doorcountyhistoricalsociety.org
SUMMARY:Eagle Bluff Light Station Open to the public
DESCRIPTION:
URL:https://doorcountyhistoricalsociety.org/event/eagle-bluff-light-station-open-to-the-public/2026-08-24/
LOCATION:Eagle Bluff Light Station\, 10249 Shore Road\, Fish Creek\, WI\, 54212\, United States
CATEGORIES:Eagle Bluff Light Station
END:VEVENT
BEGIN:VEVENT
DTSTART;TZID=America/Chicago:20260825T110000
DTEND;TZID=America/Chicago:20260825T160000
DTSTAMP:20260425T065218
CREATED:20260116T181653Z
LAST-MODIFIED:20260415T203552Z
UID:10002101-1787655600-1787673600@doorcountyhistoricalsociety.org
SUMMARY:Eagle Bluff Light Station Open to the public
DESCRIPTION:
URL:https://doorcountyhistoricalsociety.org/event/eagle-bluff-light-station-open-to-the-public/2026-08-25/
LOCATION:Eagle Bluff Light Station\, 10249 Shore Road\, Fish Creek\, WI\, 54212\, United States
CATEGORIES:Eagle Bluff Light Station
END:VEVENT
BEGIN:VEVENT
DTSTART;TZID=America/Chicago:20260826T110000
DTEND;TZID=America/Chicago:20260826T160000
DTSTAMP:20260425T065218
CREATED:20260116T181653Z
LAST-MODIFIED:20260415T203552Z
UID:10002102-1787742000-1787760000@doorcountyhistoricalsociety.org
SUMMARY:Eagle Bluff Light Station Open to the public
DESCRIPTION:
URL:https://doorcountyhistoricalsociety.org/event/eagle-bluff-light-station-open-to-the-public/2026-08-26/
LOCATION:Eagle Bluff Light Station\, 10249 Shore Road\, Fish Creek\, WI\, 54212\, United States
CATEGORIES:Eagle Bluff Light Station
END:VEVENT
BEGIN:VEVENT
DTSTART;TZID=America/Chicago:20260827T110000
DTEND;TZID=America/Chicago:20260827T160000
DTSTAMP:20260425T065218
CREATED:20260116T181653Z
LAST-MODIFIED:20260415T203552Z
UID:10002103-1787828400-1787846400@doorcountyhistoricalsociety.org
SUMMARY:Eagle Bluff Light Station Open to the public
DESCRIPTION:
URL:https://doorcountyhistoricalsociety.org/event/eagle-bluff-light-station-open-to-the-public/2026-08-27/
LOCATION:Eagle Bluff Light Station\, 10249 Shore Road\, Fish Creek\, WI\, 54212\, United States
CATEGORIES:Eagle Bluff Light Station
END:VEVENT
BEGIN:VEVENT
DTSTART;TZID=America/Chicago:20260828T110000
DTEND;TZID=America/Chicago:20260828T160000
DTSTAMP:20260425T065218
CREATED:20260116T181653Z
LAST-MODIFIED:20260415T203552Z
UID:10002104-1787914800-1787932800@doorcountyhistoricalsociety.org
SUMMARY:Eagle Bluff Light Station Open to the public
DESCRIPTION:
URL:https://doorcountyhistoricalsociety.org/event/eagle-bluff-light-station-open-to-the-public/2026-08-28/
LOCATION:Eagle Bluff Light Station\, 10249 Shore Road\, Fish Creek\, WI\, 54212\, United States
CATEGORIES:Eagle Bluff Light Station
END:VEVENT
BEGIN:VEVENT
DTSTART;TZID=America/Chicago:20260829T110000
DTEND;TZID=America/Chicago:20260829T160000
DTSTAMP:20260425T065218
CREATED:20260116T181653Z
LAST-MODIFIED:20260415T203552Z
UID:10002105-1788001200-1788019200@doorcountyhistoricalsociety.org
SUMMARY:Eagle Bluff Light Station Open to the public
DESCRIPTION:
URL:https://doorcountyhistoricalsociety.org/event/eagle-bluff-light-station-open-to-the-public/2026-08-29/
LOCATION:Eagle Bluff Light Station\, 10249 Shore Road\, Fish Creek\, WI\, 54212\, United States
CATEGORIES:Eagle Bluff Light Station
END:VEVENT
BEGIN:VEVENT
DTSTART;TZID=America/Chicago:20260830T110000
DTEND;TZID=America/Chicago:20260830T160000
DTSTAMP:20260425T065218
CREATED:20260116T181653Z
LAST-MODIFIED:20260415T203552Z
UID:10002106-1788087600-1788105600@doorcountyhistoricalsociety.org
SUMMARY:Eagle Bluff Light Station Open to the public
DESCRIPTION:
URL:https://doorcountyhistoricalsociety.org/event/eagle-bluff-light-station-open-to-the-public/2026-08-30/
LOCATION:Eagle Bluff Light Station\, 10249 Shore Road\, Fish Creek\, WI\, 54212\, United States
CATEGORIES:Eagle Bluff Light Station
END:VEVENT
BEGIN:VEVENT
DTSTART;TZID=America/Chicago:20260831T110000
DTEND;TZID=America/Chicago:20260831T160000
DTSTAMP:20260425T065218
CREATED:20260116T181653Z
LAST-MODIFIED:20260415T203552Z
UID:10002107-1788174000-1788192000@doorcountyhistoricalsociety.org
SUMMARY:Eagle Bluff Light Station Open to the public
DESCRIPTION:
URL:https://doorcountyhistoricalsociety.org/event/eagle-bluff-light-station-open-to-the-public/2026-08-31/
LOCATION:Eagle Bluff Light Station\, 10249 Shore Road\, Fish Creek\, WI\, 54212\, United States
CATEGORIES:Eagle Bluff Light Station
END:VEVENT
BEGIN:VEVENT
DTSTART;TZID=America/Chicago:20260901T110000
DTEND;TZID=America/Chicago:20260901T160000
DTSTAMP:20260425T065218
CREATED:20260116T181653Z
LAST-MODIFIED:20260415T203552Z
UID:10002108-1788260400-1788278400@doorcountyhistoricalsociety.org
SUMMARY:Eagle Bluff Light Station Open to the public
DESCRIPTION:
URL:https://doorcountyhistoricalsociety.org/event/eagle-bluff-light-station-open-to-the-public/2026-09-01/
LOCATION:Eagle Bluff Light Station\, 10249 Shore Road\, Fish Creek\, WI\, 54212\, United States
CATEGORIES:Eagle Bluff Light Station
END:VEVENT
BEGIN:VEVENT
DTSTART;TZID=America/Chicago:20260902T110000
DTEND;TZID=America/Chicago:20260902T160000
DTSTAMP:20260425T065218
CREATED:20260116T181653Z
LAST-MODIFIED:20260415T203552Z
UID:10002109-1788346800-1788364800@doorcountyhistoricalsociety.org
SUMMARY:Eagle Bluff Light Station Open to the public
DESCRIPTION:
URL:https://doorcountyhistoricalsociety.org/event/eagle-bluff-light-station-open-to-the-public/2026-09-02/
LOCATION:Eagle Bluff Light Station\, 10249 Shore Road\, Fish Creek\, WI\, 54212\, United States
CATEGORIES:Eagle Bluff Light Station
END:VEVENT
END:VCALENDAR