BEGIN:VCALENDAR
VERSION:2.0
PRODID:-//Door County Historical Society - ECPv6.15.20//NONSGML v1.0//EN
CALSCALE:GREGORIAN
METHOD:PUBLISH
X-ORIGINAL-URL:https://doorcountyhistoricalsociety.org
X-WR-CALDESC:Events for Door County Historical Society
REFRESH-INTERVAL;VALUE=DURATION:PT1H
X-Robots-Tag:noindex
X-PUBLISHED-TTL:PT1H
BEGIN:VTIMEZONE
TZID:America/Chicago
BEGIN:DAYLIGHT
TZOFFSETFROM:-0600
TZOFFSETTO:-0500
TZNAME:CDT
DTSTART:20250309T080000
END:DAYLIGHT
BEGIN:STANDARD
TZOFFSETFROM:-0500
TZOFFSETTO:-0600
TZNAME:CST
DTSTART:20251102T070000
END:STANDARD
BEGIN:DAYLIGHT
TZOFFSETFROM:-0600
TZOFFSETTO:-0500
TZNAME:CDT
DTSTART:20260308T080000
END:DAYLIGHT
BEGIN:STANDARD
TZOFFSETFROM:-0500
TZOFFSETTO:-0600
TZNAME:CST
DTSTART:20261101T070000
END:STANDARD
BEGIN:DAYLIGHT
TZOFFSETFROM:-0600
TZOFFSETTO:-0500
TZNAME:CDT
DTSTART:20270314T080000
END:DAYLIGHT
BEGIN:STANDARD
TZOFFSETFROM:-0500
TZOFFSETTO:-0600
TZNAME:CST
DTSTART:20271107T070000
END:STANDARD
END:VTIMEZONE
BEGIN:VEVENT
DTSTART;TZID=America/Chicago:20260928T080000
DTEND;TZID=America/Chicago:20260928T170000
DTSTAMP:20260423T174359
CREATED:20260116T181218Z
LAST-MODIFIED:20260305T211223Z
UID:10002004-1790582400-1790614800@doorcountyhistoricalsociety.org
SUMMARY:September Dine & Discover Program - Hail to the Prophet King of Beaver Island
DESCRIPTION:The story of James Jesse Strang is one of the most unusual and fascinating chapters of frontier life in the Midwest. Over the course of his remarkable life\, Strang rose to prominence as a Mormon prophet\, crowned himself King of Beaver Island\, served as Grand Primate of the Halcyon Order of the Illuminati\, became a Michigan state legislator\, and was even accused of piracy. Drawing from sources such as Strang’s encrypted diaries and accounts of his strict rule on Beaver Island\, this program explores how a young man from rural New York transformed himself into one of the most controversial and intriguing figures in Midwestern history.
URL:https://doorcountyhistoricalsociety.org/event/september-dine-discover-program-2/
LOCATION:Lodge at Leathem Smith\, 1640 Memorial Dr\, Sturgeon Bay\, WI\, 54235\, United States
CATEGORIES:Dine & Discover Programs
ORGANIZER;CN="Door County Historical Society":MAILTO:office@doorcountyhistoricalsociety.org
END:VEVENT
END:VCALENDAR